BEGIN:VCALENDAR
VERSION:2.0
PRODID:-//Carnaval de C&aacute;diz - ECPv6.15.20//NONSGML v1.0//EN
CALSCALE:GREGORIAN
METHOD:PUBLISH
X-ORIGINAL-URL:https://www.carnavaldecadiz.com
X-WR-CALDESC:Eventos para Carnaval de C&aacute;diz
REFRESH-INTERVAL;VALUE=DURATION:PT1H
X-Robots-Tag:noindex
X-PUBLISHED-TTL:PT1H
BEGIN:VTIMEZONE
TZID:UTC
BEGIN:STANDARD
TZOFFSETFROM:+0000
TZOFFSETTO:+0000
TZNAME:UTC
DTSTART:20220101T000000
END:STANDARD
END:VTIMEZONE
BEGIN:VEVENT
DTSTART;TZID=UTC:20230701T190000
DTEND;TZID=UTC:20230701T200000
DTSTAMP:20260423T194928
CREATED:20230629T082150Z
LAST-MODIFIED:20230629T082150Z
UID:139-1688238000-1688241600@www.carnavaldecadiz.com
SUMMARY:Actuación de mini-grupo de carnaval en Platea
DESCRIPTION:El mini-grupo está formado por: Aceituna\, Carlos Peña\, Jesús Ojeda\, Rafa Rojano y Lale Villageas. \nY la entrada es de libre acceso.
URL:https://www.carnavaldecadiz.com/event/actuacion-de-mini-grupo-de-carnaval-en-platea/
LOCATION:Platea\, calle de Madre Dolores Marquez 11 E\, Sevilla\, Sevilla\, 41003\, España
END:VEVENT
BEGIN:VEVENT
DTSTART;TZID=UTC:20230708T210000
DTEND;TZID=UTC:20230708T223000
DTSTAMP:20260423T194928
CREATED:20230630T084605Z
LAST-MODIFIED:20230630T084605Z
UID:291-1688850000-1688855400@www.carnavaldecadiz.com
SUMMARY:Comparsa LA TÍA DELA TIZA en Platea\, Sevilla
DESCRIPTION:
URL:https://www.carnavaldecadiz.com/event/comparsa-la-tia-dela-tiza-en-platea-sevilla/
LOCATION:Platea\, calle de Madre Dolores Marquez 11 E\, Sevilla\, Sevilla\, 41003\, España
END:VEVENT
END:VCALENDAR