BEGIN:VCALENDAR
VERSION:2.0
PRODID:-//Carnaval de C&aacute;diz - ECPv6.15.20//NONSGML v1.0//EN
CALSCALE:GREGORIAN
METHOD:PUBLISH
X-ORIGINAL-URL:https://www.carnavaldecadiz.com
X-WR-CALDESC:Eventos para Carnaval de C&aacute;diz
REFRESH-INTERVAL;VALUE=DURATION:PT1H
X-Robots-Tag:noindex
X-PUBLISHED-TTL:PT1H
BEGIN:VTIMEZONE
TZID:UTC
BEGIN:STANDARD
TZOFFSETFROM:+0000
TZOFFSETTO:+0000
TZNAME:UTC
DTSTART:20220101T000000
END:STANDARD
END:VTIMEZONE
BEGIN:VTIMEZONE
TZID:Europe/Madrid
BEGIN:DAYLIGHT
TZOFFSETFROM:+0100
TZOFFSETTO:+0200
TZNAME:CEST
DTSTART:20220327T010000
END:DAYLIGHT
BEGIN:STANDARD
TZOFFSETFROM:+0200
TZOFFSETTO:+0100
TZNAME:CET
DTSTART:20221030T010000
END:STANDARD
BEGIN:DAYLIGHT
TZOFFSETFROM:+0100
TZOFFSETTO:+0200
TZNAME:CEST
DTSTART:20230326T010000
END:DAYLIGHT
BEGIN:STANDARD
TZOFFSETFROM:+0200
TZOFFSETTO:+0100
TZNAME:CET
DTSTART:20231029T010000
END:STANDARD
BEGIN:DAYLIGHT
TZOFFSETFROM:+0100
TZOFFSETTO:+0200
TZNAME:CEST
DTSTART:20240331T010000
END:DAYLIGHT
BEGIN:STANDARD
TZOFFSETFROM:+0200
TZOFFSETTO:+0100
TZNAME:CET
DTSTART:20241027T010000
END:STANDARD
END:VTIMEZONE
BEGIN:VEVENT
DTSTART;TZID=UTC:20230706T210000
DTEND;TZID=UTC:20230706T220000
DTSTAMP:20260422T190544
CREATED:20230629T131045Z
LAST-MODIFIED:20230629T131045Z
UID:227-1688677200-1688680800@www.carnavaldecadiz.com
SUMMARY:Romanceros de Ana Magallanes en el Pay-Pay\, Cádiz
DESCRIPTION:
URL:https://www.carnavaldecadiz.com/event/romanceros-de-ana-magallanes-en-el-pay-pay-cadiz/
LOCATION:Café Tatro Pay Pay\, C/ Silencio\, Cádiz\, Cádiz\, 11002
END:VEVENT
BEGIN:VEVENT
DTSTART;TZID=Europe/Madrid:20230729T210000
DTEND;TZID=Europe/Madrid:20230730T040000
DTSTAMP:20260422T190544
CREATED:20230715T091922Z
LAST-MODIFIED:20230715T091922Z
UID:881-1690664400-1690689600@www.carnavaldecadiz.com
SUMMARY:XI Carnaval de Verano en Cádiz
DESCRIPTION:Evento público que se desarrolla por las calles del casco antiguo de la ciudad.\ny más concretamente por: \n\nBarrio del Pópulo\nPlaza Mendizabal\nPlaza del Palillero\ncalle Cristobal Colón\ncalle Rosario\ncalle Columela\n\nPara ampliar información \n 
URL:https://www.carnavaldecadiz.com/event/xi-carnaval-de-verano-en-cadiz/
LOCATION:Plaza Mendizabal\, Plaza Mendizabal\, Cádiz\, Cádiz\, 11005\, España
ATTACH;FMTTYPE=image/jpeg:https://www.carnavaldecadiz.com/wp-content/uploads/2023/07/0729Verano2.jpg
END:VEVENT
END:VCALENDAR