BEGIN:VCALENDAR
VERSION:2.0
PRODID:-//Carnaval de C&aacute;diz - ECPv6.15.20//NONSGML v1.0//EN
CALSCALE:GREGORIAN
METHOD:PUBLISH
X-WR-CALNAME:Carnaval de C&aacute;diz
X-ORIGINAL-URL:https://www.carnavaldecadiz.com
X-WR-CALDESC:Eventos para Carnaval de C&aacute;diz
REFRESH-INTERVAL;VALUE=DURATION:PT1H
X-Robots-Tag:noindex
X-PUBLISHED-TTL:PT1H
BEGIN:VTIMEZONE
TZID:Europe/Madrid
BEGIN:DAYLIGHT
TZOFFSETFROM:+0100
TZOFFSETTO:+0200
TZNAME:CEST
DTSTART:20220327T010000
END:DAYLIGHT
BEGIN:STANDARD
TZOFFSETFROM:+0200
TZOFFSETTO:+0100
TZNAME:CET
DTSTART:20221030T010000
END:STANDARD
BEGIN:DAYLIGHT
TZOFFSETFROM:+0100
TZOFFSETTO:+0200
TZNAME:CEST
DTSTART:20230326T010000
END:DAYLIGHT
BEGIN:STANDARD
TZOFFSETFROM:+0200
TZOFFSETTO:+0100
TZNAME:CET
DTSTART:20231029T010000
END:STANDARD
BEGIN:DAYLIGHT
TZOFFSETFROM:+0100
TZOFFSETTO:+0200
TZNAME:CEST
DTSTART:20240331T010000
END:DAYLIGHT
BEGIN:STANDARD
TZOFFSETFROM:+0200
TZOFFSETTO:+0100
TZNAME:CET
DTSTART:20241027T010000
END:STANDARD
END:VTIMEZONE
BEGIN:VEVENT
DTSTART;TZID=Europe/Madrid:20230721T210000
DTEND;TZID=Europe/Madrid:20230721T233000
DTSTAMP:20260424T163024
CREATED:20230705T085814Z
LAST-MODIFIED:20230705T085814Z
UID:620-1689973200-1689982200@www.carnavaldecadiz.com
SUMMARY:Espectáculo de Body Painting\, en Cádiz
DESCRIPTION:𝗠𝗔𝗤𝗨𝗜𝗟𝗟𝗔𝗡𝗗𝗢 𝗦𝗨𝗘𝗡̃𝗢𝗦  El mejor espectáculo de body painting del mundo está a punto de instalarse en Cádiz…  ¡El próximo viernes 21 de julio a las 21h abre sus puertas en una única función!  Será en el Baluarte de la Candelaria\, un evento inspirado en el mundo del circo y la fantasía \n\n\n Piarlé se inspira en la película “El Gran Showman” para dar vida a un circo lleno de personajes únicos que hacen de sus rarezas una virtud: la mujer barbuda\, la mujer elefante\, el trapecista\, el Ave Fénix\, la pitonisa y mucho más.\n\n\n Un evento único\, una única cita. ¿Te vienes?
URL:https://www.carnavaldecadiz.com/event/espectaculo-de-body-painting-en-cadiz/
LOCATION:Baluarte de Candelaria\, Alameda Hermanas Carvia Bernal 6\, Cádiz\, Cádiz\, 11003\, España
END:VEVENT
END:VCALENDAR