BEGIN:VCALENDAR
VERSION:2.0
PRODID:-//Carnaval de C&aacute;diz - ECPv6.15.20//NONSGML v1.0//EN
CALSCALE:GREGORIAN
METHOD:PUBLISH
X-ORIGINAL-URL:https://www.carnavaldecadiz.com
X-WR-CALDESC:Eventos para Carnaval de C&aacute;diz
REFRESH-INTERVAL;VALUE=DURATION:PT1H
X-Robots-Tag:noindex
X-PUBLISHED-TTL:PT1H
BEGIN:VTIMEZONE
TZID:Europe/Madrid
BEGIN:DAYLIGHT
TZOFFSETFROM:+0100
TZOFFSETTO:+0200
TZNAME:CEST
DTSTART:20230326T010000
END:DAYLIGHT
BEGIN:STANDARD
TZOFFSETFROM:+0200
TZOFFSETTO:+0100
TZNAME:CET
DTSTART:20231029T010000
END:STANDARD
BEGIN:DAYLIGHT
TZOFFSETFROM:+0100
TZOFFSETTO:+0200
TZNAME:CEST
DTSTART:20240331T010000
END:DAYLIGHT
BEGIN:STANDARD
TZOFFSETFROM:+0200
TZOFFSETTO:+0100
TZNAME:CET
DTSTART:20241027T010000
END:STANDARD
BEGIN:DAYLIGHT
TZOFFSETFROM:+0100
TZOFFSETTO:+0200
TZNAME:CEST
DTSTART:20250330T010000
END:DAYLIGHT
BEGIN:STANDARD
TZOFFSETFROM:+0200
TZOFFSETTO:+0100
TZNAME:CET
DTSTART:20251026T010000
END:STANDARD
END:VTIMEZONE
BEGIN:VEVENT
DTSTART;TZID=Europe/Madrid:20240225T130000
DTEND;TZID=Europe/Madrid:20240225T180000
DTSTAMP:20260420T091928
CREATED:20240216T164905Z
LAST-MODIFIED:20240216T164905Z
UID:8001-1708866000-1708884000@www.carnavaldecadiz.com
SUMMARY:XIII Carnaval Chiquito de Mujeres
DESCRIPTION:Orden de actuación: \n\n13:00h – Las zorras del carnaval\n13:30h – El cambio climático\n14:00h – Las cuenta cuentos\n14:30h – Cádiz\, la exnovia del mar.\n15:00h – Las marimorenas\n15:30h – Unos años más\n16:00h – Las G-Loca-Tinas\n16:30h – De venta en venta\n17:00h – Las locas del climax\n\nEvento público de libre acceso
URL:https://www.carnavaldecadiz.com/event/xiii-carnaval-chiquito-de-mujeres/
LOCATION:Plaza de la Libertad\, Cádiz\, Plaza de la Libertad\, Cádiz\, Cádiz\, 11100\, España
CATEGORIES:actuaciones de carnaval
END:VEVENT
END:VCALENDAR