BEGIN:VCALENDAR
VERSION:2.0
PRODID:-//Carnaval de C&aacute;diz - ECPv6.15.20//NONSGML v1.0//EN
CALSCALE:GREGORIAN
METHOD:PUBLISH
X-WR-CALNAME:Carnaval de C&aacute;diz
X-ORIGINAL-URL:https://www.carnavaldecadiz.com
X-WR-CALDESC:Eventos para Carnaval de C&aacute;diz
REFRESH-INTERVAL;VALUE=DURATION:PT1H
X-Robots-Tag:noindex
X-PUBLISHED-TTL:PT1H
BEGIN:VTIMEZONE
TZID:UTC
BEGIN:STANDARD
TZOFFSETFROM:+0000
TZOFFSETTO:+0000
TZNAME:UTC
DTSTART:20220101T000000
END:STANDARD
END:VTIMEZONE
BEGIN:VEVENT
DTSTART;TZID=UTC:20230818T210000
DTEND;TZID=UTC:20230819T003000
DTSTAMP:20260423T075909
CREATED:20230701T162633Z
LAST-MODIFIED:20230701T162633Z
UID:477-1692392400-1692405000@www.carnavaldecadiz.com
SUMMARY:XXXV Noche Carnavalesca de Algeciras
DESCRIPTION:
URL:https://www.carnavaldecadiz.com/event/xxxv-noche-carnavalesca-de-algeciras/
LOCATION:Plaza de Toros de Algeciras\, Zona Plaza de Toros\, 3\, Algeciras\, Cádiz\, 11204\, España
END:VEVENT
BEGIN:VEVENT
DTSTART;TZID=UTC:20230818T220000
DTEND;TZID=UTC:20230819T010000
DTSTAMP:20260423T075909
CREATED:20230701T155657Z
LAST-MODIFIED:20230701T155726Z
UID:465-1692396000-1692406800@www.carnavaldecadiz.com
SUMMARY:Noche de Carnaval de Cádiz en Palos de la Frontera\, Huelva.
DESCRIPTION:
URL:https://www.carnavaldecadiz.com/event/noche-de-carnaval-de-cadiz-en-huelva/
LOCATION:Foro Iberoamericano de la Rábida\, Calle Paraje de La Rábida s/n\, Palos de la Frontera\, Huelva\, España
END:VEVENT
END:VCALENDAR