BEGIN:VCALENDAR
VERSION:2.0
PRODID:-//Carnaval de C&aacute;diz - ECPv6.15.20//NONSGML v1.0//EN
CALSCALE:GREGORIAN
METHOD:PUBLISH
X-ORIGINAL-URL:https://www.carnavaldecadiz.com
X-WR-CALDESC:Eventos para Carnaval de C&aacute;diz
REFRESH-INTERVAL;VALUE=DURATION:PT1H
X-Robots-Tag:noindex
X-PUBLISHED-TTL:PT1H
BEGIN:VTIMEZONE
TZID:UTC
BEGIN:STANDARD
TZOFFSETFROM:+0000
TZOFFSETTO:+0000
TZNAME:UTC
DTSTART:20220101T000000
END:STANDARD
END:VTIMEZONE
BEGIN:VEVENT
DTSTART;TZID=UTC:20230810T230000
DTEND;TZID=UTC:20230811T003000
DTSTAMP:20260423T080117
CREATED:20230702T093948Z
LAST-MODIFIED:20230711T110030Z
UID:497-1691708400-1691713800@www.carnavaldecadiz.com
SUMMARY:Javi Aguilera\, Joselito y el Yuyu en Huelva - EL GRAN COMBATE
DESCRIPTION:Aunque no es un evento estrictamente de Carnaval\, en www.CarnavaldeCadiz.com entendemos que la fiesta salpica toda la\nactividad cultural de Cádiz y seguimos comprometidos (desde 1995) con apoyar toda la cultura que se inspira o se nutre del carnaval y de las personas que lo hacen posible y Javi Aguilera\, joselito y el Yuyu son autores e intérpretes reconocidos de carnaval.
URL:https://www.carnavaldecadiz.com/event/javi-aguilera-joselito-y-el-yuyu-en-huelva-el-gran-combate/
LOCATION:Agripina Eventos\, Cjón. los Romanos\, 1\, Punta Umbría
END:VEVENT
END:VCALENDAR