BEGIN:VCALENDAR
VERSION:2.0
PRODID:-//Carnaval de C&aacute;diz - ECPv6.15.20//NONSGML v1.0//EN
CALSCALE:GREGORIAN
METHOD:PUBLISH
X-ORIGINAL-URL:https://www.carnavaldecadiz.com
X-WR-CALDESC:Eventos para Carnaval de C&aacute;diz
REFRESH-INTERVAL;VALUE=DURATION:PT1H
X-Robots-Tag:noindex
X-PUBLISHED-TTL:PT1H
BEGIN:VTIMEZONE
TZID:Europe/Madrid
BEGIN:DAYLIGHT
TZOFFSETFROM:+0100
TZOFFSETTO:+0200
TZNAME:CEST
DTSTART:20220327T010000
END:DAYLIGHT
BEGIN:STANDARD
TZOFFSETFROM:+0200
TZOFFSETTO:+0100
TZNAME:CET
DTSTART:20221030T010000
END:STANDARD
BEGIN:DAYLIGHT
TZOFFSETFROM:+0100
TZOFFSETTO:+0200
TZNAME:CEST
DTSTART:20230326T010000
END:DAYLIGHT
BEGIN:STANDARD
TZOFFSETFROM:+0200
TZOFFSETTO:+0100
TZNAME:CET
DTSTART:20231029T010000
END:STANDARD
BEGIN:DAYLIGHT
TZOFFSETFROM:+0100
TZOFFSETTO:+0200
TZNAME:CEST
DTSTART:20240331T010000
END:DAYLIGHT
BEGIN:STANDARD
TZOFFSETFROM:+0200
TZOFFSETTO:+0100
TZNAME:CET
DTSTART:20241027T010000
END:STANDARD
END:VTIMEZONE
BEGIN:VEVENT
DTSTART;TZID=Europe/Madrid:20230808T213000
DTEND;TZID=Europe/Madrid:20230808T233000
DTSTAMP:20260423T080120
CREATED:20230705T200728Z
LAST-MODIFIED:20230705T200728Z
UID:629-1691530200-1691537400@www.carnavaldecadiz.com
SUMMARY:Martes de Carnaval en el Baluarte de Los Mártires
DESCRIPTION:Actuarán: \n\nEl Coro: Los Martínez\nChirigota: Vamos a escuchar\nCuarteto: Escuela taller de Gladiadores\nLa Chirigota: Los Viñanos
URL:https://www.carnavaldecadiz.com/event/martes-de-carnaval-en-el-baluarte-de-los-martires/
LOCATION:Baluarte de los Mártires\, Baluarte de los Mártires\, Cádiz\, Cádiz\, 11002\, España
END:VEVENT
END:VCALENDAR