BEGIN:VCALENDAR
VERSION:2.0
PRODID:-//Carnaval de C&aacute;diz - ECPv6.15.20//NONSGML v1.0//EN
CALSCALE:GREGORIAN
METHOD:PUBLISH
X-WR-CALNAME:Carnaval de C&aacute;diz
X-ORIGINAL-URL:https://www.carnavaldecadiz.com
X-WR-CALDESC:Eventos para Carnaval de C&aacute;diz
REFRESH-INTERVAL;VALUE=DURATION:PT1H
X-Robots-Tag:noindex
X-PUBLISHED-TTL:PT1H
BEGIN:VTIMEZONE
TZID:Europe/Madrid
BEGIN:DAYLIGHT
TZOFFSETFROM:+0100
TZOFFSETTO:+0200
TZNAME:CEST
DTSTART:20220327T010000
END:DAYLIGHT
BEGIN:STANDARD
TZOFFSETFROM:+0200
TZOFFSETTO:+0100
TZNAME:CET
DTSTART:20221030T010000
END:STANDARD
BEGIN:DAYLIGHT
TZOFFSETFROM:+0100
TZOFFSETTO:+0200
TZNAME:CEST
DTSTART:20230326T010000
END:DAYLIGHT
BEGIN:STANDARD
TZOFFSETFROM:+0200
TZOFFSETTO:+0100
TZNAME:CET
DTSTART:20231029T010000
END:STANDARD
BEGIN:DAYLIGHT
TZOFFSETFROM:+0100
TZOFFSETTO:+0200
TZNAME:CEST
DTSTART:20240331T010000
END:DAYLIGHT
BEGIN:STANDARD
TZOFFSETFROM:+0200
TZOFFSETTO:+0100
TZNAME:CET
DTSTART:20241027T010000
END:STANDARD
END:VTIMEZONE
BEGIN:VTIMEZONE
TZID:UTC
BEGIN:STANDARD
TZOFFSETFROM:+0000
TZOFFSETTO:+0000
TZNAME:UTC
DTSTART:20220101T000000
END:STANDARD
END:VTIMEZONE
BEGIN:VEVENT
DTSTART;TZID=Europe/Madrid:20230728T210000
DTEND;TZID=Europe/Madrid:20230728T223000
DTSTAMP:20260423T092805
CREATED:20230703T151036Z
LAST-MODIFIED:20230703T151058Z
UID:537-1690578000-1690583400@www.carnavaldecadiz.com
SUMMARY:Chirigota Callejera LAS QUE VIENEN CON ALEGRÍA en el Pay-Pay
DESCRIPTION:También cantaran repertorio del 2022\, cuando se llamaban ‘Las viudas de George Dann’.
URL:https://www.carnavaldecadiz.com/event/chirigota-callejera-las-que-vienen-con-alegria-en-el-pay-pay/
LOCATION:Café Tatro Pay Pay\, C/ Silencio\, Cádiz\, Cádiz\, 11002
END:VEVENT
BEGIN:VEVENT
DTSTART;TZID=UTC:20230728T223000
DTEND;TZID=UTC:20230728T233000
DTSTAMP:20260423T092805
CREATED:20230630T144836Z
LAST-MODIFIED:20230630T144836Z
UID:369-1690583400-1690587000@www.carnavaldecadiz.com
SUMMARY:Antología del Noli en El Pelícano
DESCRIPTION:
URL:https://www.carnavaldecadiz.com/event/antologia-del-noli-en-el-pelicano/
LOCATION:El Pelícano\, Avenida Alcalde Manuel de la Pinta 1\, Cádiz\, Cádiz\, 11008\, España
END:VEVENT
BEGIN:VEVENT
DTSTART;TZID=Europe/Madrid:20230728T223000
DTEND;TZID=Europe/Madrid:20230728T233000
DTSTAMP:20260423T092805
CREATED:20230711T140438Z
LAST-MODIFIED:20230711T140438Z
UID:752-1690583400-1690587000@www.carnavaldecadiz.com
SUMMARY:Actuación de la chirigota LA BOQUITA CERRÁ en San Fernando
DESCRIPTION:
URL:https://www.carnavaldecadiz.com/event/actuacion-de-la-chirigota-la-boquita-cerra-en-san-fernando/
LOCATION:Bodegón Andalucía\, Avenida Poeta Rafael Alberti 10\, San Fernando\, Cádiz\, España
END:VEVENT
END:VCALENDAR