BEGIN:VCALENDAR
VERSION:2.0
PRODID:-//Carnaval de C&aacute;diz - ECPv6.15.20//NONSGML v1.0//EN
CALSCALE:GREGORIAN
METHOD:PUBLISH
X-WR-CALNAME:Carnaval de C&aacute;diz
X-ORIGINAL-URL:https://www.carnavaldecadiz.com
X-WR-CALDESC:Eventos para Carnaval de C&aacute;diz
REFRESH-INTERVAL;VALUE=DURATION:PT1H
X-Robots-Tag:noindex
X-PUBLISHED-TTL:PT1H
BEGIN:VTIMEZONE
TZID:Europe/Madrid
BEGIN:DAYLIGHT
TZOFFSETFROM:+0100
TZOFFSETTO:+0200
TZNAME:CEST
DTSTART:20220327T010000
END:DAYLIGHT
BEGIN:STANDARD
TZOFFSETFROM:+0200
TZOFFSETTO:+0100
TZNAME:CET
DTSTART:20221030T010000
END:STANDARD
BEGIN:DAYLIGHT
TZOFFSETFROM:+0100
TZOFFSETTO:+0200
TZNAME:CEST
DTSTART:20230326T010000
END:DAYLIGHT
BEGIN:STANDARD
TZOFFSETFROM:+0200
TZOFFSETTO:+0100
TZNAME:CET
DTSTART:20231029T010000
END:STANDARD
BEGIN:DAYLIGHT
TZOFFSETFROM:+0100
TZOFFSETTO:+0200
TZNAME:CEST
DTSTART:20240331T010000
END:DAYLIGHT
BEGIN:STANDARD
TZOFFSETFROM:+0200
TZOFFSETTO:+0100
TZNAME:CET
DTSTART:20241027T010000
END:STANDARD
END:VTIMEZONE
BEGIN:VTIMEZONE
TZID:UTC
BEGIN:STANDARD
TZOFFSETFROM:+0000
TZOFFSETTO:+0000
TZNAME:UTC
DTSTART:20220101T000000
END:STANDARD
END:VTIMEZONE
BEGIN:VEVENT
DTSTART;TZID=Europe/Madrid:20230720T230000
DTEND;TZID=Europe/Madrid:20230721T003000
DTSTAMP:20260423T091451
CREATED:20230713T151859Z
LAST-MODIFIED:20230713T151859Z
UID:812-1689894000-1689899400@www.carnavaldecadiz.com
SUMMARY:Actuación de la Antología de la Chirigota de "EL SELU"
DESCRIPTION:
URL:https://www.carnavaldecadiz.com/event/actuacion-de-la-antologia-de-la-chirigota-de-el-selu/
LOCATION:Iroco\, Chiclana\, calle Magallanes 16\, Chiclana de la Frontera\, Cádiz\, España
END:VEVENT
BEGIN:VEVENT
DTSTART;TZID=UTC:20230721T200000
DTEND;TZID=UTC:20230721T230000
DTSTAMP:20260423T091451
CREATED:20230702T092604Z
LAST-MODIFIED:20230702T092639Z
UID:491-1689969600-1689980400@www.carnavaldecadiz.com
SUMMARY:Actuación de la CHIRIPARSA\, en el Puerto de Santa María
DESCRIPTION:El evento se desarrolla en los bodegones 10/11
URL:https://www.carnavaldecadiz.com/event/actuacion-de-la-chiriparsa-en-el-puerto-de-santa-maria/
LOCATION:Plaza de Toros -El Puerto de St Mª\, Plaza de elías Ahuja s/n\, El Puerto de Santa María\, Cádiz\, 11500\, España
END:VEVENT
BEGIN:VEVENT
DTSTART;TZID=UTC:20230721T220000
DTEND;TZID=UTC:20230721T233000
DTSTAMP:20260423T091451
CREATED:20230701T053707Z
LAST-MODIFIED:20230705T083320Z
UID:408-1689976800-1689982200@www.carnavaldecadiz.com
SUMMARY:La XIV Noche de los Capacha de la Peña Perico Alcántara Chiclana
DESCRIPTION:En la entrega de premios actuará la chirigota chiclanera primer premio del Concurso del COAC del Gran Teatro Falla\, ‘Amo escuchá\, chirigota callejera’ y se podrán degustar chicharrones de la carnicería Francisco Alcántara y fino de Chiclana. \nPendiente de poder ampliar información sobre el evento.
URL:https://www.carnavaldecadiz.com/event/la-xiv-noche-de-los-capacha-de-la-pena-perico-alcantara-chiclana/
LOCATION:Campo Municipal de Deportes de Chiclana\, calle Agustín Blzquez s/n\, ´Chiclana de la Frontera\, Cádiz\, 11130\, España
END:VEVENT
END:VCALENDAR