BEGIN:VCALENDAR
VERSION:2.0
PRODID:-//Carnaval de C&aacute;diz - ECPv6.15.20//NONSGML v1.0//EN
CALSCALE:GREGORIAN
METHOD:PUBLISH
X-ORIGINAL-URL:https://www.carnavaldecadiz.com
X-WR-CALDESC:Eventos para Carnaval de C&aacute;diz
REFRESH-INTERVAL;VALUE=DURATION:PT1H
X-Robots-Tag:noindex
X-PUBLISHED-TTL:PT1H
BEGIN:VTIMEZONE
TZID:UTC
BEGIN:STANDARD
TZOFFSETFROM:+0000
TZOFFSETTO:+0000
TZNAME:UTC
DTSTART:20220101T000000
END:STANDARD
END:VTIMEZONE
BEGIN:VEVENT
DTSTART;TZID=UTC:20230714T210000
DTEND;TZID=UTC:20230715T003000
DTSTAMP:20260423T092947
CREATED:20230630T095035Z
LAST-MODIFIED:20230630T095035Z
UID:314-1689368400-1689381000@www.carnavaldecadiz.com
SUMMARY:Carnaval en el Baluarte de Candelaria
DESCRIPTION:Actuarán: \n\nEl cuarteto del Gago: Escuela taller de Gladiadores el Pópulo\nLa comparsa de M.A García Argüez: Los esclavos\nLa chirigota de Fermín y Antoñito: Los desgraciaitos\n\n 
URL:https://www.carnavaldecadiz.com/event/carnaval-en-el-baluarte-de-candelaria/
LOCATION:Baluarte de Candelaria\, Alameda Hermanas Carvia Bernal 6\, Cádiz\, Cádiz\, 11003\, España
END:VEVENT
BEGIN:VEVENT
DTSTART;TZID=UTC:20230715T213000
DTEND;TZID=UTC:20230716T010000
DTSTAMP:20260423T092947
CREATED:20230630T132741Z
LAST-MODIFIED:20230630T132741Z
UID:327-1689456600-1689469200@www.carnavaldecadiz.com
SUMMARY:Cadizmania Fest\, Cabra\, Córdoba
DESCRIPTION:Presenta el cuartetero Javi Aguilera y participan en el festival: \n\nLa Ciudad invisible (Martinez Ares)\nCaminito del Falla (Tino Tovar)\nLos Desgraciaitos(Antoñito y Fermin)\nCádiz de mi alma (Manuel Cornejo)\nFariña de mis ojos (Santoña)
URL:https://www.carnavaldecadiz.com/event/cadizmania-fest-cabra-cordoba/
LOCATION:Auditorio Alcalde Juan Muñóz\, Avenida de la fuente del río s/n\, Cabra\, Córdoba\, 14941\, España
END:VEVENT
END:VCALENDAR