BEGIN:VCALENDAR
VERSION:2.0
PRODID:-//Carnaval de C&aacute;diz - ECPv6.15.20//NONSGML v1.0//EN
CALSCALE:GREGORIAN
METHOD:PUBLISH
X-ORIGINAL-URL:https://www.carnavaldecadiz.com
X-WR-CALDESC:Eventos para Carnaval de C&aacute;diz
REFRESH-INTERVAL;VALUE=DURATION:PT1H
X-Robots-Tag:noindex
X-PUBLISHED-TTL:PT1H
BEGIN:VTIMEZONE
TZID:Europe/Madrid
BEGIN:DAYLIGHT
TZOFFSETFROM:+0100
TZOFFSETTO:+0200
TZNAME:CEST
DTSTART:20240331T010000
END:DAYLIGHT
BEGIN:STANDARD
TZOFFSETFROM:+0200
TZOFFSETTO:+0100
TZNAME:CET
DTSTART:20241027T010000
END:STANDARD
BEGIN:DAYLIGHT
TZOFFSETFROM:+0100
TZOFFSETTO:+0200
TZNAME:CEST
DTSTART:20250330T010000
END:DAYLIGHT
BEGIN:STANDARD
TZOFFSETFROM:+0200
TZOFFSETTO:+0100
TZNAME:CET
DTSTART:20251026T010000
END:STANDARD
BEGIN:DAYLIGHT
TZOFFSETFROM:+0100
TZOFFSETTO:+0200
TZNAME:CEST
DTSTART:20260329T010000
END:DAYLIGHT
BEGIN:STANDARD
TZOFFSETFROM:+0200
TZOFFSETTO:+0100
TZNAME:CET
DTSTART:20261025T010000
END:STANDARD
END:VTIMEZONE
BEGIN:VEVENT
DTSTART;TZID=Europe/Madrid:20250613T200000
DTEND;TZID=Europe/Madrid:20250613T210000
DTSTAMP:20260419T203959
CREATED:20250609T130711Z
LAST-MODIFIED:20250609T130711Z
UID:21389-1749844800-1749848400@www.carnavaldecadiz.com
SUMMARY:Actuación de Rafael Aranda 'Taleguilla' en Pedrera
DESCRIPTION:Evento público de libre acceso.
URL:https://www.carnavaldecadiz.com/event/actuacion-de-rafael-aranda-taleguilla-en-pedrera/
LOCATION:Berral Parck\, Pedrera\, calle Pensamiento 2o\, Pedrera\, Sevilla\, 41566\, Spain
CATEGORIES:actuaciones de carnaval
END:VEVENT
BEGIN:VEVENT
DTSTART;TZID=Europe/Madrid:20250613T200000
DTEND;TZID=Europe/Madrid:20250613T223000
DTSTAMP:20260419T203959
CREATED:20250603T114426Z
LAST-MODIFIED:20250603T114459Z
UID:21256-1749844800-1749853800@www.carnavaldecadiz.com
SUMMARY:Carnaval Callejero en Cuatro Gatos
DESCRIPTION:Noche que cuenta con una buena selección de agrupaciones de carnaval sevillano. \n\nCallejera femenina – LAS DESVELAS\nLa chirigota del Flore – EL GRAN DICTADOR\nRomancero de Er Martínez – AQUÍ DONDE ME VEIS POR UNA CHISPA NO SOY REY\nRomancero de Ozrcai – ME METÍ EN EL CENTRO RETO Y YA CASI NI ME METO\n\nEvento público de libre acceso \n 
URL:https://www.carnavaldecadiz.com/event/carnaval-callejero-en-cuatro-gatos-2/
LOCATION:Cuatro Gatos\, Sevilla\, calle Madre Dolores Marquez 11\, Sevilla\, Sevilla\, 41003\, España
CATEGORIES:actuaciones de carnaval,carnaval callejero
END:VEVENT
BEGIN:VEVENT
DTSTART;TZID=Europe/Madrid:20250613T203000
DTEND;TZID=Europe/Madrid:20250613T213000
DTSTAMP:20260419T203959
CREATED:20250610T104437Z
LAST-MODIFIED:20250610T104437Z
UID:21416-1749846600-1749850200@www.carnavaldecadiz.com
SUMMARY:Actuación  de 'LOS TARATACHIN'
DESCRIPTION:Evento público de libre acceso.
URL:https://www.carnavaldecadiz.com/event/actuacion-de-los-taratachin/
LOCATION:Parroquia San Servando y San German\, San Fernando\, Avenida Ponce de Leon 10\, San Fernando\, Cádiz\, 11100\, Spain
CATEGORIES:actuaciones de carnaval
END:VEVENT
END:VCALENDAR