BEGIN:VCALENDAR
VERSION:2.0
PRODID:-//Carnaval de C&aacute;diz - ECPv6.15.20//NONSGML v1.0//EN
CALSCALE:GREGORIAN
METHOD:PUBLISH
X-WR-CALNAME:Carnaval de C&aacute;diz
X-ORIGINAL-URL:https://www.carnavaldecadiz.com
X-WR-CALDESC:Eventos para Carnaval de C&aacute;diz
REFRESH-INTERVAL;VALUE=DURATION:PT1H
X-Robots-Tag:noindex
X-PUBLISHED-TTL:PT1H
BEGIN:VTIMEZONE
TZID:Europe/Madrid
BEGIN:DAYLIGHT
TZOFFSETFROM:+0100
TZOFFSETTO:+0200
TZNAME:CEST
DTSTART:20240331T010000
END:DAYLIGHT
BEGIN:STANDARD
TZOFFSETFROM:+0200
TZOFFSETTO:+0100
TZNAME:CET
DTSTART:20241027T010000
END:STANDARD
BEGIN:DAYLIGHT
TZOFFSETFROM:+0100
TZOFFSETTO:+0200
TZNAME:CEST
DTSTART:20250330T010000
END:DAYLIGHT
BEGIN:STANDARD
TZOFFSETFROM:+0200
TZOFFSETTO:+0100
TZNAME:CET
DTSTART:20251026T010000
END:STANDARD
BEGIN:DAYLIGHT
TZOFFSETFROM:+0100
TZOFFSETTO:+0200
TZNAME:CEST
DTSTART:20260329T010000
END:DAYLIGHT
BEGIN:STANDARD
TZOFFSETFROM:+0200
TZOFFSETTO:+0100
TZNAME:CET
DTSTART:20261025T010000
END:STANDARD
END:VTIMEZONE
BEGIN:VEVENT
DTSTART;TZID=Europe/Madrid:20250609T163000
DTEND;TZID=Europe/Madrid:20250609T190000
DTSTAMP:20260419T203810
CREATED:20250605T222054Z
LAST-MODIFIED:20250605T222054Z
UID:21339-1749486600-1749495600@www.carnavaldecadiz.com
SUMMARY:Tarde de Carnaval en Barbate
DESCRIPTION:Actuarán: \n\nComparsa Infantil – Capitán Tapón\nComparsa Infantil – Una comparsa con clase\n\nEvento público de libre acceso.
URL:https://www.carnavaldecadiz.com/event/tarde-de-carnaval-en-barbate/
LOCATION:CEIP Francisco Giner de los Ríos\, Barbate\, Avenida Juan XXIII s/n\, Barbate\, Cádiz\, 11160\, Spain
CATEGORIES:actuaciones de carnaval
END:VEVENT
END:VCALENDAR