BEGIN:VCALENDAR
VERSION:2.0
PRODID:-//Carnaval de C&aacute;diz - ECPv6.15.20//NONSGML v1.0//EN
CALSCALE:GREGORIAN
METHOD:PUBLISH
X-WR-CALNAME:Carnaval de C&aacute;diz
X-ORIGINAL-URL:https://www.carnavaldecadiz.com
X-WR-CALDESC:Eventos para Carnaval de C&aacute;diz
REFRESH-INTERVAL;VALUE=DURATION:PT1H
X-Robots-Tag:noindex
X-PUBLISHED-TTL:PT1H
BEGIN:VTIMEZONE
TZID:Europe/Madrid
BEGIN:DAYLIGHT
TZOFFSETFROM:+0100
TZOFFSETTO:+0200
TZNAME:CEST
DTSTART:20240331T010000
END:DAYLIGHT
BEGIN:STANDARD
TZOFFSETFROM:+0200
TZOFFSETTO:+0100
TZNAME:CET
DTSTART:20241027T010000
END:STANDARD
BEGIN:DAYLIGHT
TZOFFSETFROM:+0100
TZOFFSETTO:+0200
TZNAME:CEST
DTSTART:20250330T010000
END:DAYLIGHT
BEGIN:STANDARD
TZOFFSETFROM:+0200
TZOFFSETTO:+0100
TZNAME:CET
DTSTART:20251026T010000
END:STANDARD
BEGIN:DAYLIGHT
TZOFFSETFROM:+0100
TZOFFSETTO:+0200
TZNAME:CEST
DTSTART:20260329T010000
END:DAYLIGHT
BEGIN:STANDARD
TZOFFSETFROM:+0200
TZOFFSETTO:+0100
TZNAME:CET
DTSTART:20261025T010000
END:STANDARD
END:VTIMEZONE
BEGIN:VEVENT
DTSTART;TZID=Europe/Madrid:20250412T210000
DTEND;TZID=Europe/Madrid:20250412T220000
DTSTAMP:20260419T234945
CREATED:20250409T095538Z
LAST-MODIFIED:20250409T095538Z
UID:19946-1744491600-1744495200@www.carnavaldecadiz.com
SUMMARY:Actuación del Coro Infantil 'La promoción'
DESCRIPTION:Evento público de libre acceso.
URL:https://www.carnavaldecadiz.com/event/actuacion-del-coro-infantil-la-promocion/
LOCATION:Peña Flamenca\, Chiclana\, calle Cuna\, Chiclana de la Frontera\, Cádiz\, 11130\, Spain
CATEGORIES:actuaciones de carnaval
END:VEVENT
END:VCALENDAR