BEGIN:VCALENDAR
VERSION:2.0
PRODID:-//Carnaval de C&aacute;diz - ECPv6.15.20//NONSGML v1.0//EN
CALSCALE:GREGORIAN
METHOD:PUBLISH
X-WR-CALNAME:Carnaval de C&aacute;diz
X-ORIGINAL-URL:https://www.carnavaldecadiz.com
X-WR-CALDESC:Eventos para Carnaval de C&aacute;diz
REFRESH-INTERVAL;VALUE=DURATION:PT1H
X-Robots-Tag:noindex
X-PUBLISHED-TTL:PT1H
BEGIN:VTIMEZONE
TZID:Europe/Madrid
BEGIN:DAYLIGHT
TZOFFSETFROM:+0100
TZOFFSETTO:+0200
TZNAME:CEST
DTSTART:20240331T010000
END:DAYLIGHT
BEGIN:STANDARD
TZOFFSETFROM:+0200
TZOFFSETTO:+0100
TZNAME:CET
DTSTART:20241027T010000
END:STANDARD
BEGIN:DAYLIGHT
TZOFFSETFROM:+0100
TZOFFSETTO:+0200
TZNAME:CEST
DTSTART:20250330T010000
END:DAYLIGHT
BEGIN:STANDARD
TZOFFSETFROM:+0200
TZOFFSETTO:+0100
TZNAME:CET
DTSTART:20251026T010000
END:STANDARD
BEGIN:DAYLIGHT
TZOFFSETFROM:+0100
TZOFFSETTO:+0200
TZNAME:CEST
DTSTART:20260329T010000
END:DAYLIGHT
BEGIN:STANDARD
TZOFFSETFROM:+0200
TZOFFSETTO:+0100
TZNAME:CET
DTSTART:20261025T010000
END:STANDARD
END:VTIMEZONE
BEGIN:VEVENT
DTSTART;TZID=Europe/Madrid:20250405T123000
DTEND;TZID=Europe/Madrid:20250405T133000
DTSTAMP:20260419T234919
CREATED:20250404T103102Z
LAST-MODIFIED:20250404T103102Z
UID:19867-1743856200-1743859800@www.carnavaldecadiz.com
SUMMARY:Actuación de 'ABEMUS MAMA' en San Jerónimo\, Sevilla
DESCRIPTION:Ficha de la Chirigota Feminista Callejera HABEMUS MAMA \nEvento público de libre acceso.
URL:https://www.carnavaldecadiz.com/event/actuacion-de-abemus-mama-en-san-jeronimo-sevilla/
LOCATION:Barrio de San Jerónimo\, Sevilla\, Barrio de San Jerónimo\, Sevilla\, Sevilla\, 41015\, Spain
CATEGORIES:actuaciones de carnaval
END:VEVENT
BEGIN:VEVENT
DTSTART;TZID=Europe/Madrid:20250405T130000
DTEND;TZID=Europe/Madrid:20250405T170000
DTSTAMP:20260419T234919
CREATED:20250404T095945Z
LAST-MODIFIED:20250404T095945Z
UID:19864-1743858000-1743872400@www.carnavaldecadiz.com
SUMMARY:XI Premios Holoturia
DESCRIPTION:Ya son 11 años organizando esta fiesta de la “carga carnavalesca”\, en la que se revisa en clave de humor los aspectos más curiosos del pasado concurso del Falla. No he visto mejor ambiente\, ganas de cachondeo y buen rollo que en estas galas\, parece que no es de carnaval… Yo tú no me la perdía. Lo que pasa en las Holoturias\, se entera tol mundo y da más coraje. \nNominaciones \nEvento público de libre acceso.
URL:https://www.carnavaldecadiz.com/event/xi-premios-holoturia/
LOCATION:Peña Paco Alba\, calle antulo 6\, Cádiz\, Cádiz\, 11006\, España
CATEGORIES:actuaciones de carnaval
END:VEVENT
BEGIN:VEVENT
DTSTART;TZID=Europe/Madrid:20250405T160000
DTEND;TZID=Europe/Madrid:20250405T180000
DTSTAMP:20260419T234919
CREATED:20250404T103530Z
LAST-MODIFIED:20250404T103530Z
UID:19873-1743868800-1743876000@www.carnavaldecadiz.com
SUMMARY:Carnaval en la AVV San Diego\, Sevilla
DESCRIPTION:Ficha de la Chirigota Feminista Callejera HABEMUS MAMA \nEvento público de libre acceso.
URL:https://www.carnavaldecadiz.com/event/carnaval-en-la-avv-san-diego-sevilla/
LOCATION:AVV San Diego\, Sevilla\, Núcleo Residencial\, San Diego\, local 53\, Sevilla\, Sevilla\, 41015\, Spain
CATEGORIES:actuaciones de carnaval
END:VEVENT
BEGIN:VEVENT
DTSTART;TZID=Europe/Madrid:20250405T190000
DTEND;TZID=Europe/Madrid:20250405T210000
DTSTAMP:20260419T234919
CREATED:20250401T185959Z
LAST-MODIFIED:20250401T185959Z
UID:19824-1743879600-1743886800@www.carnavaldecadiz.com
SUMMARY:Carnaval en la Peña Tatachin de la Frontera
DESCRIPTION:Evento público de libre acceso
URL:https://www.carnavaldecadiz.com/event/carnaval-en-la-pena-tatachin-de-la-frontera-3/
LOCATION:Peña Tatachin\, calle Cristo Humildad Paciencia 2D\, Chiclana de la Frontera\, Cádiz\, 11130\, España
END:VEVENT
BEGIN:VEVENT
DTSTART;TZID=Europe/Madrid:20250405T193000
DTEND;TZID=Europe/Madrid:20250405T210000
DTSTAMP:20260419T234919
CREATED:20250320T224433Z
LAST-MODIFIED:20250320T224433Z
UID:19480-1743881400-1743886800@www.carnavaldecadiz.com
SUMMARY:Chirigota EL BESO MÁS FAMOSO en Sevilla
DESCRIPTION:Evento público de libre acceso
URL:https://www.carnavaldecadiz.com/event/chirigota-el-beso-mas-famoso-en-sevilla/
LOCATION:Cuatro Gatos\, Sevilla\, calle Madre Dolores Marquez 11\, Sevilla\, Sevilla\, 41003\, España
CATEGORIES:actuaciones de carnaval
END:VEVENT
END:VCALENDAR