BEGIN:VCALENDAR
VERSION:2.0
PRODID:-//Carnaval de C&aacute;diz - ECPv6.15.20//NONSGML v1.0//EN
CALSCALE:GREGORIAN
METHOD:PUBLISH
X-ORIGINAL-URL:https://www.carnavaldecadiz.com
X-WR-CALDESC:Eventos para Carnaval de C&aacute;diz
REFRESH-INTERVAL;VALUE=DURATION:PT1H
X-Robots-Tag:noindex
X-PUBLISHED-TTL:PT1H
BEGIN:VTIMEZONE
TZID:Europe/Madrid
BEGIN:DAYLIGHT
TZOFFSETFROM:+0100
TZOFFSETTO:+0200
TZNAME:CEST
DTSTART:20240331T010000
END:DAYLIGHT
BEGIN:STANDARD
TZOFFSETFROM:+0200
TZOFFSETTO:+0100
TZNAME:CET
DTSTART:20241027T010000
END:STANDARD
BEGIN:DAYLIGHT
TZOFFSETFROM:+0100
TZOFFSETTO:+0200
TZNAME:CEST
DTSTART:20250330T010000
END:DAYLIGHT
BEGIN:STANDARD
TZOFFSETFROM:+0200
TZOFFSETTO:+0100
TZNAME:CET
DTSTART:20251026T010000
END:STANDARD
BEGIN:DAYLIGHT
TZOFFSETFROM:+0100
TZOFFSETTO:+0200
TZNAME:CEST
DTSTART:20260329T010000
END:DAYLIGHT
BEGIN:STANDARD
TZOFFSETFROM:+0200
TZOFFSETTO:+0100
TZNAME:CET
DTSTART:20261025T010000
END:STANDARD
END:VTIMEZONE
BEGIN:VEVENT
DTSTART;TZID=Europe/Madrid:20250329T120000
DTEND;TZID=Europe/Madrid:20250329T140000
DTSTAMP:20260420T012514
CREATED:20250326T214453Z
LAST-MODIFIED:20250326T214453Z
UID:19705-1743249600-1743256800@www.carnavaldecadiz.com
SUMMARY:Carnaval Jartible en Pinto
DESCRIPTION:Evento público de libre acceso
URL:https://www.carnavaldecadiz.com/event/carnaval-jartible-en-pinto/
LOCATION:Casa de Andalucía\, Pinto\, Avenida de Europa 21\, Pinto\, Madrid\, España
CATEGORIES:actuaciones de carnaval
END:VEVENT
BEGIN:VEVENT
DTSTART;TZID=Europe/Madrid:20250329T130000
DTEND;TZID=Europe/Madrid:20250329T170000
DTSTAMP:20260420T012514
CREATED:20250320T175849Z
LAST-MODIFIED:20250320T175849Z
UID:19423-1743253200-1743267600@www.carnavaldecadiz.com
SUMMARY:Carnaval de los Jartibles en Chipiona
DESCRIPTION:Agrupaciones confirmadas: \n\nChirigota – Las niñas del Prada\nComparsa – La vida en colores\nChirigota – Las Walking Pavo\nChirigota – Airfryer Fitness (Los quemagrasas)\nRomancero – La inesperada\nChiricuarteto – No me critiques el tipo\, que te pongo el Pipo.\nChirigota – Los bloqueaos\nRomancero – Con mi capa no te escapas\nRomancero – Chipiona World Summer Park\nChirigota – Los inseparables\n\nDurante el transcurso del evento se hará una degustación de guiso de Papas con Chocos. \nEvento público de libre acceso hasta completar aforo.
URL:https://www.carnavaldecadiz.com/event/carnaval-de-los-jartibles-en-chipiona/
LOCATION:Peña Cruz del Mar\, Chipiona\, calle Padre Lerchundi 64\, Chipiona\, Cádiz\, 11550\, España
CATEGORIES:actuaciones de carnaval,Comida popular
END:VEVENT
BEGIN:VEVENT
DTSTART;TZID=Europe/Madrid:20250329T180000
DTEND;TZID=Europe/Madrid:20250329T210000
DTSTAMP:20260420T012514
CREATED:20250326T201837Z
LAST-MODIFIED:20250326T201837Z
UID:19685-1743271200-1743282000@www.carnavaldecadiz.com
SUMMARY:Gala 'Los muergos del cartelón'
DESCRIPTION:Carga y cachondeo contra lo peor del romancero del pasado carnaval. \nMás información y nominaciones \nEvento público de libre acceso.
URL:https://www.carnavaldecadiz.com/event/gala-los-muergos-del-cartelon/
LOCATION:Sede Asociación de Romanceros ARO\, calle Regimiento de Infantería nº5 Bajo\, Cádiz\, Cádiz\, 11002\, Spain
CATEGORIES:actuaciones de carnaval
END:VEVENT
BEGIN:VEVENT
DTSTART;TZID=Europe/Madrid:20250329T190000
DTEND;TZID=Europe/Madrid:20250329T200000
DTSTAMP:20260420T012514
CREATED:20250326T211220Z
LAST-MODIFIED:20250326T211220Z
UID:19697-1743274800-1743278400@www.carnavaldecadiz.com
SUMMARY:Actuación de 'La chirigota que colma el vaso'
DESCRIPTION:Evento público de libre acceso.
URL:https://www.carnavaldecadiz.com/event/actuacion-de-la-chirigota-que-colma-el-vaso/
LOCATION:Berral Park Pub\, Pedrera\, calle Pensamiento 20\, Pedrera\, Sevilla\, 41566\, Spain
CATEGORIES:actuaciones de carnaval
END:VEVENT
END:VCALENDAR