BEGIN:VCALENDAR
VERSION:2.0
PRODID:-//Carnaval de C&aacute;diz - ECPv6.15.20//NONSGML v1.0//EN
CALSCALE:GREGORIAN
METHOD:PUBLISH
X-WR-CALNAME:Carnaval de C&aacute;diz
X-ORIGINAL-URL:https://www.carnavaldecadiz.com
X-WR-CALDESC:Eventos para Carnaval de C&aacute;diz
REFRESH-INTERVAL;VALUE=DURATION:PT1H
X-Robots-Tag:noindex
X-PUBLISHED-TTL:PT1H
BEGIN:VTIMEZONE
TZID:Europe/Madrid
BEGIN:DAYLIGHT
TZOFFSETFROM:+0100
TZOFFSETTO:+0200
TZNAME:CEST
DTSTART:20240331T010000
END:DAYLIGHT
BEGIN:STANDARD
TZOFFSETFROM:+0200
TZOFFSETTO:+0100
TZNAME:CET
DTSTART:20241027T010000
END:STANDARD
BEGIN:DAYLIGHT
TZOFFSETFROM:+0100
TZOFFSETTO:+0200
TZNAME:CEST
DTSTART:20250330T010000
END:DAYLIGHT
BEGIN:STANDARD
TZOFFSETFROM:+0200
TZOFFSETTO:+0100
TZNAME:CET
DTSTART:20251026T010000
END:STANDARD
BEGIN:DAYLIGHT
TZOFFSETFROM:+0100
TZOFFSETTO:+0200
TZNAME:CEST
DTSTART:20260329T010000
END:DAYLIGHT
BEGIN:STANDARD
TZOFFSETFROM:+0200
TZOFFSETTO:+0100
TZNAME:CET
DTSTART:20261025T010000
END:STANDARD
END:VTIMEZONE
BEGIN:VEVENT
DTSTART;TZID=Europe/Madrid:20250328T193000
DTEND;TZID=Europe/Madrid:20250328T223000
DTSTAMP:20260420T012230
CREATED:20250326T203941Z
LAST-MODIFIED:20250326T203941Z
UID:19688-1743190200-1743201000@www.carnavaldecadiz.com
SUMMARY:Carnaval Callejero en Flamenco Bar\, Cádiz
DESCRIPTION:Gran selección de agrupaciones callejeras que asegura un ratazo \nEvento público de libre acceso
URL:https://www.carnavaldecadiz.com/event/carnaval-callejero-en-flamenco-bar-cadiz/
LOCATION:Café Bar Flamenco\, Cádiz\, paseo Marítimo 14\, Cádiz\, Cádiz\, 11010\, Spain
CATEGORIES:actuaciones de carnaval
END:VEVENT
END:VCALENDAR