BEGIN:VCALENDAR
VERSION:2.0
PRODID:-//Carnaval de C&aacute;diz - ECPv6.15.20//NONSGML v1.0//EN
CALSCALE:GREGORIAN
METHOD:PUBLISH
X-WR-CALNAME:Carnaval de C&aacute;diz
X-ORIGINAL-URL:https://www.carnavaldecadiz.com
X-WR-CALDESC:Eventos para Carnaval de C&aacute;diz
REFRESH-INTERVAL;VALUE=DURATION:PT1H
X-Robots-Tag:noindex
X-PUBLISHED-TTL:PT1H
BEGIN:VTIMEZONE
TZID:Europe/Madrid
BEGIN:DAYLIGHT
TZOFFSETFROM:+0100
TZOFFSETTO:+0200
TZNAME:CEST
DTSTART:20240331T010000
END:DAYLIGHT
BEGIN:STANDARD
TZOFFSETFROM:+0200
TZOFFSETTO:+0100
TZNAME:CET
DTSTART:20241027T010000
END:STANDARD
BEGIN:DAYLIGHT
TZOFFSETFROM:+0100
TZOFFSETTO:+0200
TZNAME:CEST
DTSTART:20250330T010000
END:DAYLIGHT
BEGIN:STANDARD
TZOFFSETFROM:+0200
TZOFFSETTO:+0100
TZNAME:CET
DTSTART:20251026T010000
END:STANDARD
BEGIN:DAYLIGHT
TZOFFSETFROM:+0100
TZOFFSETTO:+0200
TZNAME:CEST
DTSTART:20260329T010000
END:DAYLIGHT
BEGIN:STANDARD
TZOFFSETFROM:+0200
TZOFFSETTO:+0100
TZNAME:CET
DTSTART:20261025T010000
END:STANDARD
END:VTIMEZONE
BEGIN:VEVENT
DTSTART;TZID=Europe/Madrid:20250322T123000
DTEND;TZID=Europe/Madrid:20250322T170000
DTSTAMP:20260420T012248
CREATED:20250312T161504Z
LAST-MODIFIED:20250320T205252Z
UID:19198-1742646600-1742662800@www.carnavaldecadiz.com
SUMMARY:Actuaciones de Carnaval en la Peña 'El cuarto de ensayo'
DESCRIPTION:Actuarán: \n\nComparsa – Las Adelitas\nChirigota – ¡Ojú\, que colgaera!\nChirigota – Los Malfo-Llados\nChirigota – Los acojonaos\nChirigota – Quien guarda halla\nChirigota – Los taratachin\nChirigota – Los animaos\n\nImposición de la insignia de oro de la entidad a Francisco Sainz de la Maza ‘Paco el caja’ \nEvento público de libre acceso.
URL:https://www.carnavaldecadiz.com/event/actuaciones-de-carnaval-en-la-pena-el-cuarto-de-ensayo/
LOCATION:Peña ‘El cuarto de ensayo’\, San Fernando\, calle cruz roja española\, San Fernando\, Cádiz\, 11100\, Spain
CATEGORIES:actuaciones de carnaval
END:VEVENT
BEGIN:VEVENT
DTSTART;TZID=Europe/Madrid:20250322T170000
DTEND;TZID=Europe/Madrid:20250322T200000
DTSTAMP:20260420T012248
CREATED:20250318T220014Z
LAST-MODIFIED:20250318T220014Z
UID:19361-1742662800-1742673600@www.carnavaldecadiz.com
SUMMARY:Carnaval Chirigotero en Espartinas
DESCRIPTION:Actuarán las siguientes chirigotas: \n\nLos cagones\nLos sherijuegos\nLos muchachos del congelao\n\nEvento público de libre acceso
URL:https://www.carnavaldecadiz.com/event/carnaval-chirigotero-en-espartinas/
LOCATION:Jardines de las Monjas\, Espartinas\, Avenida Federico Leal Castaño\, Espartinas\, Sevilla\, 41807\, Spain
CATEGORIES:actuaciones de carnaval
END:VEVENT
BEGIN:VEVENT
DTSTART;TZID=Europe/Madrid:20250322T170000
DTEND;TZID=Europe/Madrid:20250322T220000
DTSTAMP:20260420T012248
CREATED:20250317T205849Z
LAST-MODIFIED:20250317T205849Z
UID:19280-1742662800-1742680800@www.carnavaldecadiz.com
SUMMARY:IV Gala de Carnaval Mencantajere
DESCRIPTION:Una nueva edición de la Gala Carnavalesca Mencantajeré.Ambiente carnavalero de quilates\, acompañado de una barra a precios populares.
URL:https://www.carnavaldecadiz.com/event/iv-gala-de-carnaval-mencantajere/
LOCATION:Peña Mencantajeré\, calla falta 15\, Jerez de la Frontera\, Cádiz\, 11408\, España
CATEGORIES:actuaciones de carnaval
END:VEVENT
BEGIN:VEVENT
DTSTART;TZID=Europe/Madrid:20250322T200000
DTEND;TZID=Europe/Madrid:20250322T230000
DTSTAMP:20260420T012248
CREATED:20250318T222441Z
LAST-MODIFIED:20250318T222441Z
UID:19372-1742673600-1742684400@www.carnavaldecadiz.com
SUMMARY:Noche de la Cantera en la Peña Los Catavinos
DESCRIPTION:Actuarán: \n\nRomancero Infantil: Lilo&Stitch\nRomancero: Los patos del parque\nChirigota Infantil: Los trataratachin\nChirigota Infantil: ¡Ojú\, que colgaera!\n\nEvento público de libre acceso
URL:https://www.carnavaldecadiz.com/event/noche-de-la-cantera-en-la-pena-los-catavinos-2/
LOCATION:Peña Los Catavinos\, San Fernando\, calle Santo domingo 10\, San Fernando\, Cádiz\, 11100\, Spain
CATEGORIES:actuaciones de carnaval
END:VEVENT
END:VCALENDAR