BEGIN:VCALENDAR
VERSION:2.0
PRODID:-//Carnaval de C&aacute;diz - ECPv6.15.20//NONSGML v1.0//EN
CALSCALE:GREGORIAN
METHOD:PUBLISH
X-WR-CALNAME:Carnaval de C&aacute;diz
X-ORIGINAL-URL:https://www.carnavaldecadiz.com
X-WR-CALDESC:Eventos para Carnaval de C&aacute;diz
REFRESH-INTERVAL;VALUE=DURATION:PT1H
X-Robots-Tag:noindex
X-PUBLISHED-TTL:PT1H
BEGIN:VTIMEZONE
TZID:Europe/Madrid
BEGIN:DAYLIGHT
TZOFFSETFROM:+0100
TZOFFSETTO:+0200
TZNAME:CEST
DTSTART:20240331T010000
END:DAYLIGHT
BEGIN:STANDARD
TZOFFSETFROM:+0200
TZOFFSETTO:+0100
TZNAME:CET
DTSTART:20241027T010000
END:STANDARD
BEGIN:DAYLIGHT
TZOFFSETFROM:+0100
TZOFFSETTO:+0200
TZNAME:CEST
DTSTART:20250330T010000
END:DAYLIGHT
BEGIN:STANDARD
TZOFFSETFROM:+0200
TZOFFSETTO:+0100
TZNAME:CET
DTSTART:20251026T010000
END:STANDARD
BEGIN:DAYLIGHT
TZOFFSETFROM:+0100
TZOFFSETTO:+0200
TZNAME:CEST
DTSTART:20260329T010000
END:DAYLIGHT
BEGIN:STANDARD
TZOFFSETFROM:+0200
TZOFFSETTO:+0100
TZNAME:CET
DTSTART:20261025T010000
END:STANDARD
END:VTIMEZONE
BEGIN:VEVENT
DTSTART;TZID=Europe/Madrid:20250319T190000
DTEND;TZID=Europe/Madrid:20250319T210000
DTSTAMP:20260420T012247
CREATED:20250318T202548Z
LAST-MODIFIED:20250318T202548Z
UID:19335-1742410800-1742418000@www.carnavaldecadiz.com
SUMMARY:Cadiwoman: Feminismo Chirigotero\, en Sevilla
DESCRIPTION:La chirigota callejera conocida como CADIWOMAN es un referente a la hora de hacer pedagogía sobre el feminismo a través del humor. \nAcceso libre hasta completar aforo. \n 
URL:https://www.carnavaldecadiz.com/event/cadiwoman-feminismo-chirigotero-en-sevilla/
LOCATION:Facultad de Enfermería\, Fisioterapia y Podología. Universidad de Sevilla\, calle Avenzoar 6\, Sevilla\, Sevilla\, 41009\, Spain
CATEGORIES:carnaval callejero,carnaval feminista,mesa de debate
END:VEVENT
END:VCALENDAR