BEGIN:VCALENDAR
VERSION:2.0
PRODID:-//Carnaval de C&aacute;diz - ECPv6.15.20//NONSGML v1.0//EN
CALSCALE:GREGORIAN
METHOD:PUBLISH
X-WR-CALNAME:Carnaval de C&aacute;diz
X-ORIGINAL-URL:https://www.carnavaldecadiz.com
X-WR-CALDESC:Eventos para Carnaval de C&aacute;diz
REFRESH-INTERVAL;VALUE=DURATION:PT1H
X-Robots-Tag:noindex
X-PUBLISHED-TTL:PT1H
BEGIN:VTIMEZONE
TZID:Europe/Madrid
BEGIN:DAYLIGHT
TZOFFSETFROM:+0100
TZOFFSETTO:+0200
TZNAME:CEST
DTSTART:20240331T010000
END:DAYLIGHT
BEGIN:STANDARD
TZOFFSETFROM:+0200
TZOFFSETTO:+0100
TZNAME:CET
DTSTART:20241027T010000
END:STANDARD
BEGIN:DAYLIGHT
TZOFFSETFROM:+0100
TZOFFSETTO:+0200
TZNAME:CEST
DTSTART:20250330T010000
END:DAYLIGHT
BEGIN:STANDARD
TZOFFSETFROM:+0200
TZOFFSETTO:+0100
TZNAME:CET
DTSTART:20251026T010000
END:STANDARD
BEGIN:DAYLIGHT
TZOFFSETFROM:+0100
TZOFFSETTO:+0200
TZNAME:CEST
DTSTART:20260329T010000
END:DAYLIGHT
BEGIN:STANDARD
TZOFFSETFROM:+0200
TZOFFSETTO:+0100
TZNAME:CET
DTSTART:20261025T010000
END:STANDARD
END:VTIMEZONE
BEGIN:VEVENT
DTSTART;VALUE=DATE:20250307
DTEND;VALUE=DATE:20250317
DTSTAMP:20260420T012247
CREATED:20250307T223618Z
LAST-MODIFIED:20250307T223618Z
UID:18941-1741305600-1742169599@www.carnavaldecadiz.com
SUMMARY:Carnaval en Vejer
DESCRIPTION:PROGRAMA OFICIAL\nViernes 7 de marzo \n\n20:00h – Concurso de agrupaciones. Teatro Municipal San Francisco.\n\nSábado 8 de marzo \n\n12:30h – Piñata para los más pequeños. En la Plazuela\, con la colaboración del Grupo Scout EDEN 309.\n19:30h – Pregón y Pito de Oro. Entrega del Pito de Oro al Grupo Scout EDEN 309. Pregón a cargo de Francisco José Secades Muñóz. Entrada por invitación que se pueden recoger a partir del 7 de marzo en la taquilla del Teatro. Para finalizar actuación de agrupaciones locales.\n\nDomingo 9 de marzo \n\n13:00h – VIII Berza Popular. A cargo de la Peña La Bajada de la Bolsa. En la Plaza 25N\, actuaciones de:\nChirigota – Por si acaso\, La precavidas\nComparsa infantil – Coloretes\nChirigota – Los ochenteros. Una comparsa de toda la vida.\nMurga – Por si alguien no lo sabía\, somo un montón de pedanías.\nChirigota – La callejera de Vejer\nComparsa – Los oculistas\nPrimer premio de chirigotas del Concurso de Agrupaciones.\nComparsa – Des-OBDC\n\nMiércoles 12 de marzo \n\n21:00h – Noche de Romanceros e Ilegales. Sede de la Peña La Bajada de la Bolsa.\n\nViernes 14 de marzo \n\n16:30h – Pasacalles infantil\,organizado por las AMPAS de Vejer.\n18:00h – Concurso de Popurrí. Organiza 4 Tapas\, en las Murallas de la Segur. Actuación del Coro ‘La fábrica de chocolate’\n\nSábado 15 de marzo \n\n13:00h – Gran Pollá. Degustación de pollo al ajillo y actuaciones de las agrupaciones de carnavalescas.\n16:30h – XIII Dobladillá Popular. En la Plazuela degustación de dobladillos\, fiesta infantil y actuación de:\nComparsa infantil – Coloretes\nComparsa – Los oculistas\nMurga – Por si alguien no lo sabía\, somo un montón de pedanías.\nChirigota – La callejera de Vejer\nChirigota – Los ochenteros. Una comparsa de toda la vida.\nComparsa – De buena tinta\nActuación del segundo premio de chirigotas del concurso de agrupaciones.\nActuación del primer premio de comparsas del concurso de agrupaciones.\nChirigota – Los pimpinela de la Plaza Fragela\nConcurso de disfraces para mayores y fin de fiesta con DJ Emilio.\n00:00h – Gran Verbena de Disfraces. En la Caseta Municipal ‘La Noria’\n\nDomingo 16 de marzo \n\n17:00h – Gran Cabalgata del Humor.\nSalida de la Pista Polideportiva Luis Diego Domínguez (Colegio Los Molinos)\, Avenida Andalucía\, c/Juan XXIII\, Avd. San Miguel\, c/Juan Riquelme\, Plazuela\, Corredera y Plaza de España.\nEntrega de premios de la Gran Cabalgata\nQuema del Pito de Carnaval y degustación del caldo de puchero en la Plazuela.\n\nTodos los eventos son públicos y de libre acceso. \nCarnavaldeCadiz.com no se hace responsable de las modificaciones de última hora del programa oficial. \n  \n 
URL:https://www.carnavaldecadiz.com/event/carnaval-en-vejer/
LOCATION:Vejer\, Vejer\, Vejer\, Cádiz\, España
CATEGORIES:Carnaval 2025,Comida popular
END:VEVENT
BEGIN:VEVENT
DTSTART;VALUE=DATE:20250314
DTEND;VALUE=DATE:20250317
DTSTAMP:20260420T012247
CREATED:20250307T215029Z
LAST-MODIFIED:20250307T215029Z
UID:18937-1741910400-1742169599@www.carnavaldecadiz.com
SUMMARY:Carnaval en Zahara de Los Atunes
DESCRIPTION:PROGRAMA OFICIAL\nViernes 14 de marzo \n\n12:00h – Pasacalles del alumnado CEIP Miguel de Cervantes\, hasta la carpa municipal. Pregón infantil y actuaciones del alumnado.\n17:00h – Fiesta infantil en la carpa municipal\n18:30h – Hipnosis Ilusionar-t. Espectáculo a través de la magia de la hipnosis.\n22:00h – Pregón del Carnaval 2025 en la Carpa Municipal.\nRepetición del pregón infantil a cargo de Ainhoa Morillo y Mar Oliva\nCorte juvenil ‘Las niñas de Baelo Claudia’. Coronación Atunera del Carnaval 2025\nPregón Oficial a cargo de Carlos Doncel-Moriano Valencia\nActuación de la Chirigota de Sevilla ‘Volea de derecha’\n23:30h – Bailes de Carnaval\n\nSábado 15 de marzo \n\n13:00h – Mejilloná Popular ‘Pepe el Bolonia’. En la Plaza Tamarón (Maps)\, con actuaciones carnavalescas en las inmediaciones de la plaza.\n18:00h – Cabalgata de Carnaval. Desde las inmediaciones del Hotel Tui Zahara\, recorrido: Paseo del Pradillo\, c/Maestra Angelines\, c/María Luisa\, Plaza Tamarón\, Avd. José Matías Guerrero y Carpa Municipal. Entrega de premios del concurso de disfraces por grupos en la Carpa Municipal al finalizar la cabalgata.\nEncuentro de callejeras impulsado por la Chirigota del Chupito (Zahara).\n\nDomingo 16 de marzo \n\n12:30h – Potajá ‘La botica’. En la calle Real\, degustación de potaje y actuaciones de agrupaciones carnavalescas.\n14:00h – Carrusel de agrupaciones final de carnaval. En la Carpa Municipal actuación de:\nCoro – La fábrica de chocolate\nComparsa – ¡Payaso!\nChirigota – Venimos de vuelta\nComparsa – De buena tinta\nAl finalizar\, concierto en directo.\n\nTodos los eventos son públicos de libre acceso. \n  \n  \n 
URL:https://www.carnavaldecadiz.com/event/carnaval-en-zahara-de-los-atunes/
LOCATION:Zahara de los Atunes\, Zahara de los Atunes\, Cádiz\, Spain
CATEGORIES:Carnaval 2025,evento gastronómico
END:VEVENT
BEGIN:VEVENT
DTSTART;TZID=Europe/Madrid:20250316T120000
DTEND;TZID=Europe/Madrid:20250316T190000
DTSTAMP:20260420T012247
CREATED:20250314T225018Z
LAST-MODIFIED:20250314T225018Z
UID:19228-1742126400-1742151600@www.carnavaldecadiz.com
SUMMARY:XIV Carnaval Chiquito de Mujeres
DESCRIPTION:Carrusel de actuaciones de agrupaciones callejera femeninas\, organizado por Izquierda Unida Cádiz. \nAgrupaciones que han confirmado su participación: \n\nRomancero –  Escenas de patrimonio\nChirigota – Las Fen Chui\nRomancero – La mesetaria de la Plaza Candelaria\nChirigota – Habemus Mama\nChirigota – Puretas y malajes\nChirigota – Las patronas\nChirigota – Mira como estamos\nChirigota – Agentes 11007. Licencia para especular\nChirigota – Al borde de un ataque de hercios\nRomancero – Con más prisa y menos pausia\nRomancero – De que coño viene esta\nChirigota – Una chirigota en deconstrucción (ji can do)\n\nEvento público de libre acceso.
URL:https://www.carnavaldecadiz.com/event/xiv-carnaval-chiquito-de-mujeres/
LOCATION:Plaza de la Libertad\, Cádiz\, Plaza de la Libertad\, Cádiz\, Cádiz\, 11100\, España
CATEGORIES:actuaciones de carnaval
END:VEVENT
BEGIN:VEVENT
DTSTART;TZID=Europe/Madrid:20250316T130000
DTEND;TZID=Europe/Madrid:20250316T170000
DTSTAMP:20260420T012247
CREATED:20250212T195942Z
LAST-MODIFIED:20250212T195942Z
UID:17618-1742130000-1742144400@www.carnavaldecadiz.com
SUMMARY:Encuentro con la copla callejera
DESCRIPTION:A la espera de recibir información de grupos participantes. \nEvento público de libre acceso.
URL:https://www.carnavaldecadiz.com/event/encuentro-con-la-copla-callejera/
LOCATION:Plaza Candelaria\, Plaza Candelaria\, Cádiz\, Cádiz\, 11005\, España
CATEGORIES:actuaciones de carnaval
ATTACH;FMTTYPE=image/jpeg:https://www.carnavaldecadiz.com/wp-content/uploads/2024/11/Pena_la_Estrella.jpg
END:VEVENT
BEGIN:VEVENT
DTSTART;TZID=Europe/Madrid:20250316T130000
DTEND;TZID=Europe/Madrid:20250316T170000
DTSTAMP:20260420T012247
CREATED:20250314T225435Z
LAST-MODIFIED:20250314T225435Z
UID:19231-1742130000-1742144400@www.carnavaldecadiz.com
SUMMARY:II Croquetada Popular. Barrio San Carlos.
DESCRIPTION:Degustación gratuita de croquetas y cerveza.
URL:https://www.carnavaldecadiz.com/event/ii-croquetada-popular-barrio-san-carlos/
LOCATION:Bar Nuevo V Centanerio\, Cádiz\, calle Isabel la Católica 3\, Cádiz\, Cádiz\, 11004\, España
CATEGORIES:actuaciones de carnaval,evento gastronómico
END:VEVENT
BEGIN:VEVENT
DTSTART;TZID=Europe/Madrid:20250316T140000
DTEND;TZID=Europe/Madrid:20250316T180000
DTSTAMP:20260420T012247
CREATED:20250312T165001Z
LAST-MODIFIED:20250312T165001Z
UID:19210-1742133600-1742148000@www.carnavaldecadiz.com
SUMMARY:Actuaciones de Carnaval en la Peña 'El Perete'
DESCRIPTION:Orden de Actuación:\n\n14:00h – Imposición de el ‘Pito de Oro’ a Juan José Sánchez guerrero ‘El rana’\n14:15h – Actuación del coro – La suerte de Cádiz\n15:00h – Actuación de la Chirigota – Los Malfo-Llado\n16:00h – Actuación de la Chirigota – Los acojonaos\n17:00h – Actuación de la Chirigota – Los animaos\n\nEvento público de libre acceso
URL:https://www.carnavaldecadiz.com/event/actuaciones-de-carnaval-en-la-pena-el-perete/
LOCATION:Peña Perete\, San Fernando\, calle Albina del Puente 19\, San Fernando\, Cádiz\, 11100\, España
CATEGORIES:actuaciones de carnaval
END:VEVENT
END:VCALENDAR