BEGIN:VCALENDAR
VERSION:2.0
PRODID:-//Carnaval de C&aacute;diz - ECPv6.15.20//NONSGML v1.0//EN
CALSCALE:GREGORIAN
METHOD:PUBLISH
X-WR-CALNAME:Carnaval de C&aacute;diz
X-ORIGINAL-URL:https://www.carnavaldecadiz.com
X-WR-CALDESC:Eventos para Carnaval de C&aacute;diz
REFRESH-INTERVAL;VALUE=DURATION:PT1H
X-Robots-Tag:noindex
X-PUBLISHED-TTL:PT1H
BEGIN:VTIMEZONE
TZID:Europe/Madrid
BEGIN:DAYLIGHT
TZOFFSETFROM:+0100
TZOFFSETTO:+0200
TZNAME:CEST
DTSTART:20240331T010000
END:DAYLIGHT
BEGIN:STANDARD
TZOFFSETFROM:+0200
TZOFFSETTO:+0100
TZNAME:CET
DTSTART:20241027T010000
END:STANDARD
BEGIN:DAYLIGHT
TZOFFSETFROM:+0100
TZOFFSETTO:+0200
TZNAME:CEST
DTSTART:20250330T010000
END:DAYLIGHT
BEGIN:STANDARD
TZOFFSETFROM:+0200
TZOFFSETTO:+0100
TZNAME:CET
DTSTART:20251026T010000
END:STANDARD
BEGIN:DAYLIGHT
TZOFFSETFROM:+0100
TZOFFSETTO:+0200
TZNAME:CEST
DTSTART:20260329T010000
END:DAYLIGHT
BEGIN:STANDARD
TZOFFSETFROM:+0200
TZOFFSETTO:+0100
TZNAME:CET
DTSTART:20261025T010000
END:STANDARD
END:VTIMEZONE
BEGIN:VEVENT
DTSTART;VALUE=DATE:20250213
DTEND;VALUE=DATE:20250305
DTSTAMP:20260420T012230
CREATED:20250213T213439Z
LAST-MODIFIED:20250213T213439Z
UID:17699-1739404800-1741132799@www.carnavaldecadiz.com
SUMMARY:Exposición Fotográfica 'Kiki: Objetivo los 80. La década mágica del Carnaval'
DESCRIPTION:Horario de visitas: \nDe lunes a viernes de 9:00h a 20:45h \nEvento público de libre acceso.
URL:https://www.carnavaldecadiz.com/event/exposicion-fotografica-kiki-objetivo-los-80-la-decada-magica-del-carnaval/
LOCATION:Biblioteca Municipal\, García Gutierrez\, Chiclana\, calle la Vega 6\, Chiclana de la Frontera\, Cádiz\, 11130\, Spain
CATEGORIES:exposiciones,fotos carnaval
END:VEVENT
BEGIN:VEVENT
DTSTART;VALUE=DATE:20250213
DTEND;VALUE=DATE:20250310
DTSTAMP:20260420T012230
CREATED:20250210T130500Z
LAST-MODIFIED:20250317T213341Z
UID:17416-1739404800-1741564799@www.carnavaldecadiz.com
SUMMARY:Exposición EL ARTE DEL CARNAVAL
DESCRIPTION:Exposición EL ARTE DEL CARNAVAL. Historia visual a través de sus carteles. \nEl horario de visita es: \n\nde lunes a sábado de 11 a 19 horas (última entrada a las 18 horas)\nlos domingos y festivos de 11 a 14 horas (última entrada a las 13 horas).\n\nLas reservas pueden solicitarse en la siguiente dirección de correo electrónico: visita.lacasadelcarnaval@ext.cadiz.es. \nEntrada libre. \nMás información sobre el PROGRAMA de la Casa del Carnaval de Cádiz.
URL:https://www.carnavaldecadiz.com/event/exposicion-el-arte-del-carnaval/
LOCATION:Casa del Carnaval\, Cádiz\, calle Marqués del Real Tesoro 15\, 17\, Cádiz\, Cádiz\, 11001\, España
CATEGORIES:casa del carnaval,exposiciones
END:VEVENT
BEGIN:VEVENT
DTSTART;VALUE=DATE:20250214
DTEND;VALUE=DATE:20250310
DTSTAMP:20260420T012230
CREATED:20250210T131058Z
LAST-MODIFIED:20250317T213548Z
UID:17419-1739491200-1741564799@www.carnavaldecadiz.com
SUMMARY:El Carnaval de Cádiz a Lápiz\, por Irene Vélez
DESCRIPTION:El horario de visita es: \n\nde lunes a sábado de 11 a 19 horas (última entrada a las 18 horas)\nlos domingos y festivos de 11 a 14 horas (última entrada a las 13 horas).\n\nLas reservas pueden solicitarse en la siguiente dirección de correo electrónico: visita.lacasadelcarnaval@ext.cadiz.es. \nEntrada libre. \nMás información sobre el PROGRAMA de la Casa del Carnaval de Cádiz.
URL:https://www.carnavaldecadiz.com/event/el-carnaval-de-cadiz-a-lapiz-por-irene-velez/
LOCATION:Casa del Carnaval\, Cádiz\, calle Marqués del Real Tesoro 15\, 17\, Cádiz\, Cádiz\, 11001\, España
CATEGORIES:casa del carnaval,exposiciones
END:VEVENT
BEGIN:VEVENT
DTSTART;VALUE=DATE:20250218
DTEND;VALUE=DATE:20250310
DTSTAMP:20260420T012230
CREATED:20250210T131656Z
LAST-MODIFIED:20250317T213739Z
UID:17425-1739836800-1741564799@www.carnavaldecadiz.com
SUMMARY:Exposición DOSCOLORETES
DESCRIPTION:Exposición DOSCOLORETES\, La evolución del maquillaje en el Carnaval de Cádiz\, camerino de artes y horrores por Sara Romero. \nEl horario de visita es: \n\nde lunes a sábado de 11 a 19 horas (última entrada a las 18 horas)\nlos domingos y festivos de 11 a 14 horas (última entrada a las 13 horas).\n\nLas reservas pueden solicitarse en la siguiente dirección de correo electrónico: visita.lacasadelcarnaval@ext.cadiz.es. \nEntrada libre. \nMás información sobre el PROGRAMA de la Casa del Carnaval de Cádiz.
URL:https://www.carnavaldecadiz.com/event/exposicion-doscoloretes/
LOCATION:Casa del Carnaval\, Cádiz\, calle Marqués del Real Tesoro 15\, 17\, Cádiz\, Cádiz\, 11001\, España
CATEGORIES:casa del carnaval,exposiciones
END:VEVENT
BEGIN:VEVENT
DTSTART;VALUE=DATE:20250220
DTEND;VALUE=DATE:20250309
DTSTAMP:20260420T012230
CREATED:20250214T230745Z
LAST-MODIFIED:20250217T214037Z
UID:17830-1740009600-1741478399@www.carnavaldecadiz.com
SUMMARY:EXPOSICIÓN '1925-2025. Carnaval y Radio. Un siglo de sintonía en Cádiz' de Javier Osuna.
DESCRIPTION:Javier Osuna García\, que ha vivido el carnaval desde todos sus aspectos y que trabaja en la radio\, nos sorprende de nuevo con otra magnífica exposición en Fundación Cajasol. Rocío Hernández Romero ha colaborado con retratos de los radiofonistas del carnaval. \nHorario: de lunes a sábado\, de 11.00 a 14.00 horas y de 16.00 a 20.00 horas. Domingos y festivos\, cerrado. \nEntrada libre hasta completar el aforo.
URL:https://www.carnavaldecadiz.com/event/exposicion-1925-2025-carnaval-y-radio-un-siglo-de-sintonia-en-cadiz-de-javier-osuna/
LOCATION:Fundación CajaSol\, Cádiz\, Plaza de San Antonio 13\, Cádiz\, Cádiz\, 11003\, España
CATEGORIES:exposiciones,fotos carnaval
END:VEVENT
BEGIN:VEVENT
DTSTART;VALUE=DATE:20250221
DTEND;VALUE=DATE:20250310
DTSTAMP:20260420T012230
CREATED:20250210T132113Z
LAST-MODIFIED:20250317T213914Z
UID:17428-1740096000-1741564799@www.carnavaldecadiz.com
SUMMARY:Exposición TIPOS DE CUIDADO. Joaquín Hernández 'Kiki'
DESCRIPTION:El horario de visita es: \n\nde lunes a sábado de 11 a 19 horas (última entrada a las 18 horas)\nlos domingos y festivos de 11 a 14 horas (última entrada a las 13 horas).\n\nLas reservas pueden solicitarse en la siguiente dirección de correo electrónico: visita.lacasadelcarnaval@ext.cadiz.es. \nEntrada libre. \nMás información sobre el PROGRAMA de la Casa del Carnaval de Cádiz.
URL:https://www.carnavaldecadiz.com/event/exposicion-tipos-de-cuidado-joaquin-hernandez-kiki/
LOCATION:Casa del Carnaval\, Cádiz\, calle Marqués del Real Tesoro 15\, 17\, Cádiz\, Cádiz\, 11001\, España
CATEGORIES:casa del carnaval,exposiciones
END:VEVENT
BEGIN:VEVENT
DTSTART;VALUE=DATE:20250301
DTEND;VALUE=DATE:20250302
DTSTAMP:20260420T012230
CREATED:20250219T181758Z
LAST-MODIFIED:20250219T181758Z
UID:18102-1740787200-1740873599@www.carnavaldecadiz.com
SUMMARY:Programa Oficial Carnaval 2025
DESCRIPTION:SÁBADO 1 DE MARZO 2025\nGlorieta Ana Orantes – Maps \n\n13:00 a 18:00 h – JUEGOS TEMÁTICOS – Temática Medieval (Manualidades – Lanzamiento – Tiro con arco – Carrera Caballo – Aprendizaje de bailes Medievos – Pinta caras – Hena)\n13:00 h – “BATALLAS DE COPLAS” INFANTILES DEL COAC 2025\n\nMercado Central – Plaza del Palillero – Plaza Catedral. \n\n14:00 h – BATALLA DE COPLAS DEL COAC 2025 – Agrupaciones semifinalistas\n\nPlaza San Antonio – Maps \n\n20:30 h – PREGÓN DEL CARNAVAL 2025 a cargo de Antonio J. Caballero Molina\, ANTOÑITO MOLINA.\n\nGran Teatro Falla – Maps \n\n22:00 h – GRAN GALA DEL CARNAVAL – Actuación primeros premios adultos COAC 2025\n\nBarrio de la Viña – Plaza de San Antonio – Plaza de San Francisco. \n\n22:00 h – NOCHES DE CARNAVAL EN LA CALLE – Actuación primeros premios adultos COAC 2025\n\nNota: El Ayuntamiento de Cádiz avisa que el programa puede estar sujeto a posibles cambios. \nPROGRAMA COMPLETO
URL:https://www.carnavaldecadiz.com/event/programa-oficial-carnaval-2025-3/
LOCATION:Cádiz\, Cádiz\, Cádiz\, España
CATEGORIES:carnaval callejero
ATTACH;FMTTYPE=image/jpeg:https://www.carnavaldecadiz.com/wp-content/uploads/2025/02/AA2-1.jpg
END:VEVENT
BEGIN:VEVENT
DTSTART;VALUE=DATE:20250301
DTEND;VALUE=DATE:20250310
DTSTAMP:20260420T012230
CREATED:20250227T215637Z
LAST-MODIFIED:20250227T215637Z
UID:18569-1740787200-1741564799@www.carnavaldecadiz.com
SUMMARY:EscenARO Romancero
DESCRIPTION:PROGRAMA DE ACTIVIDADES\nSábado 1 de marzo \n\nDe 18:00h a 20:00h – Pases espontáneos sin programación\n\nSE RUEGA SILENCIO durante las actuaciones\, pretendemos un refugio contra los ruidos callejeros\, para proteger la modalidad más vulnerable. \nDomingo 2 de marzo\, desde las 13:30h. Pases programados. \n\nLos catedráticos del carnaval (Gómez y Paco Mesa)\nLa diosa Astartete (Inés Sánchez)\nHilma Af Klint de la calle Pasquín (Raquel Barcala)\nEste muerto está muy vivo (Kapu)\nNi cuarto ni medio (Romancero de los Mellis)\nEl Chano: De vuelta de tó (Zapico)\nEste tío es un hueso (Er Melena)\nLos imprescindibles (Kiko Quiñones)\nTe lo dije (Dani Casellas)\nTe puede pasar a ti (JM Caballero)\n\nSE RUEGA SILENCIO durante las actuaciones\, pretendemos un refugio contra los ruidos callejeros\, para proteger la modalidad más vulnerable. \nLunes 3 de marzo\, desde las 13:30h. Pases programados. \n\nLas auténticas aventuras de Didpul (Rafa Pay)\nLa trinchera de los tranchetes (Sales y Chulian)\nLas Pekadi Capitale (Eva Gómez y Ana Bartual)\nLa Colirio (Nazaret Jiménez)\n¿Quién no ha dicho olé? (Ana Niño)\nEl rentista se la da de artista (Karim de la FRAC)\nSe le está viendo el plumero (Manuel Rodan ‘Lin’)\nJohnny Gamba ‘El espía’ (Paco Bandu)\nEn la carpa yo te espero (Luismi)\nEl ex-franquista (Mini-romancero de Abraham)\nEsto tiene un Peluseo (Mini-romancero de ‘Er melena’)\nLo que el levante nos dejó (Inma)\nCádiz\, ciudad de vacaciones\n\nSE RUEGA SILENCIO durante las actuaciones\, pretendemos un refugio contra los ruidos callejeros\, para proteger la modalidad más vulnerable. \nMartes 4 de marzo\, desde las 19:30h. Pases programados. \n\nA baba bia ba caer… (Hermanos Beiro)\nMi niño na ha hecho (Carmen Verdugo y Paco Ladrón)\nKillo\, to día dando la nota (Javi Outón)\nLos amos del mundo (Javi y Gonso)\nLarga vida a la reina (Yoana)\n\nSE RUEGA SILENCIO durante las actuaciones\, pretendemos un refugio contra los ruidos callejeros\, para proteger la modalidad más vulnerable. \nViernes 7 de marzo\, desde las 18:00h romanceros infantiles\, y a partir de las 19:00h: \n\nEl callejetano (Romancero de Pau)\nSuper Trump (Wito)\nLa verdadera historia de San Pedro (Victor Gómez)\nHistoria de la familia sagrada (Sergio Torrecilla y Kuak Varela)\nDesde Oxford ha llegado… (El Santa)\nLos impresentables (Hermanos Barba)\nVota Balvox (Kike Harris)\n\nSE RUEGA SILENCIO durante las actuaciones\, pretendemos un refugio contra los ruidos callejeros\, para proteger la modalidad más vulnerable. \nDomingo 9 de marzo\, desde las 13:30h. Pases programados. \n\nLa última profecía de Nostramoi (Er Moi)\nEste tío es un hueso (Er Melena)\nLa verdadera historia de Anthony Amiraty (Mini-romancero Agu Barba)\nHilma Af Klint de la calle Pasquín (Raquel Barcala)\nEl rentista se la da de artista (Karim de la FRAC)\nLos impresentables (Hermanos Barba)\nLa colirio (Nazaret Jiménez)\nEl penurtimo gaditano (Monano y Javi Benitez)\nLa sociedad gastronómica de la nieve (Mini-romancero Barba)\nSan Francisco de Hachís y San Martín de Porros… (Cuqui y Ketama)\nVuestra Señora del Patrocinio (Mini-romancero Raquel Barcala)\nParacetamol hay que venir al sur (Mini-romancero Eva Gómez)\nPesadilla en ARO Street (mini-romancero Ana Bartual)\nLa increíble historia del peluquero de Kim Jong-Un (Bea)\nCamina o revienta (Kiko y Txapela)\n\nSE RUEGA SILENCIO durante las actuaciones\, pretendemos un refugio contra los ruidos callejeros\, para proteger la modalidad más vulnerable. \n  \n  \n  \n  \n 
URL:https://www.carnavaldecadiz.com/event/escenaro-romancero/
LOCATION:Sede Asociación de Romanceros ARO\, calle Regimiento de Infantería nº5 Bajo\, Cádiz\, Cádiz\, 11002\, Spain
CATEGORIES:actuaciones de carnaval
ATTACH;FMTTYPE=image/jpeg:https://www.carnavaldecadiz.com/wp-content/uploads/2025/02/ARO_logo.jpg
END:VEVENT
BEGIN:VEVENT
DTSTART;TZID=Europe/Madrid:20250301T130000
DTEND;TZID=Europe/Madrid:20250301T143000
DTSTAMP:20260420T012230
CREATED:20250224T133338Z
LAST-MODIFIED:20250224T133338Z
UID:18336-1740834000-1740839400@www.carnavaldecadiz.com
SUMMARY:Actuación de VENDEDORES DE ALEGRÍA
DESCRIPTION:Evento público de libre acceso.
URL:https://www.carnavaldecadiz.com/event/actuacion-de-vendedores-de-alegria/
LOCATION:Bar Doña Papa\, El Puerto de Santa María\, calle Clarinete\, El Puerto de Santa María\, Cádiz\, 11500\, Spain
CATEGORIES:actuaciones de carnaval
END:VEVENT
BEGIN:VEVENT
DTSTART;TZID=Europe/Madrid:20250301T130000
DTEND;TZID=Europe/Madrid:20250301T150000
DTSTAMP:20260420T012230
CREATED:20250219T193327Z
LAST-MODIFIED:20250219T193327Z
UID:18131-1740834000-1740841200@www.carnavaldecadiz.com
SUMMARY:II Certamen de Romanceros 'La vuelta al Cartelón'
DESCRIPTION:II CERTAMEN DE ROMANCEROS “LA VUELTA AL CARTELÓN” \nORDEN DE ACTUACIÓN \n\nCamina o revienta (Txapela y Kiko Butrón)\nEr penúrtimo gaditano (Javi Benítez y Monano)\nLos que fueron a Bayona y se quedaron sin Corona (Hermanos Moreno)\nEl Paraíso (Begoña Fuentes y Juan Antonio Andrades)\nLa Colirio (Nazaret Jiménez)\nTe puede pasar a ti (José Manuel Caballero)\nQuillo\, todo el día dando la nota (Javi Outón)\n\nEvento público de libre acceso.
URL:https://www.carnavaldecadiz.com/event/ii-certamen-de-romanceros-la-vuelta-al-cartelon-2/
LOCATION:AAVV San Carlos-Los negritos\, calle San Germán 2\, Cádiz\, Cádiz\, 11004\, España
CATEGORIES:actuaciones de carnaval
END:VEVENT
BEGIN:VEVENT
DTSTART;TZID=Europe/Madrid:20250301T133000
DTEND;TZID=Europe/Madrid:20250301T143000
DTSTAMP:20260420T012230
CREATED:20250219T201615Z
LAST-MODIFIED:20250219T201653Z
UID:18141-1740835800-1740839400@www.carnavaldecadiz.com
SUMMARY:Ensayo General de 'LAS CHOCHENTERAS'
DESCRIPTION:Las conocidas como ‘Las achicharrás’ es una chirigota callejera femenina que cantan por las calles de Cádiz en Carnaval desde 2022. Para saber MÁS \nEvento público de libre acceso. \n 
URL:https://www.carnavaldecadiz.com/event/ensayo-general-de-las-chochenteras/
LOCATION:Cafetería Ágora\, Cádiz\, Paseo Marítimo 4\, Cádiz\, Cádiz\, 11010\, Spain
CATEGORIES:actuaciones de carnaval
ATTACH;FMTTYPE=image/png:https://www.carnavaldecadiz.com/wp-content/uploads/2025/02/LAs-_chochenteras.png
END:VEVENT
BEGIN:VEVENT
DTSTART;TZID=Europe/Madrid:20250301T140000
DTEND;TZID=Europe/Madrid:20250301T170000
DTSTAMP:20260420T012230
CREATED:20250212T191824Z
LAST-MODIFIED:20250228T010324Z
UID:17602-1740837600-1740848400@www.carnavaldecadiz.com
SUMMARY:Festival de Coros Premio 'TÍO DE LA TIZA'
DESCRIPTION:Orden de actuación: \n\n\n14:00 Ley natura\n14:30 Son y sal\n15:00 Cádiz el show\n15:30 Asignatura pendiente\n16:00 Los malhablaos\n16:30 Los guardianes del Dios Momo\n17:00 La suerte de Cádiz\n17:30 Las entrañas de Cádiz\n18:00 !Que barbaridad!\n18:30 El grimorio\n19:00 El lado oscuro\n19:30 El gallinero\n\n\nEvento público de libre acceso.
URL:https://www.carnavaldecadiz.com/event/festival-de-coros-premio-tio-de-la-tiza/
LOCATION:Plaza Candelaria\, Plaza Candelaria\, Cádiz\, Cádiz\, 11005\, España
CATEGORIES:actuaciones de carnaval
ATTACH;FMTTYPE=image/jpeg:https://www.carnavaldecadiz.com/wp-content/uploads/2024/11/Pena_la_Estrella.jpg
END:VEVENT
BEGIN:VEVENT
DTSTART;TZID=Europe/Madrid:20250301T180000
DTEND;TZID=Europe/Madrid:20250301T200000
DTSTAMP:20260420T012230
CREATED:20250226T135010Z
LAST-MODIFIED:20250226T135010Z
UID:18486-1740852000-1740859200@www.carnavaldecadiz.com
SUMMARY:Sábado de Carnavalito en Arcos de la Frontera
DESCRIPTION:Evento público de libre acceso.
URL:https://www.carnavaldecadiz.com/event/sabado-de-carnavalito-en-arcos-de-la-frontera/
LOCATION:Arcos de la Frontera\, Arcos de la Frontera\, Arcos de la Frontera\, Cádiz\, 11630\, España
CATEGORIES:actuaciones de carnaval
END:VEVENT
END:VCALENDAR