BEGIN:VCALENDAR
VERSION:2.0
PRODID:-//Carnaval de C&aacute;diz - ECPv6.15.20//NONSGML v1.0//EN
CALSCALE:GREGORIAN
METHOD:PUBLISH
X-WR-CALNAME:Carnaval de C&aacute;diz
X-ORIGINAL-URL:https://www.carnavaldecadiz.com
X-WR-CALDESC:Eventos para Carnaval de C&aacute;diz
REFRESH-INTERVAL;VALUE=DURATION:PT1H
X-Robots-Tag:noindex
X-PUBLISHED-TTL:PT1H
BEGIN:VTIMEZONE
TZID:Europe/Madrid
BEGIN:DAYLIGHT
TZOFFSETFROM:+0100
TZOFFSETTO:+0200
TZNAME:CEST
DTSTART:20240331T010000
END:DAYLIGHT
BEGIN:STANDARD
TZOFFSETFROM:+0200
TZOFFSETTO:+0100
TZNAME:CET
DTSTART:20241027T010000
END:STANDARD
BEGIN:DAYLIGHT
TZOFFSETFROM:+0100
TZOFFSETTO:+0200
TZNAME:CEST
DTSTART:20250330T010000
END:DAYLIGHT
BEGIN:STANDARD
TZOFFSETFROM:+0200
TZOFFSETTO:+0100
TZNAME:CET
DTSTART:20251026T010000
END:STANDARD
BEGIN:DAYLIGHT
TZOFFSETFROM:+0100
TZOFFSETTO:+0200
TZNAME:CEST
DTSTART:20260329T010000
END:DAYLIGHT
BEGIN:STANDARD
TZOFFSETFROM:+0200
TZOFFSETTO:+0100
TZNAME:CET
DTSTART:20261025T010000
END:STANDARD
END:VTIMEZONE
BEGIN:VEVENT
DTSTART;VALUE=DATE:20250213
DTEND;VALUE=DATE:20250305
DTSTAMP:20260420T025721
CREATED:20250213T213439Z
LAST-MODIFIED:20250213T213439Z
UID:17699-1739404800-1741132799@www.carnavaldecadiz.com
SUMMARY:Exposición Fotográfica 'Kiki: Objetivo los 80. La década mágica del Carnaval'
DESCRIPTION:Horario de visitas: \nDe lunes a viernes de 9:00h a 20:45h \nEvento público de libre acceso.
URL:https://www.carnavaldecadiz.com/event/exposicion-fotografica-kiki-objetivo-los-80-la-decada-magica-del-carnaval/
LOCATION:Biblioteca Municipal\, García Gutierrez\, Chiclana\, calle la Vega 6\, Chiclana de la Frontera\, Cádiz\, 11130\, Spain
CATEGORIES:exposiciones,fotos carnaval
END:VEVENT
BEGIN:VEVENT
DTSTART;VALUE=DATE:20250213
DTEND;VALUE=DATE:20250310
DTSTAMP:20260420T025721
CREATED:20250210T130500Z
LAST-MODIFIED:20250317T213341Z
UID:17416-1739404800-1741564799@www.carnavaldecadiz.com
SUMMARY:Exposición EL ARTE DEL CARNAVAL
DESCRIPTION:Exposición EL ARTE DEL CARNAVAL. Historia visual a través de sus carteles. \nEl horario de visita es: \n\nde lunes a sábado de 11 a 19 horas (última entrada a las 18 horas)\nlos domingos y festivos de 11 a 14 horas (última entrada a las 13 horas).\n\nLas reservas pueden solicitarse en la siguiente dirección de correo electrónico: visita.lacasadelcarnaval@ext.cadiz.es. \nEntrada libre. \nMás información sobre el PROGRAMA de la Casa del Carnaval de Cádiz.
URL:https://www.carnavaldecadiz.com/event/exposicion-el-arte-del-carnaval/
LOCATION:Casa del Carnaval\, Cádiz\, calle Marqués del Real Tesoro 15\, 17\, Cádiz\, Cádiz\, 11001\, España
CATEGORIES:casa del carnaval,exposiciones
END:VEVENT
BEGIN:VEVENT
DTSTART;VALUE=DATE:20250214
DTEND;VALUE=DATE:20250310
DTSTAMP:20260420T025721
CREATED:20250210T131058Z
LAST-MODIFIED:20250317T213548Z
UID:17419-1739491200-1741564799@www.carnavaldecadiz.com
SUMMARY:El Carnaval de Cádiz a Lápiz\, por Irene Vélez
DESCRIPTION:El horario de visita es: \n\nde lunes a sábado de 11 a 19 horas (última entrada a las 18 horas)\nlos domingos y festivos de 11 a 14 horas (última entrada a las 13 horas).\n\nLas reservas pueden solicitarse en la siguiente dirección de correo electrónico: visita.lacasadelcarnaval@ext.cadiz.es. \nEntrada libre. \nMás información sobre el PROGRAMA de la Casa del Carnaval de Cádiz.
URL:https://www.carnavaldecadiz.com/event/el-carnaval-de-cadiz-a-lapiz-por-irene-velez/
LOCATION:Casa del Carnaval\, Cádiz\, calle Marqués del Real Tesoro 15\, 17\, Cádiz\, Cádiz\, 11001\, España
CATEGORIES:casa del carnaval,exposiciones
END:VEVENT
BEGIN:VEVENT
DTSTART;VALUE=DATE:20250218
DTEND;VALUE=DATE:20250310
DTSTAMP:20260420T025721
CREATED:20250210T131656Z
LAST-MODIFIED:20250317T213739Z
UID:17425-1739836800-1741564799@www.carnavaldecadiz.com
SUMMARY:Exposición DOSCOLORETES
DESCRIPTION:Exposición DOSCOLORETES\, La evolución del maquillaje en el Carnaval de Cádiz\, camerino de artes y horrores por Sara Romero. \nEl horario de visita es: \n\nde lunes a sábado de 11 a 19 horas (última entrada a las 18 horas)\nlos domingos y festivos de 11 a 14 horas (última entrada a las 13 horas).\n\nLas reservas pueden solicitarse en la siguiente dirección de correo electrónico: visita.lacasadelcarnaval@ext.cadiz.es. \nEntrada libre. \nMás información sobre el PROGRAMA de la Casa del Carnaval de Cádiz.
URL:https://www.carnavaldecadiz.com/event/exposicion-doscoloretes/
LOCATION:Casa del Carnaval\, Cádiz\, calle Marqués del Real Tesoro 15\, 17\, Cádiz\, Cádiz\, 11001\, España
CATEGORIES:casa del carnaval,exposiciones
END:VEVENT
BEGIN:VEVENT
DTSTART;VALUE=DATE:20250220
DTEND;VALUE=DATE:20250309
DTSTAMP:20260420T025721
CREATED:20250214T230745Z
LAST-MODIFIED:20250217T214037Z
UID:17830-1740009600-1741478399@www.carnavaldecadiz.com
SUMMARY:EXPOSICIÓN '1925-2025. Carnaval y Radio. Un siglo de sintonía en Cádiz' de Javier Osuna.
DESCRIPTION:Javier Osuna García\, que ha vivido el carnaval desde todos sus aspectos y que trabaja en la radio\, nos sorprende de nuevo con otra magnífica exposición en Fundación Cajasol. Rocío Hernández Romero ha colaborado con retratos de los radiofonistas del carnaval. \nHorario: de lunes a sábado\, de 11.00 a 14.00 horas y de 16.00 a 20.00 horas. Domingos y festivos\, cerrado. \nEntrada libre hasta completar el aforo.
URL:https://www.carnavaldecadiz.com/event/exposicion-1925-2025-carnaval-y-radio-un-siglo-de-sintonia-en-cadiz-de-javier-osuna/
LOCATION:Fundación CajaSol\, Cádiz\, Plaza de San Antonio 13\, Cádiz\, Cádiz\, 11003\, España
CATEGORIES:exposiciones,fotos carnaval
END:VEVENT
BEGIN:VEVENT
DTSTART;VALUE=DATE:20250221
DTEND;VALUE=DATE:20250224
DTSTAMP:20260420T025721
CREATED:20250219T195307Z
LAST-MODIFIED:20250219T195307Z
UID:18134-1740096000-1740355199@www.carnavaldecadiz.com
SUMMARY:Actuaciones de la Chirigota Callejera '¡Ahora caigo!'
DESCRIPTION:Viernes 21 a las 21:00h – Septimo Arte Gastro Bar – Calle San Sebastian \nSábado 22 \n\na las 13:00h – Asador Freiduría Sánchez – Calle Reyes Católicos\na las 17:00h – Heladería Marsalao – Avenida de la Playa s/n\na las 20:30h – Bar El Mirlo – Calle Padre Ramirez 1\n\nDomingo 23 \n\na las 13:20h – Ronda Norte –\na las 14:40h – Barrio de la Mar –\n\n 
URL:https://www.carnavaldecadiz.com/event/actuaciones-de-la-chirigota-callejera-ahora-caigo/
LOCATION:Conil de la Frontera\, Conil de la Frontera\, Conil de la Frontera\, Cádiz\, 11140\, España
CATEGORIES:actuaciones de carnaval
END:VEVENT
BEGIN:VEVENT
DTSTART;VALUE=DATE:20250221
DTEND;VALUE=DATE:20250310
DTSTAMP:20260420T025721
CREATED:20250210T132113Z
LAST-MODIFIED:20250317T213914Z
UID:17428-1740096000-1741564799@www.carnavaldecadiz.com
SUMMARY:Exposición TIPOS DE CUIDADO. Joaquín Hernández 'Kiki'
DESCRIPTION:El horario de visita es: \n\nde lunes a sábado de 11 a 19 horas (última entrada a las 18 horas)\nlos domingos y festivos de 11 a 14 horas (última entrada a las 13 horas).\n\nLas reservas pueden solicitarse en la siguiente dirección de correo electrónico: visita.lacasadelcarnaval@ext.cadiz.es. \nEntrada libre. \nMás información sobre el PROGRAMA de la Casa del Carnaval de Cádiz.
URL:https://www.carnavaldecadiz.com/event/exposicion-tipos-de-cuidado-joaquin-hernandez-kiki/
LOCATION:Casa del Carnaval\, Cádiz\, calle Marqués del Real Tesoro 15\, 17\, Cádiz\, Cádiz\, 11001\, España
CATEGORIES:casa del carnaval,exposiciones
END:VEVENT
BEGIN:VEVENT
DTSTART;TZID=Europe/Madrid:20250223T120000
DTEND;TZID=Europe/Madrid:20250223T170000
DTSTAMP:20260420T025721
CREATED:20250217T185506Z
LAST-MODIFIED:20250217T185506Z
UID:17971-1740312000-1740330000@www.carnavaldecadiz.com
SUMMARY:Carnaval en Pinto.
DESCRIPTION:
URL:https://www.carnavaldecadiz.com/event/carnaval-en-pinto/
LOCATION:Casa de Andalucía\, Pinto\, Avenida de Europa 21\, Pinto\, Madrid\, España
CATEGORIES:actuaciones de carnaval
END:VEVENT
BEGIN:VEVENT
DTSTART;TZID=Europe/Madrid:20250223T123000
DTEND;TZID=Europe/Madrid:20250223T143000
DTSTAMP:20260420T025721
CREATED:20250219T203959Z
LAST-MODIFIED:20250219T203959Z
UID:18148-1740313800-1740321000@www.carnavaldecadiz.com
SUMMARY:Antología del Coro de Puerto Real
DESCRIPTION:Evento público de libre acceso.
URL:https://www.carnavaldecadiz.com/event/antologia-del-coro-de-puerto-real/
LOCATION:Club Social Exartes\, Puerto Real.\, calle San Alejandro 41\, Puerto Real\, Cádiz\, 11510\, Spain
CATEGORIES:actuaciones de carnaval
END:VEVENT
BEGIN:VEVENT
DTSTART;TZID=Europe/Madrid:20250223T130000
DTEND;TZID=Europe/Madrid:20250223T140000
DTSTAMP:20260420T025721
CREATED:20250217T185135Z
LAST-MODIFIED:20250217T185135Z
UID:17967-1740315600-1740319200@www.carnavaldecadiz.com
SUMMARY:Actuación de la Chirigota Callejera de Fernado Conde
DESCRIPTION:Ficha de la Chirigota de Fernando Conde – ‘SE LIÓ LA GORDA’ \nEvento público de libre acceso.
URL:https://www.carnavaldecadiz.com/event/actuacion-de-la-chirigota-callejera-de-fernado-conde/
LOCATION:Frappé\, Gines\, calle Asturias 2\, Gines\, Sevilla\, 41960\, Spain
CATEGORIES:actuaciones de carnaval
END:VEVENT
BEGIN:VEVENT
DTSTART;TZID=Europe/Madrid:20250223T130000
DTEND;TZID=Europe/Madrid:20250223T170000
DTSTAMP:20260420T025721
CREATED:20250211T151659Z
LAST-MODIFIED:20250211T151659Z
UID:17526-1740315600-1740330000@www.carnavaldecadiz.com
SUMMARY:VI Encuentro de Carnaval Callejero en Sevilla
DESCRIPTION:Actuarán: \n\nChirigota – Los Mr Wonderfull\nChirigota – Habemvs Mama\nChirigota – Sexto Milenium la hora de Juan y Medium\nRomancero – ¿Aliado? ¡El que tengo aquí colgao!\nChirigota – L´avangelio de las 13\nChirigota – Los Brothers\nCuarteto – Los que no se aclaran\nChirigota – Los chivatos\n\nEvento público de libre acceso.
URL:https://www.carnavaldecadiz.com/event/vi-encuentro-de-carnaval-callejero-en-sevilla-2/
LOCATION:AVV San Diego\, Sevilla\, Núcleo Residencial\, San Diego\, local 53\, Sevilla\, Sevilla\, 41015\, Spain
CATEGORIES:actuaciones de carnaval
END:VEVENT
BEGIN:VEVENT
DTSTART;TZID=Europe/Madrid:20250223T130000
DTEND;TZID=Europe/Madrid:20250223T170000
DTSTAMP:20260420T025721
CREATED:20250217T183504Z
LAST-MODIFIED:20250217T183504Z
UID:17961-1740315600-1740330000@www.carnavaldecadiz.com
SUMMARY:XXXIV Morcillá
DESCRIPTION:Morcillas\, cerveza y carnaval.
URL:https://www.carnavaldecadiz.com/event/xxxiv-morcilla/
LOCATION:Bornos\, Bornos\, Cádiz\, 11640\, España
CATEGORIES:actuaciones de carnaval,Comida popular
END:VEVENT
BEGIN:VEVENT
DTSTART;TZID=Europe/Madrid:20250223T130000
DTEND;TZID=Europe/Madrid:20250223T170000
DTSTAMP:20260420T025721
CREATED:20250217T190530Z
LAST-MODIFIED:20250217T190530Z
UID:17974-1740315600-1740330000@www.carnavaldecadiz.com
SUMMARY:Mejilloná Popular en San Roque
DESCRIPTION:Evento público de libre acceso
URL:https://www.carnavaldecadiz.com/event/mejillona-popular-en-san-roque/
LOCATION:Templete Alameda\, San Roque\, Plaza de Andalucía\, San Roque\, Cádiz\, 11360\, Spain
CATEGORIES:actuaciones de carnaval,Comida popular
END:VEVENT
BEGIN:VEVENT
DTSTART;TZID=Europe/Madrid:20250223T170000
DTEND;TZID=Europe/Madrid:20250223T190000
DTSTAMP:20260420T025721
CREATED:20250219T203130Z
LAST-MODIFIED:20250219T203130Z
UID:18145-1740330000-1740337200@www.carnavaldecadiz.com
SUMMARY:Cara a Cara Chirigotero en Conil
DESCRIPTION:Atuarán: \n\nLa chirigota callejera de Camacho ‘LAS PLUSCUANPERFECTAS’\nLa chirigota del Sofri ‘LOS GOLPES DE PECHO’\n\nEvento público de libre acceso. \n 
URL:https://www.carnavaldecadiz.com/event/cara-a-cara-chirigotero-en-conil/
LOCATION:Botánica\, Conil\, Urbanización La Atalaya\, calle La rotonda\, Conil\, Cádiz\, 11140\, Spain
CATEGORIES:actuaciones de carnaval
END:VEVENT
BEGIN:VEVENT
DTSTART;TZID=Europe/Madrid:20250223T170000
DTEND;TZID=Europe/Madrid:20250223T190000
DTSTAMP:20260420T025721
CREATED:20250219T210328Z
LAST-MODIFIED:20250219T210328Z
UID:18155-1740330000-1740337200@www.carnavaldecadiz.com
SUMMARY:Carnaval en Falso Mito\, Conil.
DESCRIPTION:Actuarán: \nCuartetito del Sofri – Y yo de el Colorao \nChirigota del Rufino – Los vainas \nEvento público de libre acceso\,
URL:https://www.carnavaldecadiz.com/event/carnaval-en-falso-mito-conil-2/
LOCATION:Falso Mito\, Conil\, calle Torre de Roche\, Conil de la Frontera\, Cádiz\, 11140\, España
CATEGORIES:actuaciones de carnaval
END:VEVENT
END:VCALENDAR