BEGIN:VCALENDAR
VERSION:2.0
PRODID:-//Carnaval de C&aacute;diz - ECPv6.15.20//NONSGML v1.0//EN
CALSCALE:GREGORIAN
METHOD:PUBLISH
X-WR-CALNAME:Carnaval de C&aacute;diz
X-ORIGINAL-URL:https://www.carnavaldecadiz.com
X-WR-CALDESC:Eventos para Carnaval de C&aacute;diz
REFRESH-INTERVAL;VALUE=DURATION:PT1H
X-Robots-Tag:noindex
X-PUBLISHED-TTL:PT1H
BEGIN:VTIMEZONE
TZID:Europe/Madrid
BEGIN:DAYLIGHT
TZOFFSETFROM:+0100
TZOFFSETTO:+0200
TZNAME:CEST
DTSTART:20240331T010000
END:DAYLIGHT
BEGIN:STANDARD
TZOFFSETFROM:+0200
TZOFFSETTO:+0100
TZNAME:CET
DTSTART:20241027T010000
END:STANDARD
BEGIN:DAYLIGHT
TZOFFSETFROM:+0100
TZOFFSETTO:+0200
TZNAME:CEST
DTSTART:20250330T010000
END:DAYLIGHT
BEGIN:STANDARD
TZOFFSETFROM:+0200
TZOFFSETTO:+0100
TZNAME:CET
DTSTART:20251026T010000
END:STANDARD
BEGIN:DAYLIGHT
TZOFFSETFROM:+0100
TZOFFSETTO:+0200
TZNAME:CEST
DTSTART:20260329T010000
END:DAYLIGHT
BEGIN:STANDARD
TZOFFSETFROM:+0200
TZOFFSETTO:+0100
TZNAME:CET
DTSTART:20261025T010000
END:STANDARD
END:VTIMEZONE
BEGIN:VEVENT
DTSTART;VALUE=DATE:20250213
DTEND;VALUE=DATE:20250305
DTSTAMP:20260420T025751
CREATED:20250213T213439Z
LAST-MODIFIED:20250213T213439Z
UID:17699-1739404800-1741132799@www.carnavaldecadiz.com
SUMMARY:Exposición Fotográfica 'Kiki: Objetivo los 80. La década mágica del Carnaval'
DESCRIPTION:Horario de visitas: \nDe lunes a viernes de 9:00h a 20:45h \nEvento público de libre acceso.
URL:https://www.carnavaldecadiz.com/event/exposicion-fotografica-kiki-objetivo-los-80-la-decada-magica-del-carnaval/
LOCATION:Biblioteca Municipal\, García Gutierrez\, Chiclana\, calle la Vega 6\, Chiclana de la Frontera\, Cádiz\, 11130\, Spain
CATEGORIES:exposiciones,fotos carnaval
END:VEVENT
BEGIN:VEVENT
DTSTART;VALUE=DATE:20250213
DTEND;VALUE=DATE:20250310
DTSTAMP:20260420T025751
CREATED:20250210T130500Z
LAST-MODIFIED:20250317T213341Z
UID:17416-1739404800-1741564799@www.carnavaldecadiz.com
SUMMARY:Exposición EL ARTE DEL CARNAVAL
DESCRIPTION:Exposición EL ARTE DEL CARNAVAL. Historia visual a través de sus carteles. \nEl horario de visita es: \n\nde lunes a sábado de 11 a 19 horas (última entrada a las 18 horas)\nlos domingos y festivos de 11 a 14 horas (última entrada a las 13 horas).\n\nLas reservas pueden solicitarse en la siguiente dirección de correo electrónico: visita.lacasadelcarnaval@ext.cadiz.es. \nEntrada libre. \nMás información sobre el PROGRAMA de la Casa del Carnaval de Cádiz.
URL:https://www.carnavaldecadiz.com/event/exposicion-el-arte-del-carnaval/
LOCATION:Casa del Carnaval\, Cádiz\, calle Marqués del Real Tesoro 15\, 17\, Cádiz\, Cádiz\, 11001\, España
CATEGORIES:casa del carnaval,exposiciones
END:VEVENT
BEGIN:VEVENT
DTSTART;VALUE=DATE:20250214
DTEND;VALUE=DATE:20250216
DTSTAMP:20260420T025751
CREATED:20250213T133819Z
LAST-MODIFIED:20250213T133819Z
UID:17669-1739491200-1739663999@www.carnavaldecadiz.com
SUMMARY:Gala Infantil de Carnaval en Alcalá de Guadaira
DESCRIPTION:Programa de actividades: \nViernes 14 de febrero \n\n16.30 h –  Entrega de premios a los ganadores del concurso de los carteles de Carnaval infantil\,\nActuaciones de las agrupaciones de la Escuela de Carnaval de Alcalá de Guadaira.\nActuación de una chirigota infantil de Mairena del Alcor.\n\nSábado 15 de febrero \n\n16.00 h – Pregón de Lucía Guillén\,\nActuaciones de las agrupaciones de la Escuela de Carnaval de Alcalá de Guadaira\nActuación de grupos de la cantera del Carnaval de Cádiz: cuarteto infantil  ‘Los del Quinto Pino’\, chirigota juvenil ‘Las Gitaneras’ y comparsa juvenil ‘Generación Z’.\n\nEvento público de libre acceso. \n 
URL:https://www.carnavaldecadiz.com/event/gala-infantil-de-carnaval-en-alcala-de-guadaira/
LOCATION:Teatro Gutierrez de Alba\, calle Nuestra Señora del Águila 49\, Alcalá de Guadaira\, Sevilla\, 41500\, España
CATEGORIES:actuaciones de carnaval
END:VEVENT
BEGIN:VEVENT
DTSTART;VALUE=DATE:20250214
DTEND;VALUE=DATE:20250310
DTSTAMP:20260420T025751
CREATED:20250210T131058Z
LAST-MODIFIED:20250317T213548Z
UID:17419-1739491200-1741564799@www.carnavaldecadiz.com
SUMMARY:El Carnaval de Cádiz a Lápiz\, por Irene Vélez
DESCRIPTION:El horario de visita es: \n\nde lunes a sábado de 11 a 19 horas (última entrada a las 18 horas)\nlos domingos y festivos de 11 a 14 horas (última entrada a las 13 horas).\n\nLas reservas pueden solicitarse en la siguiente dirección de correo electrónico: visita.lacasadelcarnaval@ext.cadiz.es. \nEntrada libre. \nMás información sobre el PROGRAMA de la Casa del Carnaval de Cádiz.
URL:https://www.carnavaldecadiz.com/event/el-carnaval-de-cadiz-a-lapiz-por-irene-velez/
LOCATION:Casa del Carnaval\, Cádiz\, calle Marqués del Real Tesoro 15\, 17\, Cádiz\, Cádiz\, 11001\, España
CATEGORIES:casa del carnaval,exposiciones
END:VEVENT
BEGIN:VEVENT
DTSTART;TZID=Europe/Madrid:20250214T190000
DTEND;TZID=Europe/Madrid:20250214T203000
DTSTAMP:20260420T025751
CREATED:20250211T154155Z
LAST-MODIFIED:20250211T154242Z
UID:17538-1739559600-1739565000@www.carnavaldecadiz.com
SUMMARY:Presentación de EL CARNAVAL DE CÁDIZ de Moisés Camacho
DESCRIPTION:Evento público de libre acceso.
URL:https://www.carnavaldecadiz.com/event/presentacion-de-eo-carnaval-de-cadiz-de-moises-camacho/
LOCATION:Espacio de Cultura Contemporánea ECCO\, Cádiz\, Paseo Carlos III\, 5\, Cádiz\, Cádiz\, 11003\, España
CATEGORIES:Libros de Carnaval
END:VEVENT
BEGIN:VEVENT
DTSTART;TZID=Europe/Madrid:20250214T200000
DTEND;TZID=Europe/Madrid:20250214T210000
DTSTAMP:20260420T025751
CREATED:20250211T211008Z
LAST-MODIFIED:20250211T211008Z
UID:17564-1739563200-1739566800@www.carnavaldecadiz.com
SUMMARY:Ensayo General de Romanceros en la Clave de San Pedro
DESCRIPTION:Ensayo General de los romanceros: \n\nMi niño ha ha hecho – Carmen Verdugo y Paco Ladrón de Guevara.\nLarga vida a la reina – Del Yona\n\nEvento público de libre acceso.
URL:https://www.carnavaldecadiz.com/event/ensayo-general-de-romanceros-en-la-clave-de-san-pedro/
LOCATION:La Clave de San Pedro\, Cádiz\, calle San Pedro 1\, Cádiz\, Cádiz\, 11004\, Spain
CATEGORIES:actuaciones de carnaval
END:VEVENT
BEGIN:VEVENT
DTSTART;TZID=Europe/Madrid:20250214T200000
DTEND;TZID=Europe/Madrid:20250214T213000
DTSTAMP:20260420T025751
CREATED:20250213T215346Z
LAST-MODIFIED:20250213T215346Z
UID:17707-1739563200-1739568600@www.carnavaldecadiz.com
SUMMARY:Noche de Romanceros
DESCRIPTION:Evento público de libre acceso.
URL:https://www.carnavaldecadiz.com/event/noche-de-romanceros/
LOCATION:AVV Barrio de Santa María\, Cádiz\, calle Suarez de Salazar 8 bajo\, Cádiz\, Cádiz\, 11006\, Spain
CATEGORIES:actuaciones de carnaval
END:VEVENT
BEGIN:VEVENT
DTSTART;TZID=Europe/Madrid:20250214T210000
DTEND;TZID=Europe/Madrid:20250214T223000
DTSTAMP:20260420T025751
CREATED:20250210T181110Z
LAST-MODIFIED:20250210T181110Z
UID:17439-1739566800-1739572200@www.carnavaldecadiz.com
SUMMARY:Actuación de la Comparsa LOS ARTISTAS
DESCRIPTION:Evento público de libre acceso.
URL:https://www.carnavaldecadiz.com/event/actuacion-de-la-comparsa-los-artistas/
LOCATION:Auditorio Pedro Almodovar\, Puertollano\, Plaza Mariana Pineda\, Puertollano\, Ciudad Real\, 13500\, Spain
CATEGORIES:actuaciones de carnaval
END:VEVENT
BEGIN:VEVENT
DTSTART;TZID=Europe/Madrid:20250214T210000
DTEND;TZID=Europe/Madrid:20250214T233000
DTSTAMP:20260420T025751
CREATED:20250211T152901Z
LAST-MODIFIED:20250211T152901Z
UID:17529-1739566800-1739575800@www.carnavaldecadiz.com
SUMMARY:Ensayo General de Romanceros en el Pay-pay
DESCRIPTION:Evento público de libre acceso.
URL:https://www.carnavaldecadiz.com/event/ensayo-general-de-romanceros-en-el-pay-pay/
LOCATION:Café Tatro Pay Pay\, C/ Silencio\, Cádiz\, Cádiz\, 11002
CATEGORIES:actuaciones de carnaval
END:VEVENT
BEGIN:VEVENT
DTSTART;TZID=Europe/Madrid:20250214T220000
DTEND;TZID=Europe/Madrid:20250214T230000
DTSTAMP:20260420T025751
CREATED:20250211T153547Z
LAST-MODIFIED:20250211T153547Z
UID:17534-1739570400-1739574000@www.carnavaldecadiz.com
SUMMARY:Ensayo General de LOS PROGRESISTAS SE LA DAN DE ARTISTAS
DESCRIPTION:Evento público de libre acceso.
URL:https://www.carnavaldecadiz.com/event/ensayo-general-de-los-progresistas-se-la-dan-de-artistas/
LOCATION:Las Sra Pop\, Sevilla\, calle Amor de Dios 55\, correduría 1\, Sevilla\, Sevilla\, 41002\, Spain
CATEGORIES:actuaciones de carnaval
END:VEVENT
END:VCALENDAR