BEGIN:VCALENDAR
VERSION:2.0
PRODID:-//Carnaval de C&aacute;diz - ECPv6.15.20//NONSGML v1.0//EN
CALSCALE:GREGORIAN
METHOD:PUBLISH
X-WR-CALNAME:Carnaval de C&aacute;diz
X-ORIGINAL-URL:https://www.carnavaldecadiz.com
X-WR-CALDESC:Eventos para Carnaval de C&aacute;diz
REFRESH-INTERVAL;VALUE=DURATION:PT1H
X-Robots-Tag:noindex
X-PUBLISHED-TTL:PT1H
BEGIN:VTIMEZONE
TZID:Europe/Madrid
BEGIN:DAYLIGHT
TZOFFSETFROM:+0100
TZOFFSETTO:+0200
TZNAME:CEST
DTSTART:20240331T010000
END:DAYLIGHT
BEGIN:STANDARD
TZOFFSETFROM:+0200
TZOFFSETTO:+0100
TZNAME:CET
DTSTART:20241027T010000
END:STANDARD
BEGIN:DAYLIGHT
TZOFFSETFROM:+0100
TZOFFSETTO:+0200
TZNAME:CEST
DTSTART:20250330T010000
END:DAYLIGHT
BEGIN:STANDARD
TZOFFSETFROM:+0200
TZOFFSETTO:+0100
TZNAME:CET
DTSTART:20251026T010000
END:STANDARD
BEGIN:DAYLIGHT
TZOFFSETFROM:+0100
TZOFFSETTO:+0200
TZNAME:CEST
DTSTART:20260329T010000
END:DAYLIGHT
BEGIN:STANDARD
TZOFFSETFROM:+0200
TZOFFSETTO:+0100
TZNAME:CET
DTSTART:20261025T010000
END:STANDARD
END:VTIMEZONE
BEGIN:VEVENT
DTSTART;TZID=Europe/Madrid:20250202T150000
DTEND;TZID=Europe/Madrid:20250202T180000
DTSTAMP:20260420T025751
CREATED:20250128T171719Z
LAST-MODIFIED:20250202T003552Z
UID:16649-1738508400-1738519200@www.carnavaldecadiz.com
SUMMARY:ADOQUINAZO. Concurso al peor cuplé del carnaval ilegal.
DESCRIPTION:Concurso al peor cuplé del Carnaval ilegal\, organizado por la Peña Los Adoquines. \nComo siempre se presentará un cuplé a concurso y se cantará un segundo algo mejorcito para quitar el mal sabor de boca. \nEl cuplé a concurso no puede hacerse exprofeso (en serio\, el premio no es pa tanto) sino que\, como mínimo\, debe estar en el libreto del año anterior o similar. \nQuienes concursen deben aceptar abucheos y demás con poca vergüenza carnavaleras. \nPara apuntarte ponte en contacto con nosotros por nuestras redes\, Facebook por ejemplo \nEl acto coincidirá con la ostioná. Se advierte al público de que no pueden arrojarse conchas de ostiones a los concursantes\, que escoñan. \nEvento publico de libre acceso.
URL:https://www.carnavaldecadiz.com/event/adoquinazo-concurso-al-peor-cuple-del-carnaval-ilegal/
LOCATION:Peña Los Adoquines\, calle Sagasta 91\, Cádiz\, Cádiz\, 11002\, España
CATEGORIES:actuaciones de carnaval,carnaval callejero
END:VEVENT
END:VCALENDAR