BEGIN:VCALENDAR
VERSION:2.0
PRODID:-//Carnaval de C&aacute;diz - ECPv6.15.20//NONSGML v1.0//EN
CALSCALE:GREGORIAN
METHOD:PUBLISH
X-ORIGINAL-URL:https://www.carnavaldecadiz.com
X-WR-CALDESC:Eventos para Carnaval de C&aacute;diz
REFRESH-INTERVAL;VALUE=DURATION:PT1H
X-Robots-Tag:noindex
X-PUBLISHED-TTL:PT1H
BEGIN:VTIMEZONE
TZID:Europe/Madrid
BEGIN:DAYLIGHT
TZOFFSETFROM:+0100
TZOFFSETTO:+0200
TZNAME:CEST
DTSTART:20240331T010000
END:DAYLIGHT
BEGIN:STANDARD
TZOFFSETFROM:+0200
TZOFFSETTO:+0100
TZNAME:CET
DTSTART:20241027T010000
END:STANDARD
BEGIN:DAYLIGHT
TZOFFSETFROM:+0100
TZOFFSETTO:+0200
TZNAME:CEST
DTSTART:20250330T010000
END:DAYLIGHT
BEGIN:STANDARD
TZOFFSETFROM:+0200
TZOFFSETTO:+0100
TZNAME:CET
DTSTART:20251026T010000
END:STANDARD
BEGIN:DAYLIGHT
TZOFFSETFROM:+0100
TZOFFSETTO:+0200
TZNAME:CEST
DTSTART:20260329T010000
END:DAYLIGHT
BEGIN:STANDARD
TZOFFSETFROM:+0200
TZOFFSETTO:+0100
TZNAME:CET
DTSTART:20261025T010000
END:STANDARD
END:VTIMEZONE
BEGIN:VEVENT
DTSTART;TZID=Europe/Madrid:20250125T173000
DTEND;TZID=Europe/Madrid:20250125T183000
DTSTAMP:20260420T043259
CREATED:20250118T155613Z
LAST-MODIFIED:20250118T155613Z
UID:16242-1737826200-1737829800@www.carnavaldecadiz.com
SUMMARY:Carnaval de Cádiz en Mérida
DESCRIPTION:Evento público de libre acceso.
URL:https://www.carnavaldecadiz.com/event/carnaval-de-cadiz-en-merida-6/
LOCATION:Club de Petanca Jesús Delgado\, Mérida\, calle Vicente Aleixandre 13\, Mérida\, Badajoz\, 06800\, Spain
CATEGORIES:actuaciones de carnaval
END:VEVENT
BEGIN:VEVENT
DTSTART;TZID=Europe/Madrid:20250125T180000
DTEND;TZID=Europe/Madrid:20250125T193000
DTSTAMP:20260420T043259
CREATED:20250123T200111Z
LAST-MODIFIED:20250123T200238Z
UID:16417-1737828000-1737833400@www.carnavaldecadiz.com
SUMMARY:Presentación del libro de Moisés Camacho 'El carnaval de Cádiz'
DESCRIPTION:Acto presentado por David AmayaMoisés es Doctor en Artes y Humanidades por la Universidad de Cádiz y en su currículum carnavalesco destaca la autoría en chirigotas como “Los de Gris”\, “Hoy no me puedo levantar”\, “Los Piratas Informáticos” o “Los psicólogos”.  \n  \nEvento público de libre acceso.
URL:https://www.carnavaldecadiz.com/event/presentacion-del-libro-de-moises-camacho-el-carnaval-de-cadiz/
LOCATION:Bar Puerta\, calle San Agustín 52\, Sanlúcar de Barrameda\, Cádiz\, 11540\, España
CATEGORIES:Libros de Carnaval
ATTACH;FMTTYPE=image/jpeg:https://www.carnavaldecadiz.com/wp-content/uploads/2025/01/0125Sanlucar.jpg
END:VEVENT
END:VCALENDAR