BEGIN:VCALENDAR
VERSION:2.0
PRODID:-//Carnaval de C&aacute;diz - ECPv6.15.20//NONSGML v1.0//EN
CALSCALE:GREGORIAN
METHOD:PUBLISH
X-WR-CALNAME:Carnaval de C&aacute;diz
X-ORIGINAL-URL:https://www.carnavaldecadiz.com
X-WR-CALDESC:Eventos para Carnaval de C&aacute;diz
REFRESH-INTERVAL;VALUE=DURATION:PT1H
X-Robots-Tag:noindex
X-PUBLISHED-TTL:PT1H
BEGIN:VTIMEZONE
TZID:Europe/Madrid
BEGIN:DAYLIGHT
TZOFFSETFROM:+0100
TZOFFSETTO:+0200
TZNAME:CEST
DTSTART:20230326T010000
END:DAYLIGHT
BEGIN:STANDARD
TZOFFSETFROM:+0200
TZOFFSETTO:+0100
TZNAME:CET
DTSTART:20231029T010000
END:STANDARD
BEGIN:DAYLIGHT
TZOFFSETFROM:+0100
TZOFFSETTO:+0200
TZNAME:CEST
DTSTART:20240331T010000
END:DAYLIGHT
BEGIN:STANDARD
TZOFFSETFROM:+0200
TZOFFSETTO:+0100
TZNAME:CET
DTSTART:20241027T010000
END:STANDARD
BEGIN:DAYLIGHT
TZOFFSETFROM:+0100
TZOFFSETTO:+0200
TZNAME:CEST
DTSTART:20250330T010000
END:DAYLIGHT
BEGIN:STANDARD
TZOFFSETFROM:+0200
TZOFFSETTO:+0100
TZNAME:CET
DTSTART:20251026T010000
END:STANDARD
END:VTIMEZONE
BEGIN:VEVENT
DTSTART;VALUE=DATE:20240623
DTEND;VALUE=DATE:20240914
DTSTAMP:20260420T101403
CREATED:20240622T131416Z
LAST-MODIFIED:20240622T131416Z
UID:11363-1719100800-1726271999@www.carnavaldecadiz.com
SUMMARY:Viernes con arte en El Gastor
DESCRIPTION:Programación: \n\n23 de junio – Leo Power – en Gastronomía de Morales\n5 de julio – Diego Cruz – en Bar ‘Los de Joaquín’\n12 de julio – Maestros Cerveceros – en Bar ‘La Farola’\n19 de julio – Manuel Sevilla y Quique Parodi – en Mesón ‘Los Cuñaos’\n26 de julio – El Lerele – en Bar ‘La cancela’\n9 de agosto – Pérez y Piques – en Pizzería Neiva\n16 de agosto – Germán Rendón – en Bar ‘La posada’\n23 de agosto – Yoli Álvarez y José Cheza – en ‘Pompitas Café y Copas’\n30 de agosto – Los calentitos – en Bar ‘La venta’\n6 de septiembre – Abraham Sevilla – en Bar ‘Mari’\n13 de septiembre – Quique Parodi Trío – en Jacobo Café y Copas
URL:https://www.carnavaldecadiz.com/event/viernes-con-arte-en-el-gastor/
LOCATION:El Gastor\, El Gastor\, Cádiz\, España
CATEGORIES:Mucho más que carnaval
END:VEVENT
BEGIN:VEVENT
DTSTART;TZID=Europe/Madrid:20240830T203000
DTEND;TZID=Europe/Madrid:20240831T023000
DTSTAMP:20260420T101403
CREATED:20240826T132314Z
LAST-MODIFIED:20240826T132314Z
UID:12651-1725049800-1725071400@www.carnavaldecadiz.com
SUMMARY:Noche de Chirigotas Callejeras en Chiclana
DESCRIPTION:Organizada por el Ayuntamiento de Chiclana\, actuarán por las calles de la localidad las siguientes agrupaciones callejeras: \n\n‘Los Bacardí’\n‘A morir que son dos días’\n‘Los Lisantropos’\n‘AZPOGA’\n‘Las Marimorenas’\n‘Los yoqueje’\n‘Las niñas del mentidero’\n‘Ojú que cuadro’\n‘Pseudo Chirigota tus muertos’\n‘Los Piriñacas’\n‘Los Golden Bowlers’\n‘Las casi guapas’\n‘Los Suramish’.\n\n \nLocalizaciones:\n\ncalle Plaza\nPlaza de las bodegas\nAlameda del Río\, zona anfiteatro\ncalle Fuente\ncalle Vega\ncalle Constitución – Ayuntamiento\n\nEvento público de libre acceso.
URL:https://www.carnavaldecadiz.com/event/noche-de-chirigotas-callejeras-en-chiclana/
LOCATION:Ayuntamiento de Chiclana\, calle Constitución 1\, Chiclana de la Frontera\, Cádiz\, 11130\, España
CATEGORIES:actuaciones de carnaval
END:VEVENT
BEGIN:VEVENT
DTSTART;TZID=Europe/Madrid:20240831T210000
DTEND;TZID=Europe/Madrid:20240831T233000
DTSTAMP:20260420T101403
CREATED:20240819T122336Z
LAST-MODIFIED:20240828T111213Z
UID:12494-1725138000-1725147000@www.carnavaldecadiz.com
SUMMARY:XXXVII Entierro de la Caballa en Cádiz
DESCRIPTION:El entierro de la Caballa es el tradicional evento que marca el fin del verano en Cádiz. \nLa caballa\, acompañada por la plañideras\, será paseada por el Barrio de la Viña desde las 18:00h\, para finalmente ser quemada en la playa de la Caleta. Este año el pregonero del acto es el autor de carnaval José María Barranco ‘El Lacio’ \nRecorrido séquito entierro de la caballa.\nActuarán las siguientes agrupaciones de carnaval: \n\nComparsa – ‘La chirigotera’\nComparsa – ‘Pueblejito de la Frontera’\nComparsa – ‘Las herederas’\nChirigota ‘Los del Canal Sur’ntolo\nAntología de ‘Los Cleriguillos’\nChirigotas infantil – ‘Tochiko Mikay’\nComparsa juvenil – ‘Las añejas’.\n\nEvento público de libre acceso. \n 
URL:https://www.carnavaldecadiz.com/event/xxxvii-entierro-de-la-caballa-en-cadiz/
LOCATION:Playa de la Caleta\, Cádiz\, Avenida Duque de Nájera\, Cádiz\, Cádiz\, 11002\, España
CATEGORIES:actuaciones de carnaval
END:VEVENT
BEGIN:VEVENT
DTSTART;TZID=Europe/Madrid:20240831T213000
DTEND;TZID=Europe/Madrid:20240831T233000
DTSTAMP:20260420T101403
CREATED:20240820T121805Z
LAST-MODIFIED:20240820T121805Z
UID:12531-1725139800-1725147000@www.carnavaldecadiz.com
SUMMARY:Noche de Carnaval en Medina Sidonia
DESCRIPTION:Actuarán las siguientes agrupaciones: \n\nChirigota – LOS EXAGERADOS\nComparsa – EL JOYERO\nLa Chirigota Callejera del AIRON\n\nEvento público de libre acceso.
URL:https://www.carnavaldecadiz.com/event/noche-de-carnaval-en-medina-sidonia/
LOCATION:Plaza de España\, Medina\, Plaza de España 10\, Medina Sidonia\, Cádiz\, 11170\, España
CATEGORIES:actuaciones de carnaval
END:VEVENT
END:VCALENDAR