BEGIN:VCALENDAR
VERSION:2.0
PRODID:-//Carnaval de C&aacute;diz - ECPv6.15.20//NONSGML v1.0//EN
CALSCALE:GREGORIAN
METHOD:PUBLISH
X-ORIGINAL-URL:https://www.carnavaldecadiz.com
X-WR-CALDESC:Eventos para Carnaval de C&aacute;diz
REFRESH-INTERVAL;VALUE=DURATION:PT1H
X-Robots-Tag:noindex
X-PUBLISHED-TTL:PT1H
BEGIN:VTIMEZONE
TZID:Europe/Madrid
BEGIN:DAYLIGHT
TZOFFSETFROM:+0100
TZOFFSETTO:+0200
TZNAME:CEST
DTSTART:20230326T010000
END:DAYLIGHT
BEGIN:STANDARD
TZOFFSETFROM:+0200
TZOFFSETTO:+0100
TZNAME:CET
DTSTART:20231029T010000
END:STANDARD
BEGIN:DAYLIGHT
TZOFFSETFROM:+0100
TZOFFSETTO:+0200
TZNAME:CEST
DTSTART:20240331T010000
END:DAYLIGHT
BEGIN:STANDARD
TZOFFSETFROM:+0200
TZOFFSETTO:+0100
TZNAME:CET
DTSTART:20241027T010000
END:STANDARD
BEGIN:DAYLIGHT
TZOFFSETFROM:+0100
TZOFFSETTO:+0200
TZNAME:CEST
DTSTART:20250330T010000
END:DAYLIGHT
BEGIN:STANDARD
TZOFFSETFROM:+0200
TZOFFSETTO:+0100
TZNAME:CET
DTSTART:20251026T010000
END:STANDARD
END:VTIMEZONE
BEGIN:VEVENT
DTSTART;VALUE=DATE:20240623
DTEND;VALUE=DATE:20240914
DTSTAMP:20260420T114333
CREATED:20240622T131416Z
LAST-MODIFIED:20240622T131416Z
UID:11363-1719100800-1726271999@www.carnavaldecadiz.com
SUMMARY:Viernes con arte en El Gastor
DESCRIPTION:Programación: \n\n23 de junio – Leo Power – en Gastronomía de Morales\n5 de julio – Diego Cruz – en Bar ‘Los de Joaquín’\n12 de julio – Maestros Cerveceros – en Bar ‘La Farola’\n19 de julio – Manuel Sevilla y Quique Parodi – en Mesón ‘Los Cuñaos’\n26 de julio – El Lerele – en Bar ‘La cancela’\n9 de agosto – Pérez y Piques – en Pizzería Neiva\n16 de agosto – Germán Rendón – en Bar ‘La posada’\n23 de agosto – Yoli Álvarez y José Cheza – en ‘Pompitas Café y Copas’\n30 de agosto – Los calentitos – en Bar ‘La venta’\n6 de septiembre – Abraham Sevilla – en Bar ‘Mari’\n13 de septiembre – Quique Parodi Trío – en Jacobo Café y Copas
URL:https://www.carnavaldecadiz.com/event/viernes-con-arte-en-el-gastor/
LOCATION:El Gastor\, El Gastor\, Cádiz\, España
CATEGORIES:Mucho más que carnaval
END:VEVENT
BEGIN:VEVENT
DTSTART;VALUE=DATE:20240705
DTEND;VALUE=DATE:20240831
DTSTAMP:20260420T114333
CREATED:20240707T123717Z
LAST-MODIFIED:20240707T123746Z
UID:11669-1720137600-1725062399@www.carnavaldecadiz.com
SUMMARY:Chiricuarteto de Carnaval 'Después de jubilao...'
DESCRIPTION:Actúan todos los viernes de julio y agosto. \nEvento público de libre acceso.
URL:https://www.carnavaldecadiz.com/event/chiricuarteto-de-carnaval-despues-de-jubilao/
LOCATION:La cruz del mar\, Chipiona\, Pº. Cruz del Mar 18\, Chipiona\, Cádiz\, 11550\, España
CATEGORIES:actuaciones de carnaval
END:VEVENT
BEGIN:VEVENT
DTSTART;VALUE=DATE:20240819
DTEND;VALUE=DATE:20240824
DTSTAMP:20260420T114333
CREATED:20240819T094354Z
LAST-MODIFIED:20240819T094354Z
UID:12469-1724025600-1724457599@www.carnavaldecadiz.com
SUMMARY:INSCRIPCIONES I Concurso a nudillos de antologías Ciudad de Algeciras
DESCRIPTION:Abierto plazo de inscripción hasta el 23 de agosto. \nMas información 671464166 – 655659573
URL:https://www.carnavaldecadiz.com/event/inscripciones-i-concurso-a-nudillos-de-antologias-ciudad-de-algeciras/
LOCATION:Plazoleta San Isidro\, Algeciras\, Plaza San Isidro\, Algeciras\, Cádiz\, 11201\, España
CATEGORIES:actuaciones de carnaval
END:VEVENT
BEGIN:VEVENT
DTSTART;VALUE=DATE:20240822
DTEND;VALUE=DATE:20240825
DTSTAMP:20260420T114333
CREATED:20240822T122929Z
LAST-MODIFIED:20240822T122929Z
UID:12605-1724284800-1724543999@www.carnavaldecadiz.com
SUMMARY:II Concurso de Antologías de Coplas Plaza del Mentidero
DESCRIPTION:Orden de actuación\nJueves 22 de agosto a partir de las 20:30h \n\nCádiz de mil colores\nLos afortunados\nLos cleriniños\nLos tuyos\nUn trío de toda la vida\nLos cleriguillos\n\nViernes 23 de agosto a partir de las 20:30h \n\nAntología del Puerto ‘Los coloretes’\nTutankamon como siempre\nEste año no salimos\nLa tropa del 3×4\nYo sí que te como tu cara\nEl que se fue a Sevilla perdió su sombrilla ‘Los conquistadores’\n\nSábado 24 de agosto GRAN FINAL a partir de las 20:30h \n\nA la espera de grupos clasificados\n\nEvento público de libre acceso. \n 
URL:https://www.carnavaldecadiz.com/event/ii-concurso-de-antologias-de-coplas-plaza-del-mentidero/
LOCATION:Plaza del Mentidero. Cádiz\, Plaza del Mentidero\, Cádiz\, Cádiz\, 11003\, España
CATEGORIES:actuaciones de carnaval
END:VEVENT
BEGIN:VEVENT
DTSTART;TZID=Europe/Madrid:20240822T230000
DTEND;TZID=Europe/Madrid:20240823T003000
DTSTAMP:20260420T114333
CREATED:20240715T163952Z
LAST-MODIFIED:20240715T164009Z
UID:11820-1724367600-1724373000@www.carnavaldecadiz.com
SUMMARY:LA OVEJA NEGRA en Vejer
DESCRIPTION:Evento público de librea cceso.
URL:https://www.carnavaldecadiz.com/event/la-oveja-negra-en-vejer/
LOCATION:Plaza de España\, Vejer\, Plaza de España\, Vejer\, Cádiz\, 11150\, España
CATEGORIES:actuaciones de carnaval
END:VEVENT
BEGIN:VEVENT
DTSTART;TZID=Europe/Madrid:20240823T200000
DTEND;TZID=Europe/Madrid:20240823T223000
DTSTAMP:20260420T114333
CREATED:20240822T151725Z
LAST-MODIFIED:20240822T151725Z
UID:12611-1724443200-1724452200@www.carnavaldecadiz.com
SUMMARY:Noche de Carnaval dedicada a la Cantera. Peña Los Catavinos
DESCRIPTION:Actuarán: \n\nRomancero infantil – Las historias de Luigi y Peach\nChirigota infantil – Los indigestos\nChirigota juvenil – Las añejas\n\nEvento público de libre acceso. \n 
URL:https://www.carnavaldecadiz.com/event/noche-de-carnaval-dedicada-a-la-cantera-pena-los-catavinos/
LOCATION:Peña Cultural Carnavalesca Los catavinos\, San Fernando\, calle Santo Domingo 10\, San Fernando\, Cádiz11100\, España
CATEGORIES:actuaciones de carnaval
END:VEVENT
BEGIN:VEVENT
DTSTART;TZID=Europe/Madrid:20240823T203000
DTEND;TZID=Europe/Madrid:20240823T233000
DTSTAMP:20260420T114333
CREATED:20240819T100059Z
LAST-MODIFIED:20240819T100059Z
UID:12473-1724445000-1724455800@www.carnavaldecadiz.com
SUMMARY:Carnaval en la AVV Atlantico
DESCRIPTION:Evento público de libre acceso.
URL:https://www.carnavaldecadiz.com/event/carnaval-en-la-avv-atlantico/
LOCATION:Plaza Manchón de la Huerta\, Chipiona\, Plaza Manchón de la Huerta\, Chipiona\, Cádiz\, 11550\, España
CATEGORIES:actuaciones de carnaval
END:VEVENT
BEGIN:VEVENT
DTSTART;TZID=Europe/Madrid:20240823T213000
DTEND;TZID=Europe/Madrid:20240823T230000
DTSTAMP:20260420T114333
CREATED:20240802T175915Z
LAST-MODIFIED:20240802T175915Z
UID:12120-1724448600-1724454000@www.carnavaldecadiz.com
SUMMARY:XV Noche de los Capachas
DESCRIPTION:Organizada por la Peña Carnavalesca ‘Perico Alcantara’ \nActuación de la Chirigota ‘LOS CHABOLIS’ \nAdquisición de invitaciones en: \n\nOptica Vega\n625695684\n530694494\n\nCapacha del año Juan Jesús Sánchez Rodríguez
URL:https://www.carnavaldecadiz.com/event/xv-noche-de-los-capachas/
LOCATION:Campo Municipal de Deportes de Chiclana\, calle Agustín Blzquez s/n\, ´Chiclana de la Frontera\, Cádiz\, 11130\, España
CATEGORIES:actuaciones de carnaval
END:VEVENT
BEGIN:VEVENT
DTSTART;TZID=Europe/Madrid:20240823T220000
DTEND;TZID=Europe/Madrid:20240824T010000
DTSTAMP:20260420T114333
CREATED:20240821T104540Z
LAST-MODIFIED:20240821T104540Z
UID:12587-1724450400-1724461200@www.carnavaldecadiz.com
SUMMARY:Carnaval en Conil
DESCRIPTION:Evento público de libre acceso. \nActuarán entre otras agrupaciones callejeras: \nLa chirigota callejera del Sofri \nla callejera TUS MUERTOS \n 
URL:https://www.carnavaldecadiz.com/event/carnaval-en-conil/
LOCATION:AAVV Las Virtudes-Conil\, calle Dos Hermanas 2A\, Conil de la Frontera\, Cádiz\, 11140\, España
CATEGORIES:actuaciones de carnaval,carnaval callejero
END:VEVENT
END:VCALENDAR