BEGIN:VCALENDAR
VERSION:2.0
PRODID:-//Carnaval de C&aacute;diz - ECPv6.15.20//NONSGML v1.0//EN
CALSCALE:GREGORIAN
METHOD:PUBLISH
X-ORIGINAL-URL:https://www.carnavaldecadiz.com
X-WR-CALDESC:Eventos para Carnaval de C&aacute;diz
REFRESH-INTERVAL;VALUE=DURATION:PT1H
X-Robots-Tag:noindex
X-PUBLISHED-TTL:PT1H
BEGIN:VTIMEZONE
TZID:Europe/Madrid
BEGIN:DAYLIGHT
TZOFFSETFROM:+0100
TZOFFSETTO:+0200
TZNAME:CEST
DTSTART:20230326T010000
END:DAYLIGHT
BEGIN:STANDARD
TZOFFSETFROM:+0200
TZOFFSETTO:+0100
TZNAME:CET
DTSTART:20231029T010000
END:STANDARD
BEGIN:DAYLIGHT
TZOFFSETFROM:+0100
TZOFFSETTO:+0200
TZNAME:CEST
DTSTART:20240331T010000
END:DAYLIGHT
BEGIN:STANDARD
TZOFFSETFROM:+0200
TZOFFSETTO:+0100
TZNAME:CET
DTSTART:20241027T010000
END:STANDARD
BEGIN:DAYLIGHT
TZOFFSETFROM:+0100
TZOFFSETTO:+0200
TZNAME:CEST
DTSTART:20250330T010000
END:DAYLIGHT
BEGIN:STANDARD
TZOFFSETFROM:+0200
TZOFFSETTO:+0100
TZNAME:CET
DTSTART:20251026T010000
END:STANDARD
END:VTIMEZONE
BEGIN:VEVENT
DTSTART;VALUE=DATE:20240623
DTEND;VALUE=DATE:20240914
DTSTAMP:20260420T114157
CREATED:20240622T131416Z
LAST-MODIFIED:20240622T131416Z
UID:11363-1719100800-1726271999@www.carnavaldecadiz.com
SUMMARY:Viernes con arte en El Gastor
DESCRIPTION:Programación: \n\n23 de junio – Leo Power – en Gastronomía de Morales\n5 de julio – Diego Cruz – en Bar ‘Los de Joaquín’\n12 de julio – Maestros Cerveceros – en Bar ‘La Farola’\n19 de julio – Manuel Sevilla y Quique Parodi – en Mesón ‘Los Cuñaos’\n26 de julio – El Lerele – en Bar ‘La cancela’\n9 de agosto – Pérez y Piques – en Pizzería Neiva\n16 de agosto – Germán Rendón – en Bar ‘La posada’\n23 de agosto – Yoli Álvarez y José Cheza – en ‘Pompitas Café y Copas’\n30 de agosto – Los calentitos – en Bar ‘La venta’\n6 de septiembre – Abraham Sevilla – en Bar ‘Mari’\n13 de septiembre – Quique Parodi Trío – en Jacobo Café y Copas
URL:https://www.carnavaldecadiz.com/event/viernes-con-arte-en-el-gastor/
LOCATION:El Gastor\, El Gastor\, Cádiz\, España
CATEGORIES:Mucho más que carnaval
END:VEVENT
BEGIN:VEVENT
DTSTART;VALUE=DATE:20240705
DTEND;VALUE=DATE:20240831
DTSTAMP:20260420T114157
CREATED:20240707T123717Z
LAST-MODIFIED:20240707T123746Z
UID:11669-1720137600-1725062399@www.carnavaldecadiz.com
SUMMARY:Chiricuarteto de Carnaval 'Después de jubilao...'
DESCRIPTION:Actúan todos los viernes de julio y agosto. \nEvento público de libre acceso.
URL:https://www.carnavaldecadiz.com/event/chiricuarteto-de-carnaval-despues-de-jubilao/
LOCATION:La cruz del mar\, Chipiona\, Pº. Cruz del Mar 18\, Chipiona\, Cádiz\, 11550\, España
CATEGORIES:actuaciones de carnaval
END:VEVENT
BEGIN:VEVENT
DTSTART;VALUE=DATE:20240815
DTEND;VALUE=DATE:20240818
DTSTAMP:20260420T114157
CREATED:20240705T120739Z
LAST-MODIFIED:20240705T120739Z
UID:11597-1723680000-1723939199@www.carnavaldecadiz.com
SUMMARY:Concurso de Antologías dedicado a los Hermanos Márquez Mateo
DESCRIPTION:Adelanto de la programación del evento: \nJueves 15 de agosto: \n\n20.30h: Charla con los hermanos Márquez Mateos donde se realizará un recorrido por su trayectoria carnavalesca\, contándonos su historia\, anécdotas y todo tipo de curiosidades\, para posteriormente responder a las preguntas del público asistente.\n21.30h: Primera semifinal del concurso.\n\nViernes 16 de agosto: \n\n20.30h: Mesa redonda/Coloquio abierto al público «Concurso oficial de agrupaciones involución o evolución» donde participarán conocidos autores del carnaval de Cádiz que representarán a cada una de las modalidades participantes.\n21.30h: Segunda semifinal del concurso.\n\nSábado 17 de agosto: \n\n20.30h: Actuaciones de agrupaciones participantes en el COAC.\n22.00h: Final del concurso de antología.\n\nA la finalización del concurso\, el jurado que presidirá Juan Garrido Ponce «Juanelo» otorgará los premios dotados de la siguiente cuantía: \n\n 1 Premio: 1500€\n2 Premio: 1000€\n3 Premio: 500€\n\nNOTA: A la espera de recibir más información. \nEvento público de libre acceso.
URL:https://www.carnavaldecadiz.com/event/concurso-de-antologias-dedicado-a-los-hermanos-marquez-mateo/
LOCATION:Oratorio San Felipe Neri\, Cádiz\, calle San José 36\, Cádiz\, Cádiz\, 11003\, España
CATEGORIES:actuaciones de carnaval,Mucho más que carnaval
END:VEVENT
BEGIN:VEVENT
DTSTART;TZID=Europe/Madrid:20240817T210000
DTEND;TZID=Europe/Madrid:20240818T020000
DTSTAMP:20260420T114157
CREATED:20240816T154859Z
LAST-MODIFIED:20240816T154859Z
UID:12445-1723928400-1723946400@www.carnavaldecadiz.com
SUMMARY:Noche de Romanceros en Cortes de la Frontera
DESCRIPTION:Evento público de libre acceso\, se desarrolla por las calles de la localidad.
URL:https://www.carnavaldecadiz.com/event/noche-de-romanceros-en-cortes-de-la-frontera/
LOCATION:Cortes de la Frontera\, Cortes de la Frontera\, Málaga\, 29380\, España
CATEGORIES:actuaciones de carnaval
END:VEVENT
BEGIN:VEVENT
DTSTART;TZID=Europe/Madrid:20240817T230000
DTEND;TZID=Europe/Madrid:20240818T003000
DTSTAMP:20260420T114157
CREATED:20240815T131119Z
LAST-MODIFIED:20240815T131119Z
UID:12427-1723935600-1723941000@www.carnavaldecadiz.com
SUMMARY:Comparsa EL JOYERO en Benamejí
DESCRIPTION:Evento público de libre acceso
URL:https://www.carnavaldecadiz.com/event/comparsa-el-joyero-en-benameji/
LOCATION:Caseta Municipal\, Benamejí\, calle Camino del Río 15\, Benamejí\, Córdoba\, España
CATEGORIES:actuaciones de carnaval
END:VEVENT
END:VCALENDAR