BEGIN:VCALENDAR
VERSION:2.0
PRODID:-//Carnaval de C&aacute;diz - ECPv6.15.20//NONSGML v1.0//EN
CALSCALE:GREGORIAN
METHOD:PUBLISH
X-WR-CALNAME:Carnaval de C&aacute;diz
X-ORIGINAL-URL:https://www.carnavaldecadiz.com
X-WR-CALDESC:Eventos para Carnaval de C&aacute;diz
REFRESH-INTERVAL;VALUE=DURATION:PT1H
X-Robots-Tag:noindex
X-PUBLISHED-TTL:PT1H
BEGIN:VTIMEZONE
TZID:Europe/Madrid
BEGIN:DAYLIGHT
TZOFFSETFROM:+0100
TZOFFSETTO:+0200
TZNAME:CEST
DTSTART:20230326T010000
END:DAYLIGHT
BEGIN:STANDARD
TZOFFSETFROM:+0200
TZOFFSETTO:+0100
TZNAME:CET
DTSTART:20231029T010000
END:STANDARD
BEGIN:DAYLIGHT
TZOFFSETFROM:+0100
TZOFFSETTO:+0200
TZNAME:CEST
DTSTART:20240331T010000
END:DAYLIGHT
BEGIN:STANDARD
TZOFFSETFROM:+0200
TZOFFSETTO:+0100
TZNAME:CET
DTSTART:20241027T010000
END:STANDARD
BEGIN:DAYLIGHT
TZOFFSETFROM:+0100
TZOFFSETTO:+0200
TZNAME:CEST
DTSTART:20250330T010000
END:DAYLIGHT
BEGIN:STANDARD
TZOFFSETFROM:+0200
TZOFFSETTO:+0100
TZNAME:CET
DTSTART:20251026T010000
END:STANDARD
END:VTIMEZONE
BEGIN:VEVENT
DTSTART;VALUE=DATE:20240623
DTEND;VALUE=DATE:20240914
DTSTAMP:20260420T130358
CREATED:20240622T131416Z
LAST-MODIFIED:20240622T131416Z
UID:11363-1719100800-1726271999@www.carnavaldecadiz.com
SUMMARY:Viernes con arte en El Gastor
DESCRIPTION:Programación: \n\n23 de junio – Leo Power – en Gastronomía de Morales\n5 de julio – Diego Cruz – en Bar ‘Los de Joaquín’\n12 de julio – Maestros Cerveceros – en Bar ‘La Farola’\n19 de julio – Manuel Sevilla y Quique Parodi – en Mesón ‘Los Cuñaos’\n26 de julio – El Lerele – en Bar ‘La cancela’\n9 de agosto – Pérez y Piques – en Pizzería Neiva\n16 de agosto – Germán Rendón – en Bar ‘La posada’\n23 de agosto – Yoli Álvarez y José Cheza – en ‘Pompitas Café y Copas’\n30 de agosto – Los calentitos – en Bar ‘La venta’\n6 de septiembre – Abraham Sevilla – en Bar ‘Mari’\n13 de septiembre – Quique Parodi Trío – en Jacobo Café y Copas
URL:https://www.carnavaldecadiz.com/event/viernes-con-arte-en-el-gastor/
LOCATION:El Gastor\, El Gastor\, Cádiz\, España
CATEGORIES:Mucho más que carnaval
END:VEVENT
BEGIN:VEVENT
DTSTART;VALUE=DATE:20240705
DTEND;VALUE=DATE:20240831
DTSTAMP:20260420T130358
CREATED:20240707T123717Z
LAST-MODIFIED:20240707T123746Z
UID:11669-1720137600-1725062399@www.carnavaldecadiz.com
SUMMARY:Chiricuarteto de Carnaval 'Después de jubilao...'
DESCRIPTION:Actúan todos los viernes de julio y agosto. \nEvento público de libre acceso.
URL:https://www.carnavaldecadiz.com/event/chiricuarteto-de-carnaval-despues-de-jubilao/
LOCATION:La cruz del mar\, Chipiona\, Pº. Cruz del Mar 18\, Chipiona\, Cádiz\, 11550\, España
CATEGORIES:actuaciones de carnaval
END:VEVENT
BEGIN:VEVENT
DTSTART;VALUE=DATE:20240725
DTEND;VALUE=DATE:20240728
DTSTAMP:20260420T130358
CREATED:20240603T231355Z
LAST-MODIFIED:20240727T130447Z
UID:10984-1721865600-1722124799@www.carnavaldecadiz.com
SUMMARY:XXXIX Concurso de Coplas Antiguas 'EL QUINI'
DESCRIPTION:El XXXIX Concurso de Coplas Antiguas “EL Quini” se celebrará durante los días 25\, 26 y 27 de julio de 2.024\, en la Asociación de V.V. Murallas de San Carlos\, C/ San German\, a partir de las 21\,00 horas\, siendo la asistencia libre y gratuita. \nEste año está dedicado al autor de músicas del Carnaval José Martínez González\, más conocido como ‘Pepito El Guitarra’. \nORDEN DE ACTUACIÓN\nJueves 25 de julio \n\n21:00h – Los XL\, una chirigota de peso.\n21:20h – Los coloretes\n22:00h – La tropa del 3×4\n22:30h – Sal de coplas\n22:50h – Los cleriguillos\n23:15h – Tutankamon como siempre\n23:30h – El trío de toda la vida\n\nViernes 26 de julio \n\n21:00h – Los tuyos\n21:25h – Los cleriniños\n21:50h – Este año no salimos\n22:15h – Nos vemos cuando podamos\n22:40h – Savia nueva\n23:00h – Yo si que te como la cara\n23:20h – El que se fue a Sevilla perdió la sombrilla\n23:45h – Los del pueblecito\n\nSábado 27 de julio\, gran final \nGrupos clasificados para la gran final: \n\nSal decoplas\nLos cleriguillos\nLos tuyos\nEste año no salimos\nYo sí que te como la cara\nLos del pueblejito\nEl trío de toda la vida\nSavia nueva\n\n 
URL:https://www.carnavaldecadiz.com/event/xxxix-concurso-de-coplas-antiguas-el-quini/
LOCATION:AAVV San Carlos-Los negritos\, calle San Germán 2\, Cádiz\, Cádiz\, 11004\, España
CATEGORIES:actuaciones de carnaval,concurso de carnaval
END:VEVENT
BEGIN:VEVENT
DTSTART;TZID=Europe/Madrid:20240727T200000
DTEND;TZID=Europe/Madrid:20240727T213000
DTSTAMP:20260420T130358
CREATED:20240711T105343Z
LAST-MODIFIED:20240711T105343Z
UID:11758-1722110400-1722115800@www.carnavaldecadiz.com
SUMMARY:Fran y Jona en Black Coffee\, Miajadas
DESCRIPTION:Entrada libra hasta completar aforo.
URL:https://www.carnavaldecadiz.com/event/fran-y-jona-en-black-coffee-miajadas/
LOCATION:Black Coffee\, Miajadas\, calle Real 3\, Miajadas\, Cáceres\, 10100\, España
CATEGORIES:actuaciones de carnaval
END:VEVENT
BEGIN:VEVENT
DTSTART;TZID=Europe/Madrid:20240727T220000
DTEND;TZID=Europe/Madrid:20240728T050000
DTSTAMP:20260420T130358
CREATED:20240722T113140Z
LAST-MODIFIED:20240727T130702Z
UID:11926-1722117600-1722142800@www.carnavaldecadiz.com
SUMMARY:Carnaval Callejero de Verano
DESCRIPTION:Es un evento donde se autoconvocan las agrupaciones callejeras para cantar por las calles de Cádiz generalmente un día del mes de Julio. \nNo tiene programa\, ni horario. \nPequeña GUÍA para encontrar callejeras \n 
URL:https://www.carnavaldecadiz.com/event/carnaval-callejero-de-verano/
LOCATION:Barrio del Pópulo\, Cádiz\, Cádiz\, Cádiz\, 11005\, España
CATEGORIES:actuaciones de carnaval,carnaval callejero
ATTACH;FMTTYPE=image/jpeg:https://www.carnavaldecadiz.com/wp-content/uploads/2024/07/0727Calle2.jpg
END:VEVENT
BEGIN:VEVENT
DTSTART;TZID=Europe/Madrid:20240727T223000
DTEND;TZID=Europe/Madrid:20240727T233000
DTSTAMP:20260420T130358
CREATED:20240705T195334Z
LAST-MODIFIED:20240705T195334Z
UID:11622-1722119400-1722123000@www.carnavaldecadiz.com
SUMMARY:Carnaval de Verano en Daimiel
DESCRIPTION:Evento público de libre acceso.
URL:https://www.carnavaldecadiz.com/event/carnaval-de-verano-en-daimiel/
LOCATION:Zona Joven\, Daimiel\, calle General Espartero 1\, Damiel\, Ciudad Real\, 13250\, España
CATEGORIES:actuaciones de carnaval
END:VEVENT
END:VCALENDAR