BEGIN:VCALENDAR
VERSION:2.0
PRODID:-//Carnaval de C&aacute;diz - ECPv6.15.20//NONSGML v1.0//EN
CALSCALE:GREGORIAN
METHOD:PUBLISH
X-WR-CALNAME:Carnaval de C&aacute;diz
X-ORIGINAL-URL:https://www.carnavaldecadiz.com
X-WR-CALDESC:Eventos para Carnaval de C&aacute;diz
REFRESH-INTERVAL;VALUE=DURATION:PT1H
X-Robots-Tag:noindex
X-PUBLISHED-TTL:PT1H
BEGIN:VTIMEZONE
TZID:Europe/Madrid
BEGIN:DAYLIGHT
TZOFFSETFROM:+0100
TZOFFSETTO:+0200
TZNAME:CEST
DTSTART:20230326T010000
END:DAYLIGHT
BEGIN:STANDARD
TZOFFSETFROM:+0200
TZOFFSETTO:+0100
TZNAME:CET
DTSTART:20231029T010000
END:STANDARD
BEGIN:DAYLIGHT
TZOFFSETFROM:+0100
TZOFFSETTO:+0200
TZNAME:CEST
DTSTART:20240331T010000
END:DAYLIGHT
BEGIN:STANDARD
TZOFFSETFROM:+0200
TZOFFSETTO:+0100
TZNAME:CET
DTSTART:20241027T010000
END:STANDARD
BEGIN:DAYLIGHT
TZOFFSETFROM:+0100
TZOFFSETTO:+0200
TZNAME:CEST
DTSTART:20250330T010000
END:DAYLIGHT
BEGIN:STANDARD
TZOFFSETFROM:+0200
TZOFFSETTO:+0100
TZNAME:CET
DTSTART:20251026T010000
END:STANDARD
END:VTIMEZONE
BEGIN:VEVENT
DTSTART;VALUE=DATE:20240623
DTEND;VALUE=DATE:20240914
DTSTAMP:20260420T125555
CREATED:20240622T131416Z
LAST-MODIFIED:20240622T131416Z
UID:11363-1719100800-1726271999@www.carnavaldecadiz.com
SUMMARY:Viernes con arte en El Gastor
DESCRIPTION:Programación: \n\n23 de junio – Leo Power – en Gastronomía de Morales\n5 de julio – Diego Cruz – en Bar ‘Los de Joaquín’\n12 de julio – Maestros Cerveceros – en Bar ‘La Farola’\n19 de julio – Manuel Sevilla y Quique Parodi – en Mesón ‘Los Cuñaos’\n26 de julio – El Lerele – en Bar ‘La cancela’\n9 de agosto – Pérez y Piques – en Pizzería Neiva\n16 de agosto – Germán Rendón – en Bar ‘La posada’\n23 de agosto – Yoli Álvarez y José Cheza – en ‘Pompitas Café y Copas’\n30 de agosto – Los calentitos – en Bar ‘La venta’\n6 de septiembre – Abraham Sevilla – en Bar ‘Mari’\n13 de septiembre – Quique Parodi Trío – en Jacobo Café y Copas
URL:https://www.carnavaldecadiz.com/event/viernes-con-arte-en-el-gastor/
LOCATION:El Gastor\, El Gastor\, Cádiz\, España
CATEGORIES:Mucho más que carnaval
END:VEVENT
BEGIN:VEVENT
DTSTART;VALUE=DATE:20240624
DTEND;VALUE=DATE:20240723
DTSTAMP:20260420T125555
CREATED:20240624T180727Z
LAST-MODIFIED:20240624T180727Z
UID:11392-1719187200-1721692799@www.carnavaldecadiz.com
SUMMARY:INSCRIPCIÓN I Concurso de Minigrupos en 'Los Pollitos'
DESCRIPTION:I Concurso de minigrupos en la Peña ‘Los Pollitos’ en homenaje a Manuel Barcia Amaro \nEl concurso se celebrará el 24\, 25 y 26 de julio. \nEl periodo de inscripción se cierra el 22 de julio. \nBases:  0724SanFernando.PDFBases \nBoletín de inscripción: 0724SanFernando.PDF1
URL:https://www.carnavaldecadiz.com/event/inscripcion-i-concurso-de-minigrupos-en-los-pollitos/
LOCATION:peña Los pollitos y mi compadre.\, calle San Juan Bautista\, S/N\,\, San Fernando\, Cádiz\, España
CATEGORIES:actuaciones de carnaval,concurso de carnaval
END:VEVENT
BEGIN:VEVENT
DTSTART;VALUE=DATE:20240705
DTEND;VALUE=DATE:20240724
DTSTAMP:20260420T125555
CREATED:20240705T175221Z
LAST-MODIFIED:20240705T175221Z
UID:11610-1720137600-1721779199@www.carnavaldecadiz.com
SUMMARY:INSCRIPCIONES - XXXIX Concurso de Coplas Antiguas EL QUINI
DESCRIPTION:INSCRIPCIONES \nLas inscripciones se podrán entregar hasta el día 23 de julio en la sede del Aula de Cultura del Carnaval de Cádiz\, C/ Venezuela\, 8 bajo\, \nlos martes y jueves de 18\,00 a 20\,00 horas.\nTambién se pueden enviar por e-Mail a la dirección de correo de Aula de Cultura del Carnaval aula.carnavalcadiz@gmail.com.
URL:https://www.carnavaldecadiz.com/event/inscripciones-xxxix-concurso-de-coplas-antiguas-el-quini/
LOCATION:Aula de Cultura del Carnaval de Cdiz\, calle Venezuela 8\, Cádiz\, Cádiz\, 11002\, España
CATEGORIES:actuaciones de carnaval
END:VEVENT
BEGIN:VEVENT
DTSTART;VALUE=DATE:20240705
DTEND;VALUE=DATE:20240831
DTSTAMP:20260420T125555
CREATED:20240707T123717Z
LAST-MODIFIED:20240707T123746Z
UID:11669-1720137600-1725062399@www.carnavaldecadiz.com
SUMMARY:Chiricuarteto de Carnaval 'Después de jubilao...'
DESCRIPTION:Actúan todos los viernes de julio y agosto. \nEvento público de libre acceso.
URL:https://www.carnavaldecadiz.com/event/chiricuarteto-de-carnaval-despues-de-jubilao/
LOCATION:La cruz del mar\, Chipiona\, Pº. Cruz del Mar 18\, Chipiona\, Cádiz\, 11550\, España
CATEGORIES:actuaciones de carnaval
END:VEVENT
BEGIN:VEVENT
DTSTART;VALUE=DATE:20240717
DTEND;VALUE=DATE:20240721
DTSTAMP:20260420T125555
CREATED:20240706T212219Z
LAST-MODIFIED:20240706T212900Z
UID:11662-1721174400-1721519999@www.carnavaldecadiz.com
SUMMARY:XLIII Semana Cultural y Carnavalesca de la Peña 'La Salle Viña'
DESCRIPTION:Organizado por la Peña Cultural Carnavalesca ‘La Salle Viña’\, con la colaboración del Excmo. Ayuntamiento de Cádiz\, y Restaurante el Faro. \nPROGRAMA \nMiércoles 17 de julio \n18:00h Mesa de debate en la que participarán: Susana Gil de Reboleño Lastortres y Miguel Ángel García Argüéz ‘El chapa’ \n21:00h Pregón a cargo de Carlos Pérez y actuación de: \n\nChirigota LOS QUE SALIERON PERDIENDO\nCoro EL GREMIO\nComparsa LOS SACRIFICAOS\nChirigota EL GRINCH DE CADI\n\nJueves 18 de julio – Dedicado al Folklore andaluz como expresión artística\, visual y musical. \n17:30h Mesa de debate en la que participarán: Elena Merino Rivera y Juan Antonio Carpio Galnares. \n20:00h Espectáculo ‘Flamenco y humor’ por CONTARTE de Aroa Gómez Ripoll \n21:00h Espectáculo Flamenco de la escuela de Ana González \n22:ooh Actuación de: \n\nCoro LOS LUCIÉRNAGAS\nComparsa LA ALEGRÍA DE CÁDIZ\nComparsa Y SEGUIMOS CANTANDO\n\nViernes 19 de julio – Dedicado a la Semana Santa gaditana como expresión artística y cultural \n18:00h Mesa de debate en la que participarán: Jesús García García\, José Marchena Domínguez y Javier Osuna García. \n21:00h Mesa redonda –  Presente y futuro de la Semana Santa\, proceso de fundación y papel actual de las nuevas hermandades\, participan: \n\nLuis Manuel Rivero Ramos – Primer Hermano Mayor y uno de los fundadores de la Hermandad del Despojado. Cádiz\nGabriel Parodi Álvarez – Hermano Mayor de la Archicofradía de la Merced. Cádiz.\nJuan Salvador Santos Morilla – Vocal de Secretaría y Diputado de Comunicación y  RRSS de la Hermandad de la Entrega. Guadalcacín\, Jerez.\nFrancisco Javier Fernández de Martos – Hermano Mayor de la Hermandad de la Milagrosa. Sevilla.\nModera:  Juan Carlos Carmona Bernal\, estudiante de Periodismo en la Universidad de Sevilla y colaborador de 7TV.\n\nSábado 20 de julio – Dedicado al Carnaval de Cádiz\, como medio de expresión socio-política desde lo popular. \n20:00h Actuación de: \n\nCoro LA PECERA\nAntología LA HERENCIA DEL BISABUELO\nComparsa LA CHIRIGOTERA\nAntología YO SI QUE TE COMO TU CARA\nCoro LOS ILUMINADOS\nCuarteto PUNK Y CIRCO; LA LUCHA CONTINÚA\nComparsa DONDE FUIMOS FELICES\nChirigota LOS PLÁCIDOS DOMINGOS\n\nEventos públicos de libre acceso.\nArtículo relacionado: Presentada la XLIII Semana Cultural Carnavalesca \n  \n 
URL:https://www.carnavaldecadiz.com/event/xliii-semana-cultural-y-carnavalesca-de-la-pena-la-salle-vina/
LOCATION:Sede Asociación de Autores del Carnaval de Cádiz\, calle Bóvedas de Santa Elena s/n\, Cádiz\, Cádiz\, 11006\, España
CATEGORIES:actuaciones de carnaval,conferencia de carnaval,mesa de debate,Mucho más que carnaval
END:VEVENT
END:VCALENDAR