BEGIN:VCALENDAR
VERSION:2.0
PRODID:-//Carnaval de C&aacute;diz - ECPv6.15.20//NONSGML v1.0//EN
CALSCALE:GREGORIAN
METHOD:PUBLISH
X-ORIGINAL-URL:https://www.carnavaldecadiz.com
X-WR-CALDESC:Eventos para Carnaval de C&aacute;diz
REFRESH-INTERVAL;VALUE=DURATION:PT1H
X-Robots-Tag:noindex
X-PUBLISHED-TTL:PT1H
BEGIN:VTIMEZONE
TZID:Europe/Madrid
BEGIN:DAYLIGHT
TZOFFSETFROM:+0100
TZOFFSETTO:+0200
TZNAME:CEST
DTSTART:20230326T010000
END:DAYLIGHT
BEGIN:STANDARD
TZOFFSETFROM:+0200
TZOFFSETTO:+0100
TZNAME:CET
DTSTART:20231029T010000
END:STANDARD
BEGIN:DAYLIGHT
TZOFFSETFROM:+0100
TZOFFSETTO:+0200
TZNAME:CEST
DTSTART:20240331T010000
END:DAYLIGHT
BEGIN:STANDARD
TZOFFSETFROM:+0200
TZOFFSETTO:+0100
TZNAME:CET
DTSTART:20241027T010000
END:STANDARD
BEGIN:DAYLIGHT
TZOFFSETFROM:+0100
TZOFFSETTO:+0200
TZNAME:CEST
DTSTART:20250330T010000
END:DAYLIGHT
BEGIN:STANDARD
TZOFFSETFROM:+0200
TZOFFSETTO:+0100
TZNAME:CET
DTSTART:20251026T010000
END:STANDARD
END:VTIMEZONE
BEGIN:VEVENT
DTSTART;TZID=Europe/Madrid:20240209T080000
DTEND;TZID=Europe/Madrid:20240407T170000
DTSTAMP:20260420T185121
CREATED:20240210T214448Z
LAST-MODIFIED:20240210T214543Z
UID:7800-1707465600-1712509200@www.carnavaldecadiz.com
SUMMARY:Exposición Aguja de Oro del Carnaval de Cádiz
DESCRIPTION:Horario de visitas: \n\nDe lunes a sábado de 11:00 a 19:00 h. (última entrada a las 18:00h.)\nDomingos y festivos de 11:00 a 14:00h. (última entrada a las 13:00h.)\n\nReserva tu visita: \n\nCorreo electrónico: visita.lacasadelcarnaval@ext.cadiz.es\nTeléfono: 682 378 644\n\nEvento público de libre acceso
URL:https://www.carnavaldecadiz.com/event/exposicion-aguja-de-oro-del-carnaval-de-cadiz/
LOCATION:Casa del Carnaval\, Cádiz\, calle Marqués del Real Tesoro 15\, 17\, Cádiz\, Cádiz\, 11001\, España
CATEGORIES:exposiciones,Mucho más que carnaval
END:VEVENT
BEGIN:VEVENT
DTSTART;VALUE=DATE:20240304
DTEND;VALUE=DATE:20240401
DTSTAMP:20260420T185121
CREATED:20240303T165238Z
LAST-MODIFIED:20240303T212509Z
UID:8505-1709510400-1711929599@www.carnavaldecadiz.com
SUMMARY:Inauguración Exposición sobre Macías Rete
DESCRIPTION:El Bar la Casa Puerta de Luisa es un espacio de encuentro del mundo del carnaval que se esta haciendo un hueco también en la sociedad cultural gaditana con programas de actividades mensuales muy variados que abarcan desde degustaciones gastronómicas\, charlas de carnaval\, exposiciones\, etc… Sitio ideal para tomar un aperitivo a medio día o antes de cenar. \nEn esta ocasión se inaugura la exposición sobre Macías Arrete\, con material cedido por su hijo Neno: fotografías\, periódicos y otros materiales de su padre\, el reconocido director de coros José Macías Retes (1909-1979)\, de importante recorrido: “La piñata Gaditana”\, “Los arrumbadores”\, “Los salineros” \nEvento público de libre acceso.
URL:https://www.carnavaldecadiz.com/event/inauguracion-exposicion-sobre-macias-rete/
LOCATION:Bar La Casapuerta\, calle Sagasta 40\, Cádiz\, Cádiz\, 11001\, España
CATEGORIES:exposiciones,fotos carnaval,Mucho más que carnaval
END:VEVENT
BEGIN:VEVENT
DTSTART;VALUE=DATE:20240308
DTEND;VALUE=DATE:20240311
DTSTAMP:20260420T185121
CREATED:20240305T125834Z
LAST-MODIFIED:20240305T125857Z
UID:8557-1709856000-1710115199@www.carnavaldecadiz.com
SUMMARY:Carnaval de Zahara de la Sierra
DESCRIPTION:Carnaval Zahara de la Sierra (Cádiz) a celebrar los días 8\, 9 y 10 de Marzo 2024\n\n\nFiesta de gran tradición y enorme participación popular que podría declararse como Fiesta de Interés Turístico de Andalucía; con chirigotas infantiles y adultas en una proporción de las más altas de la comarca y gran parte de la provincia\, con respecto al número de habitantes. La espontaneidad y la fiesta se disparan durante todo el fin de semana en bares\, calles y plazas de Zahara.\nLos actos principales del carnaval se centran en el “Pasacalles” que tiene lugar el viernes 8 de Marzo a las 18:30\, donde las chirigotas infantiles\, juveniles y adultas van dejando el sabor de los primeros pasodobles\, cuplés y estribillos en distintos puntos del recorrido\, impregnando cada rincón. A la finalización del pasacalles a las 20:30 tiene lugar el “pregón”\, las “actuaciones” de las primeras chirigotas infantiles\, juveniles y adultas y la eleccion de la “musa del carnaval” que la comision elige entre el publico asistente en la Plaza del Rey. Durante la noche circuito de agrupaciones cantando por los distintos bares del casco historico\, terminando la fiesta con bailes hasta la madrugada a partir de las 02:00 en la carpa municipal.\nEl sábado 9 de Marzo\, gran ambiente de coplas de las chirigotas locales desde el mediodía por las calles\, plazas\, rincones\, bares\, continuando a las 18:30 con el baile y concurso de disfraces y las “actuaciones” de otras tantas chirigotas juveniles y adultas en la Plaza del Rey. Durante la noche circuito de agrupaciones cantando por los distintos bares del casco historico. A partir de las 02:00 bailes hasta la madrugada en la carpa municipal.\nEl domingo 10 de Marzo\, a partir de las 15:00 gran paellada popular para los carnavaleros/ras en la plaza del rey\, continuando la tarde con gran ambiente de carnaval\, con las actuaciones de las ultimas chirigotas adultas a partir de las 16:30 en Plaza del Rey\, concluyendo la fiesta a las 20:00 con el entierro del “dios momo”\, donde las chirigotas “cantan su estribillo” mientras saltan la hoguera.\n\n\n¡¡VIVA EL CARNAVAL!!
URL:https://www.carnavaldecadiz.com/event/carnaval-de-zahara-de-la-sierra/
LOCATION:Zahara de la Sierra\, Zahara de la Sierra\, Cádiz\, 11688\, España
CATEGORIES:CARNAVAL 2024,carnaval callejero,Comida popular,concurso de carnaval
END:VEVENT
BEGIN:VEVENT
DTSTART;VALUE=DATE:20240308
DTEND;VALUE=DATE:20240311
DTSTAMP:20260420T185121
CREATED:20240306T201635Z
LAST-MODIFIED:20240306T201635Z
UID:8610-1709856000-1710115199@www.carnavaldecadiz.com
SUMMARY:Carnaval de Tahivilla
DESCRIPTION:Programa de actividades:\nViernes 8 de marzo \n\n12:00h – Psasacalles infantil del colegio ‘Campiña de Tarifa\n\nSábado 9 de marzo \n\n17:00h – Fiesta infantil de disfraces con merienda\, juegos y atracciones en la Caseta Municipal.\n23:30h – Fiesta de disfraces en el Centro Cultural con premios a los tres mejores.\n\nDomingo 10 de marzo \n\n13:00h – Chicharroná popular y vino gratis en la Caseta Municipal.\n15:30h – Actuación de la chirigota de Tarifa DE TARDE EN TARDE\n16:30h – Actuación de la chirigota callejera LAS SIN FILTRO\n17:30h – Actuación de la antología LOS CLERIGUILLOS\n18:30h – Actuación del coro EL BAÚL DE LA PIQUER\n19:30h – Actuación de la comparsa LOS COLGAOS\n\nEventos públicos de libre acceso. \n  \n 
URL:https://www.carnavaldecadiz.com/event/carnaval-de-tahivilla/
LOCATION:Tahivilla\, Cádiz\, Tahivilla\, Cádiz\, 11392\, España
CATEGORIES:actuaciones de carnaval,carnaval callejero,COAC 2024,evento gastronómico
END:VEVENT
BEGIN:VEVENT
DTSTART;VALUE=DATE:20240308
DTEND;VALUE=DATE:20240311
DTSTAMP:20260420T185121
CREATED:20240307T164752Z
LAST-MODIFIED:20240307T164752Z
UID:8622-1709856000-1710115199@www.carnavaldecadiz.com
SUMMARY:INCANSABLES NO PARAREMOS
DESCRIPTION:El Ayuntamiento de Zahara de la Sierra\, para conmemorar el 8M Día Internacional de la Mujer en el 35 aniversario desde que la chirigota de “Las Mujeres Casadas”  alegran el carnaval de la localidad con sus coplas\, serán ellas las homenajeadas como “Las Zahareñas en la Historia”. Este homenaje es extensible a todas y cada una de sus muchas componentes a los largo de todos estos años.  \n Debido a la previsión de lluvias los actos pueden sufrir cambio \nPrograma de actividades:\nViernes 8 de marzo \n\n12:00h – Lectura de manifiesto y reparto de detalle conmemorativo\n12:30h – Zahareñas en la Historia ‘LAS MUJERES CASADAS’ primera chirigota femenina de Zahara.\n\nDebido a la previsión de lluvias\, los actos pueden sufrir el cambio de lugar de celebración al CEIP Juan María Marín \nDomingo 10 de marzo \n\n16:30h – Actuación de la comparsa callejera ‘LAS ADOLFAS. UNA COMPARSITA FEMINAZI DE TODA LA VIDA’\n\nDebido a la previsión de lluvias\, los actos pueden sufrir el cambio de lugar de celebración al Salón Bajo Plaza. \nEventos públicos de libre acceso.
URL:https://www.carnavaldecadiz.com/event/incansables-no-pararemos/
LOCATION:Plaza del Rey\, Zahara de la Sierra\, Plaza del Rey\, Zahara de la Sierra\, Cádiz\, 11688\, España
CATEGORIES:actuaciones de carnaval,carnaval callejero,conferencia de carnaval
END:VEVENT
END:VCALENDAR