BEGIN:VCALENDAR
VERSION:2.0
PRODID:-//Carnaval de C&aacute;diz - ECPv6.15.20//NONSGML v1.0//EN
CALSCALE:GREGORIAN
METHOD:PUBLISH
X-ORIGINAL-URL:https://www.carnavaldecadiz.com
X-WR-CALDESC:Eventos para Carnaval de C&aacute;diz
REFRESH-INTERVAL;VALUE=DURATION:PT1H
X-Robots-Tag:noindex
X-PUBLISHED-TTL:PT1H
BEGIN:VTIMEZONE
TZID:Europe/Madrid
BEGIN:DAYLIGHT
TZOFFSETFROM:+0100
TZOFFSETTO:+0200
TZNAME:CEST
DTSTART:20230326T010000
END:DAYLIGHT
BEGIN:STANDARD
TZOFFSETFROM:+0200
TZOFFSETTO:+0100
TZNAME:CET
DTSTART:20231029T010000
END:STANDARD
BEGIN:DAYLIGHT
TZOFFSETFROM:+0100
TZOFFSETTO:+0200
TZNAME:CEST
DTSTART:20240331T010000
END:DAYLIGHT
BEGIN:STANDARD
TZOFFSETFROM:+0200
TZOFFSETTO:+0100
TZNAME:CET
DTSTART:20241027T010000
END:STANDARD
BEGIN:DAYLIGHT
TZOFFSETFROM:+0100
TZOFFSETTO:+0200
TZNAME:CEST
DTSTART:20250330T010000
END:DAYLIGHT
BEGIN:STANDARD
TZOFFSETFROM:+0200
TZOFFSETTO:+0100
TZNAME:CET
DTSTART:20251026T010000
END:STANDARD
END:VTIMEZONE
BEGIN:VEVENT
DTSTART;TZID=Europe/Madrid:20240209T080000
DTEND;TZID=Europe/Madrid:20240407T170000
DTSTAMP:20260420T185118
CREATED:20240210T214448Z
LAST-MODIFIED:20240210T214543Z
UID:7800-1707465600-1712509200@www.carnavaldecadiz.com
SUMMARY:Exposición Aguja de Oro del Carnaval de Cádiz
DESCRIPTION:Horario de visitas: \n\nDe lunes a sábado de 11:00 a 19:00 h. (última entrada a las 18:00h.)\nDomingos y festivos de 11:00 a 14:00h. (última entrada a las 13:00h.)\n\nReserva tu visita: \n\nCorreo electrónico: visita.lacasadelcarnaval@ext.cadiz.es\nTeléfono: 682 378 644\n\nEvento público de libre acceso
URL:https://www.carnavaldecadiz.com/event/exposicion-aguja-de-oro-del-carnaval-de-cadiz/
LOCATION:Casa del Carnaval\, Cádiz\, calle Marqués del Real Tesoro 15\, 17\, Cádiz\, Cádiz\, 11001\, España
CATEGORIES:exposiciones,Mucho más que carnaval
END:VEVENT
BEGIN:VEVENT
DTSTART;VALUE=DATE:20240301
DTEND;VALUE=DATE:20240303
DTSTAMP:20260420T185118
CREATED:20240229T142504Z
LAST-MODIFIED:20240229T142504Z
UID:8407-1709251200-1709423999@www.carnavaldecadiz.com
SUMMARY:Carnaval de Castellar de la Frontera
DESCRIPTION:PROGRAMA DE ACTIVIDADES\nViernes 1 de marzo \n21:00h – Proclamación de los Archi-magníficos dioses del carnaval. \n21:30h – Solemne pregón de Don Rubén García Perea con un poquito de guasa. \n22:30h – Actuaciones de: \n\nChirigota de San Roque – LOS MEDIOGRAMMYS\nComparsa de Los Barrios – LOS MOMOSAPIENS\nComparsa Femenina de Castellar – LAS AMAZONAS\nChirigota de Castellar – LOS COJINETES\nComparsa de Cádiz – LOS COLGAOS\n\nSábado 2 de marzo \n12:ooh – Gran pasacalles de carnaval \n13:00h – Fiesta infantil en la Carpa Municipal \n14:00h – Paella popular \n15:00h – Actuaciones de: \n\nChirigota de Cádiz – LOS DE LA ARRITMIA AL 3×4\nChirigota de los Barrios – SINTROM NI SON\nComparsa de Castellar – LAS AMAZONAS\nChirigota de Castellar – LOS COJINETES\nChirigota de Cádiz – EL GRINCH DE CADI\n\n18:30h – Actuaciones de \n\nGran Orquesta Sidefield\nEmiliano\, Emiliano\, Emiliano\nLa Banda KM90\n\n22:30h – Gran gala de disfraces\, actuación de: \n\n‘Compás Flamenco’\nDJs Show Festival
URL:https://www.carnavaldecadiz.com/event/carnaval-de-castellar-de-la-frontera/
LOCATION:Castellar de la Frontera\, Cádiz\, Castellar de la Frontera\, Cádiz\, 11351\, España
CATEGORIES:actuaciones de carnaval,CARNAVAL 2024
END:VEVENT
BEGIN:VEVENT
DTSTART;TZID=Europe/Madrid:20240301T200000
DTEND;TZID=Europe/Madrid:20240301T230000
DTSTAMP:20260420T185118
CREATED:20240229T174301Z
LAST-MODIFIED:20240229T174301Z
UID:8452-1709323200-1709334000@www.carnavaldecadiz.com
SUMMARY:VIII Quesada Popular Bar La Plaza
DESCRIPTION:En el evento mientras se degusta queso de la tierra\, actuarán las siguientes agrupaciones locales: \n\n20:00h – Los que no entran en Polene\n20:30h – Cambio en el Ayuntamiento\n21:00h – Los petacabras\n21:30h – La fórmula (comparsa de las niñas)\n22:00h – Las cuñás se hinchan en la chorizá\n22:30h – Sofi\, Leti\, Leonor y otras reinas del montón.\n23:00h – Cuando no tengo “ná” que hacer cojo la escoba y me pongo a barrer\n23:30h – Las Paquitas descalzas de la Hermandad del Sabañón\n00:00h – Este año me despido\n00:30h – Comunidad Arcoiris\n01:00h – No somos nádie…\n01:30h – Nino Rabo los nardos\n\nEvento público de libre acceso.
URL:https://www.carnavaldecadiz.com/event/viii-quesada-popular-bar-la-plaza/
LOCATION:Plaza del Ayuntamiento\, Ubrique\, Plaza del Ayuntamiento\, Ubrique\, Cádiz\, 11600\, España
CATEGORIES:actuaciones de carnaval,Comida popular
END:VEVENT
END:VCALENDAR