BEGIN:VCALENDAR
VERSION:2.0
PRODID:-//Carnaval de C&aacute;diz - ECPv6.15.20//NONSGML v1.0//EN
CALSCALE:GREGORIAN
METHOD:PUBLISH
X-WR-CALNAME:Carnaval de C&aacute;diz
X-ORIGINAL-URL:https://www.carnavaldecadiz.com
X-WR-CALDESC:Eventos para Carnaval de C&aacute;diz
REFRESH-INTERVAL;VALUE=DURATION:PT1H
X-Robots-Tag:noindex
X-PUBLISHED-TTL:PT1H
BEGIN:VTIMEZONE
TZID:Europe/Madrid
BEGIN:DAYLIGHT
TZOFFSETFROM:+0100
TZOFFSETTO:+0200
TZNAME:CEST
DTSTART:20230326T010000
END:DAYLIGHT
BEGIN:STANDARD
TZOFFSETFROM:+0200
TZOFFSETTO:+0100
TZNAME:CET
DTSTART:20231029T010000
END:STANDARD
BEGIN:DAYLIGHT
TZOFFSETFROM:+0100
TZOFFSETTO:+0200
TZNAME:CEST
DTSTART:20240331T010000
END:DAYLIGHT
BEGIN:STANDARD
TZOFFSETFROM:+0200
TZOFFSETTO:+0100
TZNAME:CET
DTSTART:20241027T010000
END:STANDARD
BEGIN:DAYLIGHT
TZOFFSETFROM:+0100
TZOFFSETTO:+0200
TZNAME:CEST
DTSTART:20250330T010000
END:DAYLIGHT
BEGIN:STANDARD
TZOFFSETFROM:+0200
TZOFFSETTO:+0100
TZNAME:CET
DTSTART:20251026T010000
END:STANDARD
END:VTIMEZONE
BEGIN:VEVENT
DTSTART;TZID=Europe/Madrid:20240209T080000
DTEND;TZID=Europe/Madrid:20240407T170000
DTSTAMP:20260420T185636
CREATED:20240210T214448Z
LAST-MODIFIED:20240210T214543Z
UID:7800-1707465600-1712509200@www.carnavaldecadiz.com
SUMMARY:Exposición Aguja de Oro del Carnaval de Cádiz
DESCRIPTION:Horario de visitas: \n\nDe lunes a sábado de 11:00 a 19:00 h. (última entrada a las 18:00h.)\nDomingos y festivos de 11:00 a 14:00h. (última entrada a las 13:00h.)\n\nReserva tu visita: \n\nCorreo electrónico: visita.lacasadelcarnaval@ext.cadiz.es\nTeléfono: 682 378 644\n\nEvento público de libre acceso
URL:https://www.carnavaldecadiz.com/event/exposicion-aguja-de-oro-del-carnaval-de-cadiz/
LOCATION:Casa del Carnaval\, Cádiz\, calle Marqués del Real Tesoro 15\, 17\, Cádiz\, Cádiz\, 11001\, España
CATEGORIES:exposiciones,Mucho más que carnaval
END:VEVENT
BEGIN:VEVENT
DTSTART;VALUE=DATE:20240223
DTEND;VALUE=DATE:20240229
DTSTAMP:20260420T185636
CREATED:20240221T124018Z
LAST-MODIFIED:20240221T124018Z
UID:8129-1708646400-1709164799@www.carnavaldecadiz.com
SUMMARY:Próximas actuaciones de 'Los Pi-Horror'
DESCRIPTION:Viernes 23 de febrero \n\n21:00h – Nueva Jarilla\, Jeres de la Frontera\n\nSábado 24 de febrero \n\n13:00h – Banamahoma\, Grazalema\n20:30h – Setenil de las Bodegas\n\nDomingo 25 de febrero \n\n14:00h – Torre Alhaquime\n17:00h – San Martín del Tesorillo\n\nMiércoles 28 de febrero \n\n14:00h – Peña ‘Los pollitos y mi compadre’ San Fernando\n16:30h – Barriada de Andalucía\, San Fernando\n19:ooh – Batalla de coplas\, Plaza del Rey\, San Fernando\n\nTodos los eventos son públicos y de libre acceso. \n 
URL:https://www.carnavaldecadiz.com/event/proximas-actuaciones-de-los-pi-horror/
LOCATION:Plaza del Rey\, San Fernando\, Plaza del Rey\, San Fernando\, Cádiz\, 11100\, España
CATEGORIES:actuaciones de carnaval
END:VEVENT
BEGIN:VEVENT
DTSTART;TZID=Europe/Madrid:20240227T213000
DTEND;TZID=Europe/Madrid:20240227T223000
DTSTAMP:20260420T185636
CREATED:20240221T232500Z
LAST-MODIFIED:20240221T232500Z
UID:8172-1709069400-1709073000@www.carnavaldecadiz.com
SUMMARY:Actuación de 'Anonymous gaditano'
DESCRIPTION:
URL:https://www.carnavaldecadiz.com/event/actuacion-de-anonymous-gaditano/
LOCATION:Lito’s Corner\, San Fernando\, Avenida Almirante León Herrero 31\, San Fernando\, Cádiz\, 11100\, España
CATEGORIES:actuaciones de carnaval
END:VEVENT
END:VCALENDAR