BEGIN:VCALENDAR
VERSION:2.0
PRODID:-//Carnaval de C&aacute;diz - ECPv6.15.20//NONSGML v1.0//EN
CALSCALE:GREGORIAN
METHOD:PUBLISH
X-ORIGINAL-URL:https://www.carnavaldecadiz.com
X-WR-CALDESC:Eventos para Carnaval de C&aacute;diz
REFRESH-INTERVAL;VALUE=DURATION:PT1H
X-Robots-Tag:noindex
X-PUBLISHED-TTL:PT1H
BEGIN:VTIMEZONE
TZID:Europe/Madrid
BEGIN:DAYLIGHT
TZOFFSETFROM:+0100
TZOFFSETTO:+0200
TZNAME:CEST
DTSTART:20230326T010000
END:DAYLIGHT
BEGIN:STANDARD
TZOFFSETFROM:+0200
TZOFFSETTO:+0100
TZNAME:CET
DTSTART:20231029T010000
END:STANDARD
BEGIN:DAYLIGHT
TZOFFSETFROM:+0100
TZOFFSETTO:+0200
TZNAME:CEST
DTSTART:20240331T010000
END:DAYLIGHT
BEGIN:STANDARD
TZOFFSETFROM:+0200
TZOFFSETTO:+0100
TZNAME:CET
DTSTART:20241027T010000
END:STANDARD
BEGIN:DAYLIGHT
TZOFFSETFROM:+0100
TZOFFSETTO:+0200
TZNAME:CEST
DTSTART:20250330T010000
END:DAYLIGHT
BEGIN:STANDARD
TZOFFSETFROM:+0200
TZOFFSETTO:+0100
TZNAME:CET
DTSTART:20251026T010000
END:STANDARD
END:VTIMEZONE
BEGIN:VEVENT
DTSTART;VALUE=DATE:20240118
DTEND;VALUE=DATE:20240219
DTSTAMP:20260420T202534
CREATED:20240122T125834Z
LAST-MODIFIED:20240122T125834Z
UID:7068-1705536000-1708300799@www.carnavaldecadiz.com
SUMMARY:Exposición Fotográfica 'Kiki: Objetivo los 80'
DESCRIPTION:Gracias a Kiki Fotógrafos\, revivimos momentos históricos y memorables de Cádiz y su carnaval\, una fiesta cuyo corazón es libre por naturaleza. \nLa muestra es un viaje en el tiempo\, con 65 imágenes icónicas de una colección de más de 1.300 fotografías\, que recogen curiosidades y momentos que han definido esta fiesta a lo largo de las generaciones. \nHorario de visita: \nDe lunes a sábado de 11:00h a 14:00h y de 16:00h a 20:00h \nEntrada libre hasta completar el aforo.
URL:https://www.carnavaldecadiz.com/event/exposicion-fotografica-kiki-objetivo-los-80/
LOCATION:Fundación CajaSol\, Cádiz\, Plaza de San Antonio 13\, Cádiz\, Cádiz\, 11003\, España
CATEGORIES:exposiciones,fotos carnaval,Mucho más que carnaval
ATTACH;FMTTYPE=image/jpeg:https://www.carnavaldecadiz.com/wp-content/uploads/2024/01/0218Kiki.jpg
END:VEVENT
BEGIN:VEVENT
DTSTART;TZID=Europe/Madrid:20240209T080000
DTEND;TZID=Europe/Madrid:20240407T170000
DTSTAMP:20260420T202534
CREATED:20240210T214448Z
LAST-MODIFIED:20240210T214543Z
UID:7800-1707465600-1712509200@www.carnavaldecadiz.com
SUMMARY:Exposición Aguja de Oro del Carnaval de Cádiz
DESCRIPTION:Horario de visitas: \n\nDe lunes a sábado de 11:00 a 19:00 h. (última entrada a las 18:00h.)\nDomingos y festivos de 11:00 a 14:00h. (última entrada a las 13:00h.)\n\nReserva tu visita: \n\nCorreo electrónico: visita.lacasadelcarnaval@ext.cadiz.es\nTeléfono: 682 378 644\n\nEvento público de libre acceso
URL:https://www.carnavaldecadiz.com/event/exposicion-aguja-de-oro-del-carnaval-de-cadiz/
LOCATION:Casa del Carnaval\, Cádiz\, calle Marqués del Real Tesoro 15\, 17\, Cádiz\, Cádiz\, 11001\, España
CATEGORIES:exposiciones,Mucho más que carnaval
END:VEVENT
BEGIN:VEVENT
DTSTART;VALUE=DATE:20240211
DTEND;VALUE=DATE:20240219
DTSTAMP:20260420T202534
CREATED:20240210T205014Z
LAST-MODIFIED:20240213T155657Z
UID:7793-1707609600-1708300799@www.carnavaldecadiz.com
SUMMARY:Carnaval en el Mentidero
DESCRIPTION:Organizan AVV ‘El Carmen’ Barrios del Mentidero y San Lorenzo Martir. Comerciantes de la Plaza del Mentidero.\nDomingo 11 a partir de la 13:00h \n\nXIII Concurso de Presentaciones ‘Holaquilloquepasa’\, de martes 13 a jueves 15 a partir de las 20:00h.\n\nOrden de actuación martes 13 de febrero \n\n20:00h – Comparsa Juvenil – LOS VISITANTES\n20:20h – Cuarteto Juvenil – CAMPAMENTO DE VERANO GADITANO: ER TÍO CHANO\n20:40h – Comparsa Infantil – LAS HIJAS DE NEPTUNO\n21:00h – Cuarteto Infantil – ALCHICOFRADÍA DEL SHANGAI\, A VER SI LLEGAMOS A CAI\n21:30h – Coro – LOS VITAMINA\n22:00h – Chirigota – LOS SUPER EGO\n22:30h – Coro – LA COCTELERA\n23:00h – Chirigota – LA CHIRIGOTA CLÁSICA\n23:30h – Comparsa – LOS BENDITOS\n00:00h – Coro – EL GREMIO\n00:30h – Chirigota – LOS PLÁCIDOS DOMINGOS\n01:00h – Comparsa – LAS HEREDERAS\n\n  \nLunes 12 a partir de las 12:00h \n\nFestival a beneficio de AGAMAMA \n\nViernes 16 a partir de las 20:00h \n\nConcurso de Romanceros\n\nSábado 17 a partir de las 13:00h \n\nCarrusel de coros\n\nDomingo 18 a partir de las 13:00h \n\nII pinchada Popular (pinchitos y cerveza)\n\n  \n 
URL:https://www.carnavaldecadiz.com/event/carnaval-en-el-mentidero/
LOCATION:Plaza del Mentidero. Cádiz\, Plaza del Mentidero\, Cádiz\, Cádiz\, 11003\, España
CATEGORIES:actuaciones de carnaval,CARNAVAL 2024,carnaval callejero,Comida popular
END:VEVENT
BEGIN:VEVENT
DTSTART;VALUE=DATE:20240216
DTEND;VALUE=DATE:20240218
DTSTAMP:20260420T202534
CREATED:20240207T130732Z
LAST-MODIFIED:20240207T130732Z
UID:7606-1708041600-1708214399@www.carnavaldecadiz.com
SUMMARY:Carnaval de Jerez
DESCRIPTION:Gala Carnavalesca ‘Selu Dormido’. \nActuarán las siguientes agrupaciones: \n\n17:30h chirigota ‘Los mete mierda’ + info\n18:00h chirigota ‘Los teleoperadores’ + info\n18:30h comparsa ‘La calle de la curva’\n19:00h chirigota ‘Quevedo 5.0’ + info\n19:30h comparsa ‘Y seguimos cantando’ + info\n20:30h chirigota ‘Que ni las hambre las vamos a sentí’ + info\n\nEvento público de libre acceso. \nPrograma completo \n \n 
URL:https://www.carnavaldecadiz.com/event/carnaval-de-jerez/
LOCATION:Plaza del Banco\, Jerez\, Plaza del Banco\, Jerez de la Frontera\, Cádiz\, España
CATEGORIES:actuaciones de carnaval
END:VEVENT
BEGIN:VEVENT
DTSTART;VALUE=DATE:20240216
DTEND;VALUE=DATE:20240219
DTSTAMP:20260420T202534
CREATED:20240213T212805Z
LAST-MODIFIED:20240213T212805Z
UID:7907-1708041600-1708300799@www.carnavaldecadiz.com
SUMMARY:Carnaval de Cádiz en Algeciras
DESCRIPTION:Viernes 16 de febrero\n\na las 22:00h – Actuación de la comparsa – LOS SACRIFICAOS\n\nSábado 17 de febrero\n\n a las 22:00h – Actuación de la chirigota – LA CALLEJERA INVISIBLE\n\nDomingo 18 de febrero\n\na las 13:30h – Actuación de la comparsa – EL JOYERO\n\nEventos públicos de libre acceso.
URL:https://www.carnavaldecadiz.com/event/carnaval-de-cadiz-en-algeciras/
LOCATION:Plaza Alta\, Algeciras\, Plaza Alta\, Algeciras\, Cádiz\, 11201\, España
CATEGORIES:actuaciones de carnaval,CARNAVAL 2024
END:VEVENT
BEGIN:VEVENT
DTSTART;TZID=Europe/Madrid:20240217T130000
DTEND;TZID=Europe/Madrid:20240217T170000
DTSTAMP:20260420T202534
CREATED:20240213T210955Z
LAST-MODIFIED:20240216T150126Z
UID:7903-1708174800-1708189200@www.carnavaldecadiz.com
SUMMARY:I Salpiconá Popular - Peña Cádiz CF de Puerto Real
DESCRIPTION:El evento contará con la actuación de las siguientes agrupaciones: \n\n13:00h – Grupo de baile infantil ‘Academia de baile Salud Heredia’\n13:30h –  Chirigota infantil ‘La jungla de cristal’\n14:00h – Chirigota ‘La chirigota absurda. Los mierdas lerendas’\n14:30h – Comparsa ‘La plaza’\n15:00h – Chirigota ‘Los herederos’\n15:30h – Romanceros ‘Nosferatuuuu…’ y ‘El trastero’\n16:15h – Romancero ‘La hija secreta de Cuqui: La muñeca diabólica’\n16:45h – Romancero ‘Toro sentado (y su hijo de pié cansado)’\n17:15h – Chirigota ‘Esta noche salgo por cojones’\n17:30h – Romancero ‘Zeta y Zero’\n18:00h – Academia de baile. Salud Heredia\n18:30h – Comparsa ‘Los benditos’\n\nEvento público de libre acceso.
URL:https://www.carnavaldecadiz.com/event/i-salpicona-popular-pena-cadiz-cf-de-puerto-real/
LOCATION:calle Sagasta 53\, Puerto Real\, calle Sagasta 53\, Puerto Real\, Cádiz\, 11510\, España
CATEGORIES:Comida popular
END:VEVENT
BEGIN:VEVENT
DTSTART;TZID=Europe/Madrid:20240217T133000
DTEND;TZID=Europe/Madrid:20240217T230000
DTSTAMP:20260420T202534
CREATED:20240216T170309Z
LAST-MODIFIED:20240216T170402Z
UID:8005-1708176600-1708210800@www.carnavaldecadiz.com
SUMMARY:Carrusel de Callejeras Peña 'Los adoquines'
DESCRIPTION:Han confirmado asistencia: \n\nRomancero – Aquellos rublos antiguos\nRomancero – Dragon-Ball\, pero la parte de niño nada más\nChirigota – Las sin filtro\nChirigota – Los becarios del telediario\nChirigota – Los lisántropos\nRomancero – Con mi mono de faena\nChirigota – Los Bacardi\nChirigota – Los psicoanalistas se la dan de artistas\nRomancero – El quinto coño\nRomancero – El romancero más malo del mundo\nRomancero – Basado en hechos reales\nRomancero – Napoleón\, la verdad verdadera\nChirigota – Ni un paso a tras\nChirigota – De venta en venta\nChirigota –  La historia de Lolita cuando Napoleón estuvo de visita\nRomancero – Er viudo\nChirigota – Los que salieron del caballo\nChirigota – Los teleoperadores\nChirigota – Las Abbas clonás\nChirigota – Las marimorenas\nChirigota – Valiente príncipe\nChirigota – Anatomía de Cai\nRomancero – Facha por confusión\n\nEvento público de libre acceso. \n 
URL:https://www.carnavaldecadiz.com/event/carrusel-de-callejeras-pena-los-adoquines/
LOCATION:Peña Los Adoquines\, calle Sagasta 91\, Cádiz\, Cádiz\, 11002\, España
CATEGORIES:actuaciones de carnaval,CARNAVAL 2024,carnaval callejero
END:VEVENT
BEGIN:VEVENT
DTSTART;TZID=Europe/Madrid:20240217T140000
DTEND;TZID=Europe/Madrid:20240217T170000
DTSTAMP:20260420T202534
CREATED:20231211T210907Z
LAST-MODIFIED:20240213T232932Z
UID:6167-1708178400-1708189200@www.carnavaldecadiz.com
SUMMARY:Comida Popular - XLII  Nofritá
DESCRIPTION:Comida por determinar. \nEvento público de libre acceso
URL:https://www.carnavaldecadiz.com/event/comida-popular-xlii-nofrita/
LOCATION:Peña La Cruz del Mar\, Chipiona\, calle Padre Lerchundi 64\, Chipiona\, Cádiz\, España
CATEGORIES:actuaciones de carnaval,Comida popular
END:VEVENT
BEGIN:VEVENT
DTSTART;TZID=Europe/Madrid:20240217T140000
DTEND;TZID=Europe/Madrid:20240217T170000
DTSTAMP:20260420T202534
CREATED:20240216T154859Z
LAST-MODIFIED:20240216T154859Z
UID:7985-1708178400-1708189200@www.carnavaldecadiz.com
SUMMARY:XXXVI Panizada Popular y Final del XXIV Concurso de Tangos y Pasodobles 'Paco Alba'
DESCRIPTION:Agrupaciones que actuarán en la Final del XXIV Concurso de Tangos y Pasodobles ‘Paco Alba’ durante la celebración de la XXXVI Panizada Popular\, este año dedicado a Manoli Lemos Campaña (conocida locutora de Onda Cádiz) y donde se repartirán panizas\, huevos de frailes y cervezas. \nCOROS: \n\nLA FIESTA DE LOS LOCOS\nEL PARAISO\n\nCOMPARSAS: \n\nDONDE FUIMOS FELICES\nLOS SACRIFICADOS\n\nCHIRIGOTAS: \n\nCARNAVAL\, ME CAGO EN TUS MUERTOS\nLOS CHABOLIS\n\nEvento público de libre acceso.
URL:https://www.carnavaldecadiz.com/event/xxxvi-panizada-popular-y-final-del-xxiv-concurso-de-tangos-y-pasodobles-paco-alba/
LOCATION:Peña Paco Alba\, calle antulo 6\, Cádiz\, Cádiz\, 11006\, España
CATEGORIES:actuaciones de carnaval,CARNAVAL 2024,Comida popular,concurso de carnaval
END:VEVENT
BEGIN:VEVENT
DTSTART;TZID=Europe/Madrid:20240217T183000
DTEND;TZID=Europe/Madrid:20240218T010000
DTSTAMP:20260420T202534
CREATED:20240216T161227Z
LAST-MODIFIED:20240216T161325Z
UID:7992-1708194600-1708218000@www.carnavaldecadiz.com
SUMMARY:Carnaval en San Fernando
DESCRIPTION:Actuaciones en la Plaza del Rey. Ayuntamiento. \n\n18:45h – Antología ‘El bufón coplero’\n20:00h – Chirigota ‘Los flamencos de Doñana’\n21:15h – Chirigota ‘Los super-ego’\n22:30h – Chirigota ‘Que ni las hambre las vamo a sentí’\n23:45h – Actuación del grupo musical ‘Los malos de la película’\n\nEvento público de libre acceso.
URL:https://www.carnavaldecadiz.com/event/carnaval-en-san-fernando/
LOCATION:Plaza del Rey\, San Fernando\, Plaza del Rey\, San Fernando\, Cádiz\, 11100\, España
CATEGORIES:actuaciones de carnaval
END:VEVENT
BEGIN:VEVENT
DTSTART;TZID=Europe/Madrid:20240217T200000
DTEND;TZID=Europe/Madrid:20240217T233000
DTSTAMP:20260420T202534
CREATED:20240207T155830Z
LAST-MODIFIED:20240207T160049Z
UID:7626-1708200000-1708212600@www.carnavaldecadiz.com
SUMMARY:Carnaval Callejero en el Café-Teatro Pay-pay
DESCRIPTION:Actuarán: \n\nRomancero – ‘Nostalgia de hueva’ + info\nChirigota – ‘Los psicoanalistas se la dan de artistas’ + info\nComparsa – ‘Las Adolfas. Una comparsa feminazi de toda la vida’ + info\nChirigota – ‘Los lisántropos’ + info\nChiridúo – ‘ABATAR. Desavío en el espacio’ + info\nChirigota – ‘Las marimorenas’ + info\nChirigota – ‘Los que fuero a Woodstock y todavía están a gusto’\nChirigota – ‘La gaviota’\n\nEntrada libre por orden de llegada hasta completar aforo. \nEl orden de actuación puede sufrir modificaciones. \nNo se permite la entrada a menores de 16 años.
URL:https://www.carnavaldecadiz.com/event/carnaval-callejero-en-el-cafe-teatro-pay-pay-4/
LOCATION:Café Tatro Pay Pay\, C/ Silencio\, Cádiz\, Cádiz\, 11002
CATEGORIES:actuaciones de carnaval
ATTACH;FMTTYPE=image/jpeg:https://www.carnavaldecadiz.com/wp-content/uploads/2024/02/02014Pay-pay2.jpg
END:VEVENT
END:VCALENDAR