BEGIN:VCALENDAR
VERSION:2.0
PRODID:-//Carnaval de C&aacute;diz - ECPv6.15.20//NONSGML v1.0//EN
CALSCALE:GREGORIAN
METHOD:PUBLISH
X-WR-CALNAME:Carnaval de C&aacute;diz
X-ORIGINAL-URL:https://www.carnavaldecadiz.com
X-WR-CALDESC:Eventos para Carnaval de C&aacute;diz
REFRESH-INTERVAL;VALUE=DURATION:PT1H
X-Robots-Tag:noindex
X-PUBLISHED-TTL:PT1H
BEGIN:VTIMEZONE
TZID:Europe/Madrid
BEGIN:DAYLIGHT
TZOFFSETFROM:+0100
TZOFFSETTO:+0200
TZNAME:CEST
DTSTART:20230326T010000
END:DAYLIGHT
BEGIN:STANDARD
TZOFFSETFROM:+0200
TZOFFSETTO:+0100
TZNAME:CET
DTSTART:20231029T010000
END:STANDARD
BEGIN:DAYLIGHT
TZOFFSETFROM:+0100
TZOFFSETTO:+0200
TZNAME:CEST
DTSTART:20240331T010000
END:DAYLIGHT
BEGIN:STANDARD
TZOFFSETFROM:+0200
TZOFFSETTO:+0100
TZNAME:CET
DTSTART:20241027T010000
END:STANDARD
BEGIN:DAYLIGHT
TZOFFSETFROM:+0100
TZOFFSETTO:+0200
TZNAME:CEST
DTSTART:20250330T010000
END:DAYLIGHT
BEGIN:STANDARD
TZOFFSETFROM:+0200
TZOFFSETTO:+0100
TZNAME:CET
DTSTART:20251026T010000
END:STANDARD
END:VTIMEZONE
BEGIN:VEVENT
DTSTART;VALUE=DATE:20240118
DTEND;VALUE=DATE:20240219
DTSTAMP:20260420T202343
CREATED:20240122T125834Z
LAST-MODIFIED:20240122T125834Z
UID:7068-1705536000-1708300799@www.carnavaldecadiz.com
SUMMARY:Exposición Fotográfica 'Kiki: Objetivo los 80'
DESCRIPTION:Gracias a Kiki Fotógrafos\, revivimos momentos históricos y memorables de Cádiz y su carnaval\, una fiesta cuyo corazón es libre por naturaleza. \nLa muestra es un viaje en el tiempo\, con 65 imágenes icónicas de una colección de más de 1.300 fotografías\, que recogen curiosidades y momentos que han definido esta fiesta a lo largo de las generaciones. \nHorario de visita: \nDe lunes a sábado de 11:00h a 14:00h y de 16:00h a 20:00h \nEntrada libre hasta completar el aforo.
URL:https://www.carnavaldecadiz.com/event/exposicion-fotografica-kiki-objetivo-los-80/
LOCATION:Fundación CajaSol\, Cádiz\, Plaza de San Antonio 13\, Cádiz\, Cádiz\, 11003\, España
CATEGORIES:exposiciones,fotos carnaval,Mucho más que carnaval
ATTACH;FMTTYPE=image/jpeg:https://www.carnavaldecadiz.com/wp-content/uploads/2024/01/0218Kiki.jpg
END:VEVENT
BEGIN:VEVENT
DTSTART;TZID=Europe/Madrid:20240209T080000
DTEND;TZID=Europe/Madrid:20240407T170000
DTSTAMP:20260420T202343
CREATED:20240210T214448Z
LAST-MODIFIED:20240210T214543Z
UID:7800-1707465600-1712509200@www.carnavaldecadiz.com
SUMMARY:Exposición Aguja de Oro del Carnaval de Cádiz
DESCRIPTION:Horario de visitas: \n\nDe lunes a sábado de 11:00 a 19:00 h. (última entrada a las 18:00h.)\nDomingos y festivos de 11:00 a 14:00h. (última entrada a las 13:00h.)\n\nReserva tu visita: \n\nCorreo electrónico: visita.lacasadelcarnaval@ext.cadiz.es\nTeléfono: 682 378 644\n\nEvento público de libre acceso
URL:https://www.carnavaldecadiz.com/event/exposicion-aguja-de-oro-del-carnaval-de-cadiz/
LOCATION:Casa del Carnaval\, Cádiz\, calle Marqués del Real Tesoro 15\, 17\, Cádiz\, Cádiz\, 11001\, España
CATEGORIES:exposiciones,Mucho más que carnaval
END:VEVENT
BEGIN:VEVENT
DTSTART;VALUE=DATE:20240210
DTEND;VALUE=DATE:20240217
DTSTAMP:20260420T202343
CREATED:20240209T113002Z
LAST-MODIFIED:20240209T113912Z
UID:7716-1707523200-1708127999@www.carnavaldecadiz.com
SUMMARY:Programa Carnaval en el Pópulo
DESCRIPTION:Sábado 10 de febrero:\n\n22:00h Pregón a cargo de la pareja de romanceros Cuqui y Ketama\n23:00h Fiesta ‘Wild West’\, actuación de agrupación y pasacalles con ‘La charanga de Cádiz’\n\nDomingo 11 de febrero:\n\nActuaciones de coros y comparsas\n\nLunes 12 y martes 13 de febrero: IV Concurso de Romanceros ‘Cartelón de oro’\nOrden de actuación del lunes ( en Gorrión Wine Bar)\n \n\n21:00h – ‘Anunnakis inmortales en la playa de los corrales’ + info\n21:15h – ‘IA\, IA\, OH’ + info\n21:30h – ‘El trastero’ + info\n21:45h – ‘El romancero más malo del mundo’ + info\n22:00h – ‘El trepa’ + info\n22:15h – ‘La hija secreta de Cuqui\, la muñeca diabólica’ + info\n22.30h – ‘Aquellos rublos antiguos’ + info\n22:45h – ’30 monedas’\n23:00h – ‘La no boda del siglo’\n23:15h – ‘La historia de Lolita\, cuando Napoleón estuvo de visita’\n23:30h – ‘Nos la escarapela’ + info\n23:45h – ‘G.R.A.P.A’\n00:00h – ‘Aquí manda el señorito’ + info\n00:15h – ‘Me metí en el centro Reto y ya casi ni me meto’ + info\n00:30h – ‘Yo nunca me equivoco’ + info\n\nOrden de actuación del martes  ( en Taberna Teniente Seblon)\n \n\n21:00h – ‘Mi padre (creo que) era de Cádiz’\n21:15h – ‘El forajido’ + info\n21:30h – ‘Barbie\, contar la verdad para seguir viva’ + info\n21:45h – ‘¡Quillo! Tómatelo con filosofía’ + info\n22:00h – ‘Er viudo’ + info\n22:15h – ‘Er quinto coño’ + info\n22.30h – ‘Basado en hechos reales’\n22:45h – ‘Nosferatuuuu? Er Papi?’ + info\n23:00h – ‘Toro sentado (y su hijo de pié cansado)’ + info\n23:15h – ‘Romalcero Gaditanófobo’ + info\n23:30h – ‘Este año vengo con un objetivo’ + info\n23:45h – ‘Cadifornikeishon’ + info\n00:00h – ‘No tengo prisa ni nadie que me la meta’\n00:15h – ‘Tour tétrico y tenebroso ¡oh Cádiz! Misterioso’ + info\n\nMiércoles 14 y jueves 15 de febrero:\n\n22:00h Carrusel de ilegales\n\nViernes 16 de febrero:\n\n21:00h Final del IV Concurso de Romanceros ‘Cartelón de oro’ en Archivo de Indias\n\nTodos los eventos son de libre acceso
URL:https://www.carnavaldecadiz.com/event/programa-carnaval-en-el-populo/
LOCATION:CAlle Posadilla\, Cadiz\, calle Posadilla\, Cádiz\, Cádiz\, 11005\, España
CATEGORIES:actuaciones de carnaval,concurso de carnaval
END:VEVENT
BEGIN:VEVENT
DTSTART;VALUE=DATE:20240211
DTEND;VALUE=DATE:20240219
DTSTAMP:20260420T202343
CREATED:20240210T205014Z
LAST-MODIFIED:20240213T155657Z
UID:7793-1707609600-1708300799@www.carnavaldecadiz.com
SUMMARY:Carnaval en el Mentidero
DESCRIPTION:Organizan AVV ‘El Carmen’ Barrios del Mentidero y San Lorenzo Martir. Comerciantes de la Plaza del Mentidero.\nDomingo 11 a partir de la 13:00h \n\nXIII Concurso de Presentaciones ‘Holaquilloquepasa’\, de martes 13 a jueves 15 a partir de las 20:00h.\n\nOrden de actuación martes 13 de febrero \n\n20:00h – Comparsa Juvenil – LOS VISITANTES\n20:20h – Cuarteto Juvenil – CAMPAMENTO DE VERANO GADITANO: ER TÍO CHANO\n20:40h – Comparsa Infantil – LAS HIJAS DE NEPTUNO\n21:00h – Cuarteto Infantil – ALCHICOFRADÍA DEL SHANGAI\, A VER SI LLEGAMOS A CAI\n21:30h – Coro – LOS VITAMINA\n22:00h – Chirigota – LOS SUPER EGO\n22:30h – Coro – LA COCTELERA\n23:00h – Chirigota – LA CHIRIGOTA CLÁSICA\n23:30h – Comparsa – LOS BENDITOS\n00:00h – Coro – EL GREMIO\n00:30h – Chirigota – LOS PLÁCIDOS DOMINGOS\n01:00h – Comparsa – LAS HEREDERAS\n\n  \nLunes 12 a partir de las 12:00h \n\nFestival a beneficio de AGAMAMA \n\nViernes 16 a partir de las 20:00h \n\nConcurso de Romanceros\n\nSábado 17 a partir de las 13:00h \n\nCarrusel de coros\n\nDomingo 18 a partir de las 13:00h \n\nII pinchada Popular (pinchitos y cerveza)\n\n  \n 
URL:https://www.carnavaldecadiz.com/event/carnaval-en-el-mentidero/
LOCATION:Plaza del Mentidero. Cádiz\, Plaza del Mentidero\, Cádiz\, Cádiz\, 11003\, España
CATEGORIES:actuaciones de carnaval,CARNAVAL 2024,carnaval callejero,Comida popular
END:VEVENT
BEGIN:VEVENT
DTSTART;VALUE=DATE:20240212
DTEND;VALUE=DATE:20240217
DTSTAMP:20260420T202343
CREATED:20240124T191030Z
LAST-MODIFIED:20240124T211712Z
UID:7154-1707696000-1708127999@www.carnavaldecadiz.com
SUMMARY:XL Concurso de Popurrí de la Viña
DESCRIPTION:Un año más la Federación de Peñas y Entidades Caleteras de Cádiz organiza el XL Concurso del Popurrí 2024. \nArtículo relacionado: Abierto plazo de Inscripción Concurso de Popurrí de la Viña \nLas actuaciones comenzarán a partir de la 21:00h. \nA la espera de recibir información de grupos inscritos y orden de actuación. \nEvento público de libre acceso.
URL:https://www.carnavaldecadiz.com/event/xl-concurso-de-popurri-de-la-vina/
LOCATION:Calle Virgen e la Palma\, Cádiz\, calle Virgen de la Palma\, Cádiz\, Cádiz\, 11002\, España
CATEGORIES:actuaciones de carnaval,CARNAVAL 2024
ATTACH;FMTTYPE=image/png:https://www.carnavaldecadiz.com/wp-content/uploads/2024/01/Federacion-de-penas.png
END:VEVENT
BEGIN:VEVENT
DTSTART;VALUE=DATE:20240212
DTEND;VALUE=DATE:20240217
DTSTAMP:20260420T202343
CREATED:20240213T172527Z
LAST-MODIFIED:20240213T173423Z
UID:7872-1707696000-1708127999@www.carnavaldecadiz.com
SUMMARY:XLV Concurso Fundación Unicaja - Coplas de Carnaval Gaditano
DESCRIPTION:Orden de actuación martes 23 de febrero \n\n20:00h – Coro – LOS VITAMINAS\n20:30h – Coro – LA DAMA DE CÁDIZ\n21:00h – Coro – LA FIESTA DE LOS LOCOS\n21:30h – Comparsa – LA ALEGRÍA DE CÁDIZ\n22:00h – Chirigota – LA CHIRIGOTA CLÁSICA\n22:30 – Comparsa – VUELVE YA EL 3×4\n23:00h – Coro – EL GREMIO\n23:30h – Coro – LA COCTELERA\n00:00h – Chirigota – LOS SUPER EGO\n00:30h – Comparsa – LOS AMULETOS\n01:00h – Chirigota – LOS DEL CANAL SUR\n\nOrden de actuación miércoles 14 de febrero \n\n20:00h – Comparsa – LOS SACRIFICAOS\n20:30h – Coro – LA PIÑATA\n21:00h – Coro – LOS LUCIÉRNAGAS\n21:30h – Coro – ASESINATO EN EL CÁDIZ EXPRES\n22:00h – Chirigota – EL GRINCH DE CAI\n22:30h – Comparsa – CÁDIZ PURO\n23:00h – Chirigota – LOS QUE SALIERON PERDIENDO\n23:30h – Coro – LOS ILUMINADOS\n00:00h – Coro – EL PARAÍSO\n00:30h – Chirigota – ¡POR FIN LO DESPEDIMOS!\n01:00h – Comparsa – PUEBLEJITO LA FRONTERA\n\nOrden de actuación viernes 16 de febrero – Esperando información de los grupos clasificados para la final.
URL:https://www.carnavaldecadiz.com/event/xlv-concurso-fundacion-unicaja/
LOCATION:Plaza San Agustín\, Cádiz\, plaza San Agustín\, Cádiz\, Cádiz\, España
CATEGORIES:actuaciones de carnaval,concurso de carnaval
END:VEVENT
BEGIN:VEVENT
DTSTART;VALUE=DATE:20240214
DTEND;VALUE=DATE:20240217
DTSTAMP:20260420T202343
CREATED:20240210T193128Z
LAST-MODIFIED:20240213T175755Z
UID:7785-1707868800-1708127999@www.carnavaldecadiz.com
SUMMARY:XI Certamen de la Cantera de la ACCC
DESCRIPTION:Certamen de la cantera organizado por la Asociación de la Cantera del Carnaval de Cádiz. \nOrden de actuación del miércoles 14 de febrero \n\n19:00h –  coro juvenil – LA PECERA\n19:20h – chirigota infantil – TOCHIKO MIKAI\n19:40h – comparsa infantil – CALLE FEBRERO\n20:00h – cuarteto juvenil – LA SEÑORITA CANDELARIA Y TRES CHICOS DE SECUNDARIA\n20:20h – chirigota infantil – A LAS CUATRO NOS VEMOS EN LA DO\n20:40h – comparsa infantil – LOS DISCÍPULOS\n21:00h – chirigota infantil – EL MAESTRO CHOCOLATERO\n21:20h – CHIRIGOTA ADULTA – Los de la arritmia al 3×4\n21:40h – comparsa infantil – ¡VALLA CACAO DE COMPARSA!\n22:00h – comparsa infantil – LAS HIJAS DE NEPTUNO\n22:20h – comparsa juvenil – LOS VISITANTES\n22:40h – comparsa juvenil – LA CIUDAD DE LAS ESTRELLAS\n\nOrden de actuación del jueves 15 de febrero \n\n19:00h – chirigota infantil – LOS TRISNINAS\n19:20h – cuarteto infantil – UN CUARTETO EN PELIGRO DE EXTINCIÓN\n19:40h – comparsa infantil – EL BATALLÓN DEL PAPELILLO\n20:00h – chirigota infantil – LOS DORMILONES\n20:20h – chirigota juvenil – CHIRIGOTEROS DESDE LA CUNA\n20:40h – comparsa infantil – SI YO TE CONTARA\n21:00h – chirigota infantil – LOS GALLITOS DE ARANDA DE VILLATUERTA\n21:20h – comparsa juvenil – LA BARRICADA\n21:40h – COMPARSA ADULTA – Y seguimos cantando\n22:00h – chirigota juvenil – CALETA 2024\n22:20h – cuarteto infantil – LA VIDA ES ASÍN\n22:20h – cuarteto juvenil – LOS QUE SE MONTAN SU PROPIA PELÍCULA\n22:40h – romancero infantil – OJALÁ NOS MANDEN A PARÍ\n\nOrden de actuación del viernes 16 de febrero \n\n19:00h – chirigota infantil – ABRIENDO PASO\n19:20h – cuarteto infantil – ¡VALLA ELEMENTOS!\n19:40h – cuarteo infantil – HABÍA UNA VEZ\n20:00h – comparsa juvenil – LA CASA DEL CARNAVAL\n20:20h – COMPARSA DE ADULTOS – La alegría de Cádiz\n20:40h – chirigota juvenil – LAS AÑEJAS\n21:00h – cuarteto infantil – ARCHICPFLADÍA DEL SHANGAY\n21:20h – chirigota infantil – LOS INDIGESTOS\n21:40h – cuarteto infantil – PAPÁ\, MAMÁ\, TENEMOS UN PROBLEMA\n22:00h – cuarteto infantil – BLAM\, BLAM\, BLAM\, SOMOS LOS HIJOS SECRETOS DE DIEGO TRISTAN\n22.20h – cuarteto juvenil – CAMPAMENTO DE VERANO GADITANO. EL TÍO CHANO\n22:40h- comparsa juvenil – EL ARCA DE CÁDIZ\n23:00h – chirigota juvenil – LOS ÚLTIMOS SUPERVIVIENTES DE LA INVASIÓN EXTRANJERA\n\nEvento público de libre acceso
URL:https://www.carnavaldecadiz.com/event/xi-certamen-de-la-cantera-de-la-accc/
LOCATION:Plaza San Juan de Dios\, Plaza San Juan de Dios\, Cádiz\, Cádiz\, España
CATEGORIES:actuaciones de carnaval
END:VEVENT
BEGIN:VEVENT
DTSTART;VALUE=DATE:20240216
DTEND;VALUE=DATE:20240218
DTSTAMP:20260420T202343
CREATED:20240207T130732Z
LAST-MODIFIED:20240207T130732Z
UID:7606-1708041600-1708214399@www.carnavaldecadiz.com
SUMMARY:Carnaval de Jerez
DESCRIPTION:Gala Carnavalesca ‘Selu Dormido’. \nActuarán las siguientes agrupaciones: \n\n17:30h chirigota ‘Los mete mierda’ + info\n18:00h chirigota ‘Los teleoperadores’ + info\n18:30h comparsa ‘La calle de la curva’\n19:00h chirigota ‘Quevedo 5.0’ + info\n19:30h comparsa ‘Y seguimos cantando’ + info\n20:30h chirigota ‘Que ni las hambre las vamos a sentí’ + info\n\nEvento público de libre acceso. \nPrograma completo \n \n 
URL:https://www.carnavaldecadiz.com/event/carnaval-de-jerez/
LOCATION:Plaza del Banco\, Jerez\, Plaza del Banco\, Jerez de la Frontera\, Cádiz\, España
CATEGORIES:actuaciones de carnaval
END:VEVENT
BEGIN:VEVENT
DTSTART;VALUE=DATE:20240216
DTEND;VALUE=DATE:20240219
DTSTAMP:20260420T202343
CREATED:20240213T212805Z
LAST-MODIFIED:20240213T212805Z
UID:7907-1708041600-1708300799@www.carnavaldecadiz.com
SUMMARY:Carnaval de Cádiz en Algeciras
DESCRIPTION:Viernes 16 de febrero\n\na las 22:00h – Actuación de la comparsa – LOS SACRIFICAOS\n\nSábado 17 de febrero\n\n a las 22:00h – Actuación de la chirigota – LA CALLEJERA INVISIBLE\n\nDomingo 18 de febrero\n\na las 13:30h – Actuación de la comparsa – EL JOYERO\n\nEventos públicos de libre acceso.
URL:https://www.carnavaldecadiz.com/event/carnaval-de-cadiz-en-algeciras/
LOCATION:Plaza Alta\, Algeciras\, Plaza Alta\, Algeciras\, Cádiz\, 11201\, España
CATEGORIES:actuaciones de carnaval,CARNAVAL 2024
END:VEVENT
BEGIN:VEVENT
DTSTART;TZID=Europe/Madrid:20240216T160000
DTEND;TZID=Europe/Madrid:20240216T200000
DTSTAMP:20260420T202343
CREATED:20240112T174216Z
LAST-MODIFIED:20240112T174225Z
UID:6845-1708099200-1708113600@www.carnavaldecadiz.com
SUMMARY:Concurso de Bailes por Tanguillo AVV San Carlos
DESCRIPTION:A la espera de más información. \nEvento público de libre acceso
URL:https://www.carnavaldecadiz.com/event/concurso-de-bailes-por-tanguillo-avv-san-carlos/
LOCATION:AAVV San Carlos-Los negritos\, calle San Germán 2\, Cádiz\, Cádiz\, 11004\, España
CATEGORIES:actuaciones de carnaval,concurso de carnaval
END:VEVENT
BEGIN:VEVENT
DTSTART;TZID=Europe/Madrid:20240216T170000
DTEND;TZID=Europe/Madrid:20240216T170000
DTSTAMP:20260420T202343
CREATED:20240209T220040Z
LAST-MODIFIED:20240209T220040Z
UID:7744-1708102800-1708102800@www.carnavaldecadiz.com
SUMMARY:Día de la Cantera en la Plaza Candelaria
DESCRIPTION:Organizado por la Peña ‘La Estrella’\, han confirmado asistencia las siguientes agrupaciones:\n\nChirigota – A LAS CUATRO EN LA DO\nComparsa – EL BATALLÓN DEL PAPELILLO\nComparsa – SI YO TE CONTARA\nCuarteto – HABÍA UNA VEZ\nCuarteto -UN CUARTETO EN PELIGRO DE EXTINCIÓN\nChirigota – TOCHIKO MICAY\nChirigota – EL MAESTRO CHOCOLATERO Y SUS CHIQUILLOS CHIRIGOTEROS\nCuarteto – LA VIDA ES ASÍ\nComparsa – LAS HIJAS DE NEPTUNO\n\nEvento público de libre acceso. \n 
URL:https://www.carnavaldecadiz.com/event/dia-de-la-cantera-en-la-plaza-candelaria/
LOCATION:Plaza Candelaria\, Plaza Candelaria\, Cádiz\, Cádiz\, 11005\, España
CATEGORIES:actuaciones de carnaval
END:VEVENT
BEGIN:VEVENT
DTSTART;TZID=Europe/Madrid:20240216T183000
DTEND;TZID=Europe/Madrid:20240216T203000
DTSTAMP:20260420T202343
CREATED:20240216T144955Z
LAST-MODIFIED:20240216T144955Z
UID:7975-1708108200-1708115400@www.carnavaldecadiz.com
SUMMARY:Tarde de Carnaval Callejero
DESCRIPTION:Organizado por la Asociación Amigos de Quiñones. \nActuarán dos chirigotas callejeras: \n‘El cambio climático’ y ‘Asociación de Apicultores. El cambio climático lo arreglo yo por mis cojones’ \nEvento público de libre acceso.
URL:https://www.carnavaldecadiz.com/event/tarde-de-carnaval-callejero/
LOCATION:Antigüo Rectorado UCA\, calle Ancha 16\, Cádiz\, Cádiz\, 11001\, España
CATEGORIES:actuaciones de carnaval,carnaval callejero
END:VEVENT
END:VCALENDAR