BEGIN:VCALENDAR
VERSION:2.0
PRODID:-//Carnaval de C&aacute;diz - ECPv6.15.20//NONSGML v1.0//EN
CALSCALE:GREGORIAN
METHOD:PUBLISH
X-ORIGINAL-URL:https://www.carnavaldecadiz.com
X-WR-CALDESC:Eventos para Carnaval de C&aacute;diz
REFRESH-INTERVAL;VALUE=DURATION:PT1H
X-Robots-Tag:noindex
X-PUBLISHED-TTL:PT1H
BEGIN:VTIMEZONE
TZID:Europe/Madrid
BEGIN:DAYLIGHT
TZOFFSETFROM:+0100
TZOFFSETTO:+0200
TZNAME:CEST
DTSTART:20230326T010000
END:DAYLIGHT
BEGIN:STANDARD
TZOFFSETFROM:+0200
TZOFFSETTO:+0100
TZNAME:CET
DTSTART:20231029T010000
END:STANDARD
BEGIN:DAYLIGHT
TZOFFSETFROM:+0100
TZOFFSETTO:+0200
TZNAME:CEST
DTSTART:20240331T010000
END:DAYLIGHT
BEGIN:STANDARD
TZOFFSETFROM:+0200
TZOFFSETTO:+0100
TZNAME:CET
DTSTART:20241027T010000
END:STANDARD
BEGIN:DAYLIGHT
TZOFFSETFROM:+0100
TZOFFSETTO:+0200
TZNAME:CEST
DTSTART:20250330T010000
END:DAYLIGHT
BEGIN:STANDARD
TZOFFSETFROM:+0200
TZOFFSETTO:+0100
TZNAME:CET
DTSTART:20251026T010000
END:STANDARD
END:VTIMEZONE
BEGIN:VEVENT
DTSTART;VALUE=DATE:20240118
DTEND;VALUE=DATE:20240219
DTSTAMP:20260420T215343
CREATED:20240122T125834Z
LAST-MODIFIED:20240122T125834Z
UID:7068-1705536000-1708300799@www.carnavaldecadiz.com
SUMMARY:Exposición Fotográfica 'Kiki: Objetivo los 80'
DESCRIPTION:Gracias a Kiki Fotógrafos\, revivimos momentos históricos y memorables de Cádiz y su carnaval\, una fiesta cuyo corazón es libre por naturaleza. \nLa muestra es un viaje en el tiempo\, con 65 imágenes icónicas de una colección de más de 1.300 fotografías\, que recogen curiosidades y momentos que han definido esta fiesta a lo largo de las generaciones. \nHorario de visita: \nDe lunes a sábado de 11:00h a 14:00h y de 16:00h a 20:00h \nEntrada libre hasta completar el aforo.
URL:https://www.carnavaldecadiz.com/event/exposicion-fotografica-kiki-objetivo-los-80/
LOCATION:Fundación CajaSol\, Cádiz\, Plaza de San Antonio 13\, Cádiz\, Cádiz\, 11003\, España
CATEGORIES:exposiciones,fotos carnaval,Mucho más que carnaval
ATTACH;FMTTYPE=image/jpeg:https://www.carnavaldecadiz.com/wp-content/uploads/2024/01/0218Kiki.jpg
END:VEVENT
BEGIN:VEVENT
DTSTART;TZID=Europe/Madrid:20240209T080000
DTEND;TZID=Europe/Madrid:20240407T170000
DTSTAMP:20260420T215343
CREATED:20240210T214448Z
LAST-MODIFIED:20240210T214543Z
UID:7800-1707465600-1712509200@www.carnavaldecadiz.com
SUMMARY:Exposición Aguja de Oro del Carnaval de Cádiz
DESCRIPTION:Horario de visitas: \n\nDe lunes a sábado de 11:00 a 19:00 h. (última entrada a las 18:00h.)\nDomingos y festivos de 11:00 a 14:00h. (última entrada a las 13:00h.)\n\nReserva tu visita: \n\nCorreo electrónico: visita.lacasadelcarnaval@ext.cadiz.es\nTeléfono: 682 378 644\n\nEvento público de libre acceso
URL:https://www.carnavaldecadiz.com/event/exposicion-aguja-de-oro-del-carnaval-de-cadiz/
LOCATION:Casa del Carnaval\, Cádiz\, calle Marqués del Real Tesoro 15\, 17\, Cádiz\, Cádiz\, 11001\, España
CATEGORIES:exposiciones,Mucho más que carnaval
END:VEVENT
BEGIN:VEVENT
DTSTART;VALUE=DATE:20240210
DTEND;VALUE=DATE:20240217
DTSTAMP:20260420T215343
CREATED:20240209T113002Z
LAST-MODIFIED:20240209T113912Z
UID:7716-1707523200-1708127999@www.carnavaldecadiz.com
SUMMARY:Programa Carnaval en el Pópulo
DESCRIPTION:Sábado 10 de febrero:\n\n22:00h Pregón a cargo de la pareja de romanceros Cuqui y Ketama\n23:00h Fiesta ‘Wild West’\, actuación de agrupación y pasacalles con ‘La charanga de Cádiz’\n\nDomingo 11 de febrero:\n\nActuaciones de coros y comparsas\n\nLunes 12 y martes 13 de febrero: IV Concurso de Romanceros ‘Cartelón de oro’\nOrden de actuación del lunes ( en Gorrión Wine Bar)\n \n\n21:00h – ‘Anunnakis inmortales en la playa de los corrales’ + info\n21:15h – ‘IA\, IA\, OH’ + info\n21:30h – ‘El trastero’ + info\n21:45h – ‘El romancero más malo del mundo’ + info\n22:00h – ‘El trepa’ + info\n22:15h – ‘La hija secreta de Cuqui\, la muñeca diabólica’ + info\n22.30h – ‘Aquellos rublos antiguos’ + info\n22:45h – ’30 monedas’\n23:00h – ‘La no boda del siglo’\n23:15h – ‘La historia de Lolita\, cuando Napoleón estuvo de visita’\n23:30h – ‘Nos la escarapela’ + info\n23:45h – ‘G.R.A.P.A’\n00:00h – ‘Aquí manda el señorito’ + info\n00:15h – ‘Me metí en el centro Reto y ya casi ni me meto’ + info\n00:30h – ‘Yo nunca me equivoco’ + info\n\nOrden de actuación del martes  ( en Taberna Teniente Seblon)\n \n\n21:00h – ‘Mi padre (creo que) era de Cádiz’\n21:15h – ‘El forajido’ + info\n21:30h – ‘Barbie\, contar la verdad para seguir viva’ + info\n21:45h – ‘¡Quillo! Tómatelo con filosofía’ + info\n22:00h – ‘Er viudo’ + info\n22:15h – ‘Er quinto coño’ + info\n22.30h – ‘Basado en hechos reales’\n22:45h – ‘Nosferatuuuu? Er Papi?’ + info\n23:00h – ‘Toro sentado (y su hijo de pié cansado)’ + info\n23:15h – ‘Romalcero Gaditanófobo’ + info\n23:30h – ‘Este año vengo con un objetivo’ + info\n23:45h – ‘Cadifornikeishon’ + info\n00:00h – ‘No tengo prisa ni nadie que me la meta’\n00:15h – ‘Tour tétrico y tenebroso ¡oh Cádiz! Misterioso’ + info\n\nMiércoles 14 y jueves 15 de febrero:\n\n22:00h Carrusel de ilegales\n\nViernes 16 de febrero:\n\n21:00h Final del IV Concurso de Romanceros ‘Cartelón de oro’ en Archivo de Indias\n\nTodos los eventos son de libre acceso
URL:https://www.carnavaldecadiz.com/event/programa-carnaval-en-el-populo/
LOCATION:CAlle Posadilla\, Cadiz\, calle Posadilla\, Cádiz\, Cádiz\, 11005\, España
CATEGORIES:actuaciones de carnaval,concurso de carnaval
END:VEVENT
BEGIN:VEVENT
DTSTART;TZID=Europe/Madrid:20240210T133000
DTEND;TZID=Europe/Madrid:20240210T160000
DTSTAMP:20260420T215343
CREATED:20240112T173553Z
LAST-MODIFIED:20240209T203037Z
UID:6841-1707571800-1707580800@www.carnavaldecadiz.com
SUMMARY:I Certamen de Romanceros AVV San Carlos
DESCRIPTION:Orden de actuación\n\nCadifornikeishon + info\nIA\, IA\, OH + info\nNostalgia de hueva. Primer premio del Concurso de Romanceros 2024\nEr viudo + info\nQuien me mandaría meter el batmovil por Compañía + info\nLa tenemos así de grande + info \nCon mi mono de faena + info\n\nEvento público de libre acceso.
URL:https://www.carnavaldecadiz.com/event/i-certamen-de-romanceros-avv-san-carlos/
LOCATION:AAVV San Carlos-Los negritos\, calle San Germán 2\, Cádiz\, Cádiz\, 11004\, España
CATEGORIES:actuaciones de carnaval
END:VEVENT
BEGIN:VEVENT
DTSTART;TZID=Europe/Madrid:20240210T153000
DTEND;TZID=Europe/Madrid:20240210T200000
DTSTAMP:20260420T215343
CREATED:20240111T203524Z
LAST-MODIFIED:20240209T214619Z
UID:6805-1707579000-1707595200@www.carnavaldecadiz.com
SUMMARY:Concurso - Mejor letra de Tango 'Tío de la Tiza'
DESCRIPTION:Orden de actuación\n\n15:30h – LA PIÑATA + info\n16:00h – LA COCTELERA + info\n16:30h – LOS VITAMINAS  + info\n17:00h – LA DAMA DE CÁDIZ + info\n17:30h – LOS LUCIÉRNAGAS + info\n18:00h – EL PARAÍSO + info\n18:30h – LA FIESTA DE LOS LOCOS + info\n19:00h – EL GREMIO + info\n19:30h – LOS ILUMINADOS + info\n\nVuelven las coplas a Candelaria. \nEvento público de libre acceso.
URL:https://www.carnavaldecadiz.com/event/concurso-mejor-letra-de-tango-tio-de-la-tiza/
LOCATION:Plaza Candelaria\, Plaza Candelaria\, Cádiz\, Cádiz\, 11005\, España
CATEGORIES:actuaciones de carnaval,concurso de carnaval
END:VEVENT
BEGIN:VEVENT
DTSTART;TZID=Europe/Madrid:20240210T200000
DTEND;TZID=Europe/Madrid:20240210T213000
DTSTAMP:20260420T215343
CREATED:20240207T124137Z
LAST-MODIFIED:20240207T124417Z
UID:7597-1707595200-1707600600@www.carnavaldecadiz.com
SUMMARY:La Chirigota 'Los que salieron perdiendo' en Utrera
DESCRIPTION:Visita la ficha de la chirigota ‘Los que salieron perdiendo’\, que se quedaron en el corte ¡CAJONAZO! de cuartos de final del COAC de Cádiz. \nEvento público de libre acceso.
URL:https://www.carnavaldecadiz.com/event/la-chirigota-los-que-salieron-perdiendo-en-utrera/
LOCATION:Plaza del Altozano\, Utrera\, Plaza del Altozano\, Utrera\, Sevilla\, 41710\, España
CATEGORIES:actuaciones de carnaval
ATTACH;FMTTYPE=image/jpeg:https://www.carnavaldecadiz.com/wp-content/uploads/2024/02/Los-que-salieron-Perdiendo.jpg
END:VEVENT
BEGIN:VEVENT
DTSTART;TZID=Europe/Madrid:20240210T210000
DTEND;TZID=Europe/Madrid:20240210T220000
DTSTAMP:20260420T215343
CREATED:20240207T202317Z
LAST-MODIFIED:20240207T203005Z
UID:7644-1707598800-1707602400@www.carnavaldecadiz.com
SUMMARY:Actuación de la Chirigota 'Quevedo 5.0'
DESCRIPTION:Evento público de libre acceso.
URL:https://www.carnavaldecadiz.com/event/actuacion-de-la-chirigota-quevedo-5-0/
LOCATION:Café Orleans\, Jerez\, calle Eje. Avenida de Arcos\, Jerez de la Frontera\, Cádiz\, 11405\, España
CATEGORIES:actuaciones de carnaval
END:VEVENT
END:VCALENDAR