BEGIN:VCALENDAR
VERSION:2.0
PRODID:-//Carnaval de C&aacute;diz - ECPv6.15.20//NONSGML v1.0//EN
CALSCALE:GREGORIAN
METHOD:PUBLISH
X-ORIGINAL-URL:https://www.carnavaldecadiz.com
X-WR-CALDESC:Eventos para Carnaval de C&aacute;diz
REFRESH-INTERVAL;VALUE=DURATION:PT1H
X-Robots-Tag:noindex
X-PUBLISHED-TTL:PT1H
BEGIN:VTIMEZONE
TZID:Europe/Madrid
BEGIN:DAYLIGHT
TZOFFSETFROM:+0100
TZOFFSETTO:+0200
TZNAME:CEST
DTSTART:20230326T010000
END:DAYLIGHT
BEGIN:STANDARD
TZOFFSETFROM:+0200
TZOFFSETTO:+0100
TZNAME:CET
DTSTART:20231029T010000
END:STANDARD
BEGIN:DAYLIGHT
TZOFFSETFROM:+0100
TZOFFSETTO:+0200
TZNAME:CEST
DTSTART:20240331T010000
END:DAYLIGHT
BEGIN:STANDARD
TZOFFSETFROM:+0200
TZOFFSETTO:+0100
TZNAME:CET
DTSTART:20241027T010000
END:STANDARD
BEGIN:DAYLIGHT
TZOFFSETFROM:+0100
TZOFFSETTO:+0200
TZNAME:CEST
DTSTART:20250330T010000
END:DAYLIGHT
BEGIN:STANDARD
TZOFFSETFROM:+0200
TZOFFSETTO:+0100
TZNAME:CET
DTSTART:20251026T010000
END:STANDARD
END:VTIMEZONE
BEGIN:VEVENT
DTSTART;VALUE=DATE:20240118
DTEND;VALUE=DATE:20240219
DTSTAMP:20260420T202653
CREATED:20240122T125834Z
LAST-MODIFIED:20240122T125834Z
UID:7068-1705536000-1708300799@www.carnavaldecadiz.com
SUMMARY:Exposición Fotográfica 'Kiki: Objetivo los 80'
DESCRIPTION:Gracias a Kiki Fotógrafos\, revivimos momentos históricos y memorables de Cádiz y su carnaval\, una fiesta cuyo corazón es libre por naturaleza. \nLa muestra es un viaje en el tiempo\, con 65 imágenes icónicas de una colección de más de 1.300 fotografías\, que recogen curiosidades y momentos que han definido esta fiesta a lo largo de las generaciones. \nHorario de visita: \nDe lunes a sábado de 11:00h a 14:00h y de 16:00h a 20:00h \nEntrada libre hasta completar el aforo.
URL:https://www.carnavaldecadiz.com/event/exposicion-fotografica-kiki-objetivo-los-80/
LOCATION:Fundación CajaSol\, Cádiz\, Plaza de San Antonio 13\, Cádiz\, Cádiz\, 11003\, España
CATEGORIES:exposiciones,fotos carnaval,Mucho más que carnaval
ATTACH;FMTTYPE=image/jpeg:https://www.carnavaldecadiz.com/wp-content/uploads/2024/01/0218Kiki.jpg
END:VEVENT
BEGIN:VEVENT
DTSTART;TZID=Europe/Madrid:20240203T170000
DTEND;TZID=Europe/Madrid:20240203T210000
DTSTAMP:20260420T202653
CREATED:20240201T133724Z
LAST-MODIFIED:20240201T133806Z
UID:7439-1706979600-1706994000@www.carnavaldecadiz.com
SUMMARY:Peña Mencantajere - Presentación de la chirigota y romanceros
DESCRIPTION:Se presenta la chirigota de la Peña Mencantajere\, que este año se llama ‘Los teleoperadores’ ver ficha \nA demás se presentan los siguientes romanceros: \n\nComo caídas del cielo\nLa niña de las mallas\nMarioooo! No te quea na!\n\nEvento público de libre acceso
URL:https://www.carnavaldecadiz.com/event/pena-mencantajere-presentacion-de-la-chirigota-y-romanceros/
LOCATION:Peña Mencantajeré\, calla falta 15\, Jerez de la Frontera\, Cádiz\, 11408\, España
CATEGORIES:actuaciones de carnaval
END:VEVENT
BEGIN:VEVENT
DTSTART;TZID=Europe/Madrid:20240203T200000
DTEND;TZID=Europe/Madrid:20240203T213000
DTSTAMP:20260420T202653
CREATED:20240117T193213Z
LAST-MODIFIED:20240117T193213Z
UID:6945-1706990400-1706995800@www.carnavaldecadiz.com
SUMMARY:Ensayo General de 'Cuéntame' - Callejera del Pedri
DESCRIPTION:La conocida como ‘La callejera del Pedri’ (ver ficha) este año se llaman ‘Cuéntame’ \nEs una de las chirigotas más veteranas y más buscadas durante la semana de carnaval y el carnaval chiquito. Les encanta meterse en la piel de personajes femeninos\, pero literalmente han hecho de todo para pasarlo bien y hacer reir. Repertorio con un puntito picantón y suelen desarrollar espectáculos donde se implica al público\, ¡Cuidado que lo mismo te invitan a participar! \nEvento público de libre acceso. Aforo limitado.
URL:https://www.carnavaldecadiz.com/event/ensayo-general-de-cuentame-callejera-del-pedri/
LOCATION:Café Tatro Pay Pay\, C/ Silencio\, Cádiz\, Cádiz\, 11002
CATEGORIES:actuaciones de carnaval,COAC 2024
END:VEVENT
END:VCALENDAR