BEGIN:VCALENDAR
VERSION:2.0
PRODID:-//Carnaval de C&aacute;diz - ECPv6.15.20//NONSGML v1.0//EN
CALSCALE:GREGORIAN
METHOD:PUBLISH
X-ORIGINAL-URL:https://www.carnavaldecadiz.com
X-WR-CALDESC:Eventos para Carnaval de C&aacute;diz
REFRESH-INTERVAL;VALUE=DURATION:PT1H
X-Robots-Tag:noindex
X-PUBLISHED-TTL:PT1H
BEGIN:VTIMEZONE
TZID:Europe/Madrid
BEGIN:DAYLIGHT
TZOFFSETFROM:+0100
TZOFFSETTO:+0200
TZNAME:CEST
DTSTART:20220327T010000
END:DAYLIGHT
BEGIN:STANDARD
TZOFFSETFROM:+0200
TZOFFSETTO:+0100
TZNAME:CET
DTSTART:20221030T010000
END:STANDARD
BEGIN:DAYLIGHT
TZOFFSETFROM:+0100
TZOFFSETTO:+0200
TZNAME:CEST
DTSTART:20230326T010000
END:DAYLIGHT
BEGIN:STANDARD
TZOFFSETFROM:+0200
TZOFFSETTO:+0100
TZNAME:CET
DTSTART:20231029T010000
END:STANDARD
BEGIN:DAYLIGHT
TZOFFSETFROM:+0100
TZOFFSETTO:+0200
TZNAME:CEST
DTSTART:20240331T010000
END:DAYLIGHT
BEGIN:STANDARD
TZOFFSETFROM:+0200
TZOFFSETTO:+0100
TZNAME:CET
DTSTART:20241027T010000
END:STANDARD
BEGIN:DAYLIGHT
TZOFFSETFROM:+0100
TZOFFSETTO:+0200
TZNAME:CEST
DTSTART:20250330T010000
END:DAYLIGHT
BEGIN:STANDARD
TZOFFSETFROM:+0200
TZOFFSETTO:+0100
TZNAME:CET
DTSTART:20251026T010000
END:STANDARD
END:VTIMEZONE
BEGIN:VEVENT
DTSTART;VALUE=DATE:20231109
DTEND;VALUE=DATE:20240201
DTSTAMP:20260420T215119
CREATED:20231111T124058Z
LAST-MODIFIED:20231111T124058Z
UID:4654-1699488000-1706745599@www.carnavaldecadiz.com
SUMMARY:Exposición Fotográfica: Carnaval de Improviso
DESCRIPTION:CARNAVAL DE IMPROVISO. Retratos urgentes: La trastienda del COAC\nFotos de Julio González. \nJulio González es uno de los fotógrafos referencia de la fiesta\, un profesional que vale la pena conocer a través de su trabajo. Inquieto\, detallista que refleja en su trabajo el respeto por la fiesta y las personas que lo hacen posible. \nHorario de visitas: \n\nDe lunes a sábado de 11:00 a 19:00 h. (última entrada a las 18:00h.)\nDomingos y festivos de 11:00 a 14:00h. (última entrada a las 13:00h.)\n\nReserva tu visita: \n\nCorreo electrónico: visita.lacasadelcarnaval@ext.cadiz.es\nTeléfono: 682 378 644\n\nEvento público de libre acceso. \n 
URL:https://www.carnavaldecadiz.com/event/exposicion-fotografica-carnaval-de-improviso/
LOCATION:Casa del Carnaval\, Cádiz\, calle Marqués del Real Tesoro 15\, 17\, Cádiz\, Cádiz\, 11001\, España
CATEGORIES:exposiciones,fotos carnaval
END:VEVENT
BEGIN:VEVENT
DTSTART;VALUE=DATE:20240118
DTEND;VALUE=DATE:20240219
DTSTAMP:20260420T215120
CREATED:20240122T125834Z
LAST-MODIFIED:20240122T125834Z
UID:7068-1705536000-1708300799@www.carnavaldecadiz.com
SUMMARY:Exposición Fotográfica 'Kiki: Objetivo los 80'
DESCRIPTION:Gracias a Kiki Fotógrafos\, revivimos momentos históricos y memorables de Cádiz y su carnaval\, una fiesta cuyo corazón es libre por naturaleza. \nLa muestra es un viaje en el tiempo\, con 65 imágenes icónicas de una colección de más de 1.300 fotografías\, que recogen curiosidades y momentos que han definido esta fiesta a lo largo de las generaciones. \nHorario de visita: \nDe lunes a sábado de 11:00h a 14:00h y de 16:00h a 20:00h \nEntrada libre hasta completar el aforo.
URL:https://www.carnavaldecadiz.com/event/exposicion-fotografica-kiki-objetivo-los-80/
LOCATION:Fundación CajaSol\, Cádiz\, Plaza de San Antonio 13\, Cádiz\, Cádiz\, 11003\, España
CATEGORIES:exposiciones,fotos carnaval,Mucho más que carnaval
ATTACH;FMTTYPE=image/jpeg:https://www.carnavaldecadiz.com/wp-content/uploads/2024/01/0218Kiki.jpg
END:VEVENT
BEGIN:VEVENT
DTSTART;TZID=Europe/Madrid:20240128T130000
DTEND;TZID=Europe/Madrid:20240128T150000
DTSTAMP:20260420T215120
CREATED:20240103T222659Z
LAST-MODIFIED:20240103T222659Z
UID:6624-1706446800-1706454000@www.carnavaldecadiz.com
SUMMARY:Ensayos Generales de Romanceros en 'La Casapuerta'
DESCRIPTION:A la espera de recibir información sobre los romanceros participantes. \nEvento público de libre acceso.
URL:https://www.carnavaldecadiz.com/event/ensayos-generales-de-romanceros-en-la-casapuerta/
LOCATION:Bar La Casapuerta\, calle Sagasta 40\, Cádiz\, Cádiz\, 11001\, España
CATEGORIES:actuaciones de carnaval
END:VEVENT
BEGIN:VEVENT
DTSTART;TZID=Europe/Madrid:20240128T130000
DTEND;TZID=Europe/Madrid:20240128T160000
DTSTAMP:20260420T215120
CREATED:20231215T155751Z
LAST-MODIFIED:20240127T182930Z
UID:6233-1706446800-1706457600@www.carnavaldecadiz.com
SUMMARY:Ostionada Popular
DESCRIPTION:La ostionada\, organizada por El Aula de Cultura del Carnaval de Cádiz\, es uno de los eventos gastronómicos que celebra la ciudad previas al carnaval\, y que tradicionalmente servía para que las agrupaciones del COAC hicieran sus ensayos generales. En 2024 por la temprana celebración del carnaval y el calendario del concurso se celebrará en pleno concurso\, concretamente el mismo día de la tercera sesión de cuartos de final y la segunda de las semifinales juveniles. \nEl evento consiste en la degustación gratuita de ostiones y la actuación de algunaos grupos de carnaval \n\nCoro La coctelera\nCoro El Gremio\nCoro La Piñata\nCoro La Pecera\nChirigota Los Pihorror\nAntología Los cleriguillos\n\nEvento público de libre acceso\,
URL:https://www.carnavaldecadiz.com/event/ostionada-popular/
LOCATION:Plaza San Antonio\, Cádiz\, Plaza San Antonio\, Cádiz\, Cádiz\, España
CATEGORIES:actuaciones de carnaval,evento gastronómico
ATTACH;FMTTYPE=image/jpeg:https://www.carnavaldecadiz.com/wp-content/uploads/2023/12/0128Ostionada.jpg
END:VEVENT
BEGIN:VEVENT
DTSTART;TZID=Europe/Madrid:20240128T130000
DTEND;TZID=Europe/Madrid:20240128T160000
DTSTAMP:20260420T215120
CREATED:20231215T162455Z
LAST-MODIFIED:20240122T132003Z
UID:6237-1706446800-1706457600@www.carnavaldecadiz.com
SUMMARY:XXIII Gambada Popular “Solidaria”
DESCRIPTION:Un plato de gambas por la voluntad\n\nA beneficio: Fundación Benéfica “Virgen de Valvanuz”  y Asociación Democrática de Pensionistas de Cádiz\n\nPresentación del Coro Callejero de Luis Frade  “Los que se Quedaron Tan Panchos” ver ficha\nLetra y música Enrique Valdivia\n\nOrganizada por la Peña C.C. La Tertulia de Doña Frasquita\n\nEntidades que colaboran en el acto\nMARISCOS CORTEMAR\nPeña Flamenca “La Perla de Cádiz”\nPatrocinado: Ayuntamiento de Cádiz Delegación de Fiesta\nCartel de Juan José Martin “By El GRANDE”\n\nEvento público de libre acceso\,
URL:https://www.carnavaldecadiz.com/event/gambada-popular-solidaria/
LOCATION:Peña La Perla\, calle Concepción Arenal s/n\, Cádiz\, Cádiz\, 11006\, España
CATEGORIES:actuaciones de carnaval,Comida popular,evento gastronómico
END:VEVENT
END:VCALENDAR