BEGIN:VCALENDAR
VERSION:2.0
PRODID:-//Carnaval de C&aacute;diz - ECPv6.15.20//NONSGML v1.0//EN
CALSCALE:GREGORIAN
METHOD:PUBLISH
X-ORIGINAL-URL:https://www.carnavaldecadiz.com
X-WR-CALDESC:Eventos para Carnaval de C&aacute;diz
REFRESH-INTERVAL;VALUE=DURATION:PT1H
X-Robots-Tag:noindex
X-PUBLISHED-TTL:PT1H
BEGIN:VTIMEZONE
TZID:Europe/Madrid
BEGIN:DAYLIGHT
TZOFFSETFROM:+0100
TZOFFSETTO:+0200
TZNAME:CEST
DTSTART:20220327T010000
END:DAYLIGHT
BEGIN:STANDARD
TZOFFSETFROM:+0200
TZOFFSETTO:+0100
TZNAME:CET
DTSTART:20221030T010000
END:STANDARD
BEGIN:DAYLIGHT
TZOFFSETFROM:+0100
TZOFFSETTO:+0200
TZNAME:CEST
DTSTART:20230326T010000
END:DAYLIGHT
BEGIN:STANDARD
TZOFFSETFROM:+0200
TZOFFSETTO:+0100
TZNAME:CET
DTSTART:20231029T010000
END:STANDARD
BEGIN:DAYLIGHT
TZOFFSETFROM:+0100
TZOFFSETTO:+0200
TZNAME:CEST
DTSTART:20240331T010000
END:DAYLIGHT
BEGIN:STANDARD
TZOFFSETFROM:+0200
TZOFFSETTO:+0100
TZNAME:CET
DTSTART:20241027T010000
END:STANDARD
BEGIN:DAYLIGHT
TZOFFSETFROM:+0100
TZOFFSETTO:+0200
TZNAME:CEST
DTSTART:20250330T010000
END:DAYLIGHT
BEGIN:STANDARD
TZOFFSETFROM:+0200
TZOFFSETTO:+0100
TZNAME:CET
DTSTART:20251026T010000
END:STANDARD
END:VTIMEZONE
BEGIN:VEVENT
DTSTART;VALUE=DATE:20231109
DTEND;VALUE=DATE:20240201
DTSTAMP:20260420T215120
CREATED:20231111T124058Z
LAST-MODIFIED:20231111T124058Z
UID:4654-1699488000-1706745599@www.carnavaldecadiz.com
SUMMARY:Exposición Fotográfica: Carnaval de Improviso
DESCRIPTION:CARNAVAL DE IMPROVISO. Retratos urgentes: La trastienda del COAC\nFotos de Julio González. \nJulio González es uno de los fotógrafos referencia de la fiesta\, un profesional que vale la pena conocer a través de su trabajo. Inquieto\, detallista que refleja en su trabajo el respeto por la fiesta y las personas que lo hacen posible. \nHorario de visitas: \n\nDe lunes a sábado de 11:00 a 19:00 h. (última entrada a las 18:00h.)\nDomingos y festivos de 11:00 a 14:00h. (última entrada a las 13:00h.)\n\nReserva tu visita: \n\nCorreo electrónico: visita.lacasadelcarnaval@ext.cadiz.es\nTeléfono: 682 378 644\n\nEvento público de libre acceso. \n 
URL:https://www.carnavaldecadiz.com/event/exposicion-fotografica-carnaval-de-improviso/
LOCATION:Casa del Carnaval\, Cádiz\, calle Marqués del Real Tesoro 15\, 17\, Cádiz\, Cádiz\, 11001\, España
CATEGORIES:exposiciones,fotos carnaval
END:VEVENT
BEGIN:VEVENT
DTSTART;VALUE=DATE:20240118
DTEND;VALUE=DATE:20240219
DTSTAMP:20260420T215120
CREATED:20240122T125834Z
LAST-MODIFIED:20240122T125834Z
UID:7068-1705536000-1708300799@www.carnavaldecadiz.com
SUMMARY:Exposición Fotográfica 'Kiki: Objetivo los 80'
DESCRIPTION:Gracias a Kiki Fotógrafos\, revivimos momentos históricos y memorables de Cádiz y su carnaval\, una fiesta cuyo corazón es libre por naturaleza. \nLa muestra es un viaje en el tiempo\, con 65 imágenes icónicas de una colección de más de 1.300 fotografías\, que recogen curiosidades y momentos que han definido esta fiesta a lo largo de las generaciones. \nHorario de visita: \nDe lunes a sábado de 11:00h a 14:00h y de 16:00h a 20:00h \nEntrada libre hasta completar el aforo.
URL:https://www.carnavaldecadiz.com/event/exposicion-fotografica-kiki-objetivo-los-80/
LOCATION:Fundación CajaSol\, Cádiz\, Plaza de San Antonio 13\, Cádiz\, Cádiz\, 11003\, España
CATEGORIES:exposiciones,fotos carnaval,Mucho más que carnaval
ATTACH;FMTTYPE=image/jpeg:https://www.carnavaldecadiz.com/wp-content/uploads/2024/01/0218Kiki.jpg
END:VEVENT
BEGIN:VEVENT
DTSTART;TZID=Europe/Madrid:20240120T130000
DTEND;TZID=Europe/Madrid:20240120T190000
DTSTAMP:20260420T215120
CREATED:20240104T211052Z
LAST-MODIFIED:20240104T211052Z
UID:6648-1705755600-1705777200@www.carnavaldecadiz.com
SUMMARY:X Chicharroná Carnavalesca en la Peña 'Mencantajeré'
DESCRIPTION:Espacio de convivencia para carnavaleros y carnavaleras\, amigas y amigos de la peña y del resto de agrupaciones\, ya sean de Jerez\, o del resto del Orbe conocido\, con la sana intención de darnos una pequeña dosis de veneno\, en forma de coplas\, antológicas o de estreno. Cada uno lo que quiera. \nY para este evento\, hacemos un llamamiento público a todas las agrupaciones que le pueda apetecer soltar los nervios de las primeras coplas en nuestro escenario\, rodeados de nuestro público\, tan agradecido\, como entendido\, ávido de nuevas letras\, para que se sumen y echen un ratito de coplas y amistad. \n\nLas puertas de nuestra peña estarán abiertas para todas las que se quieran acercar a echar unos cantes\, pero para intentar organizar un poco\, si tenéis claro que vais a venir\, danos un toque al whatsapp 609 65 82 55.
URL:https://www.carnavaldecadiz.com/event/x-chicharrona-carnavalesca-en-la-pena-mencantajere/
LOCATION:Peña Mencantajeré\, calla falta 15\, Jerez de la Frontera\, Cádiz\, 11408\, España
CATEGORIES:actuaciones de carnaval,Comida popular
END:VEVENT
BEGIN:VEVENT
DTSTART;TZID=Europe/Madrid:20240120T160000
DTEND;TZID=Europe/Madrid:20240120T200000
DTSTAMP:20260420T215120
CREATED:20240117T211218Z
LAST-MODIFIED:20240117T211312Z
UID:6967-1705766400-1705780800@www.carnavaldecadiz.com
SUMMARY:Ensayo General del Romacero 'La tenemo así de grande'
DESCRIPTION:Romancero ‘La tenemo así de grande’ – ver ficha \nAdemás del romancero actuarán: \n\n“COMPARSA LOS DISLÉXICOS\, QUE DIGA\, CHIRIGOTA” (Chirigota de Los Palacios y Villafranca)\n“LOS HEREDEROS” (Chirigota de Marchena)\n “LOS DEL RÍO” (Chirigota de Las Cabezas de San Juan)\n“LOS GALLITOS (DE ARGANDA DE VILLATUERTA)” (Chirigota Infantil de Dos Hermanas) – ver ficha\n\n\nEvento público de libre acceso.
URL:https://www.carnavaldecadiz.com/event/ensayo-general-del-romacero-la-tenemo-asi-de-grande/
LOCATION:Calle Fernan Caballero\, Los Palacios y Villafranca\, Calle Fernán Caballero\, Los Palacios y Villafranca\, Sevilla\, 41720\, España
CATEGORIES:actuaciones de carnaval
ATTACH;FMTTYPE=image/jpeg:https://www.carnavaldecadiz.com/wp-content/uploads/2024/01/La_tenemo_asi_de_grande.jpg
END:VEVENT
BEGIN:VEVENT
DTSTART;TZID=Europe/Madrid:20240120T210000
DTEND;TZID=Europe/Madrid:20240120T223000
DTSTAMP:20260420T215120
CREATED:20240103T211952Z
LAST-MODIFIED:20240103T212550Z
UID:6601-1705784400-1705789800@www.carnavaldecadiz.com
SUMMARY:Ensayos Generales de Romanceros en el 'Bar Puerta'
DESCRIPTION:El ‘Bar Puerta’ es la Sede Social de la Asociación Cultural Carnavalesca ‘El Pitijopo’ y harán su ensayo general los romanceros: \n‘Tour tétrico y tenebroso ¡Oh\, Cádiz Misterioso!’ de Rafael Rodriguez Benegas ‘Pay’ y David Amaya ‘Awito’ (ver ficha) \n‘Toro sentado (Y su hijo de pié cansado)’ de Juan Antonio Díaz Valleras ‘El Yoana’(ver ficha) \n‘Er viudo’ de Manuel Sánchez Cerpa ‘Er melena’ (ver ficha) \nEvento público de libre acceso.
URL:https://www.carnavaldecadiz.com/event/ensayos-generales-en-el-bar-puerta/
LOCATION:Bar Puerta\, calle San Agustín 52\, Sanlúcar de Barrameda\, Cádiz\, 11540\, España
CATEGORIES:actuaciones de carnaval
END:VEVENT
END:VCALENDAR