BEGIN:VCALENDAR
VERSION:2.0
PRODID:-//Carnaval de C&aacute;diz - ECPv6.15.20//NONSGML v1.0//EN
CALSCALE:GREGORIAN
METHOD:PUBLISH
X-WR-CALNAME:Carnaval de C&aacute;diz
X-ORIGINAL-URL:https://www.carnavaldecadiz.com
X-WR-CALDESC:Eventos para Carnaval de C&aacute;diz
REFRESH-INTERVAL;VALUE=DURATION:PT1H
X-Robots-Tag:noindex
X-PUBLISHED-TTL:PT1H
BEGIN:VTIMEZONE
TZID:Europe/Madrid
BEGIN:DAYLIGHT
TZOFFSETFROM:+0100
TZOFFSETTO:+0200
TZNAME:CEST
DTSTART:20220327T010000
END:DAYLIGHT
BEGIN:STANDARD
TZOFFSETFROM:+0200
TZOFFSETTO:+0100
TZNAME:CET
DTSTART:20221030T010000
END:STANDARD
BEGIN:DAYLIGHT
TZOFFSETFROM:+0100
TZOFFSETTO:+0200
TZNAME:CEST
DTSTART:20230326T010000
END:DAYLIGHT
BEGIN:STANDARD
TZOFFSETFROM:+0200
TZOFFSETTO:+0100
TZNAME:CET
DTSTART:20231029T010000
END:STANDARD
BEGIN:DAYLIGHT
TZOFFSETFROM:+0100
TZOFFSETTO:+0200
TZNAME:CEST
DTSTART:20240331T010000
END:DAYLIGHT
BEGIN:STANDARD
TZOFFSETFROM:+0200
TZOFFSETTO:+0100
TZNAME:CET
DTSTART:20241027T010000
END:STANDARD
END:VTIMEZONE
BEGIN:VEVENT
DTSTART;TZID=Europe/Madrid:20231014T120000
DTEND;TZID=Europe/Madrid:20231014T160000
DTSTAMP:20260421T080626
CREATED:20231010T162953Z
LAST-MODIFIED:20231010T213317Z
UID:3682-1697284800-1697299200@www.carnavaldecadiz.com
SUMMARY:Carnaval Sail GP - Plaza del Mentidero
DESCRIPTION:Evento público de libre acceso
URL:https://www.carnavaldecadiz.com/event/carnaval-de-cadiz-en-alhaurin-el-grande/
LOCATION:plaza del Mentidero\, Plaza del Mentidero\, Cádiz\, Cádiz\, España
END:VEVENT
BEGIN:VEVENT
DTSTART;TZID=Europe/Madrid:20231014T120000
DTEND;TZID=Europe/Madrid:20231014T160000
DTSTAMP:20260421T080626
CREATED:20231010T213829Z
LAST-MODIFIED:20231010T213829Z
UID:3689-1697284800-1697299200@www.carnavaldecadiz.com
SUMMARY:Carnaval Sail GP - Baluarte de Candelaria
DESCRIPTION:Evento público de libre acceso
URL:https://www.carnavaldecadiz.com/event/carnaval-sail-gp-baluarte-de-candelaria/
LOCATION:Baluarte de Candelaria\, Alameda Hermanas Carvia Bernal 6\, Cádiz\, Cádiz\, 11003\, España
END:VEVENT
END:VCALENDAR