BEGIN:VCALENDAR
VERSION:2.0
PRODID:-//Carnaval de C&aacute;diz - ECPv6.15.20//NONSGML v1.0//EN
CALSCALE:GREGORIAN
METHOD:PUBLISH
X-WR-CALNAME:Carnaval de C&aacute;diz
X-ORIGINAL-URL:https://www.carnavaldecadiz.com
X-WR-CALDESC:Eventos para Carnaval de C&aacute;diz
REFRESH-INTERVAL;VALUE=DURATION:PT1H
X-Robots-Tag:noindex
X-PUBLISHED-TTL:PT1H
BEGIN:VTIMEZONE
TZID:Europe/Madrid
BEGIN:DAYLIGHT
TZOFFSETFROM:+0100
TZOFFSETTO:+0200
TZNAME:CEST
DTSTART:20220327T010000
END:DAYLIGHT
BEGIN:STANDARD
TZOFFSETFROM:+0200
TZOFFSETTO:+0100
TZNAME:CET
DTSTART:20221030T010000
END:STANDARD
BEGIN:DAYLIGHT
TZOFFSETFROM:+0100
TZOFFSETTO:+0200
TZNAME:CEST
DTSTART:20230326T010000
END:DAYLIGHT
BEGIN:STANDARD
TZOFFSETFROM:+0200
TZOFFSETTO:+0100
TZNAME:CET
DTSTART:20231029T010000
END:STANDARD
BEGIN:DAYLIGHT
TZOFFSETFROM:+0100
TZOFFSETTO:+0200
TZNAME:CEST
DTSTART:20240331T010000
END:DAYLIGHT
BEGIN:STANDARD
TZOFFSETFROM:+0200
TZOFFSETTO:+0100
TZNAME:CET
DTSTART:20241027T010000
END:STANDARD
END:VTIMEZONE
BEGIN:VEVENT
DTSTART;TZID=Europe/Madrid:20230906T200000
DTEND;TZID=Europe/Madrid:20230906T220000
DTSTAMP:20260421T055723
CREATED:20230718T190330Z
LAST-MODIFIED:20230718T190330Z
UID:1022-1694030400-1694037600@www.carnavaldecadiz.com
SUMMARY:VI Concurso de Mini Grupos de Carnaval
DESCRIPTION:VI Concurso de Mini Grupos de Carnaval\, Memorial José Sierra ‘Paquiqui’ \nA la espera de poder ampliar información de los grupos participantes y orden de actuación. \nEvento público de libre acceso. \nInformación de Bases y boletín de inscripción: \nhttps://www.carnavaldecadiz.com/events/convocado-el-vi-concurso-de-mini-grupos-de-carnaval-de-la-pena-el-plumero/
URL:https://www.carnavaldecadiz.com/event/vi-concurso-de-mini-grupos-de-carnaval/
LOCATION:Peña El Plumero\, calle José Ramos Borrero 2\, San Fernando\, Cádiz\, 11100\, España
END:VEVENT
BEGIN:VEVENT
DTSTART;TZID=Europe/Madrid:20230906T223000
DTEND;TZID=Europe/Madrid:20230906T233000
DTSTAMP:20260421T055723
CREATED:20230803T120614Z
LAST-MODIFIED:20230803T120614Z
UID:1733-1694039400-1694043000@www.carnavaldecadiz.com
SUMMARY:Carnaval en la calle\, Conil
DESCRIPTION:
URL:https://www.carnavaldecadiz.com/event/carnaval-en-la-calle-conil-12/
LOCATION:Plaza de España\, Conil\, Plaza de España\, Conil de la Frontera\, Cádiz\, 11140\, España
END:VEVENT
END:VCALENDAR