BEGIN:VCALENDAR
VERSION:2.0
PRODID:-//Carnaval de C&aacute;diz - ECPv6.15.20//NONSGML v1.0//EN
CALSCALE:GREGORIAN
METHOD:PUBLISH
X-ORIGINAL-URL:https://www.carnavaldecadiz.com
X-WR-CALDESC:Eventos para Carnaval de C&aacute;diz
REFRESH-INTERVAL;VALUE=DURATION:PT1H
X-Robots-Tag:noindex
X-PUBLISHED-TTL:PT1H
BEGIN:VTIMEZONE
TZID:Europe/Madrid
BEGIN:DAYLIGHT
TZOFFSETFROM:+0100
TZOFFSETTO:+0200
TZNAME:CEST
DTSTART:20220327T010000
END:DAYLIGHT
BEGIN:STANDARD
TZOFFSETFROM:+0200
TZOFFSETTO:+0100
TZNAME:CET
DTSTART:20221030T010000
END:STANDARD
BEGIN:DAYLIGHT
TZOFFSETFROM:+0100
TZOFFSETTO:+0200
TZNAME:CEST
DTSTART:20230326T010000
END:DAYLIGHT
BEGIN:STANDARD
TZOFFSETFROM:+0200
TZOFFSETTO:+0100
TZNAME:CET
DTSTART:20231029T010000
END:STANDARD
BEGIN:DAYLIGHT
TZOFFSETFROM:+0100
TZOFFSETTO:+0200
TZNAME:CEST
DTSTART:20240331T010000
END:DAYLIGHT
BEGIN:STANDARD
TZOFFSETFROM:+0200
TZOFFSETTO:+0100
TZNAME:CET
DTSTART:20241027T010000
END:STANDARD
END:VTIMEZONE
BEGIN:VEVENT
DTSTART;TZID=Europe/Madrid:20230831T223000
DTEND;TZID=Europe/Madrid:20230901T003000
DTSTAMP:20260421T060036
CREATED:20230804T170024Z
LAST-MODIFIED:20230804T170024Z
UID:1792-1693521000-1693528200@www.carnavaldecadiz.com
SUMMARY:Carnaval en la calle\, Conil
DESCRIPTION:
URL:https://www.carnavaldecadiz.com/event/carnaval-en-la-calle-conil-17/
LOCATION:Plaza de España\, Conil\, Plaza de España\, Conil de la Frontera\, Cádiz\, 11140\, España
END:VEVENT
BEGIN:VEVENT
DTSTART;TZID=Europe/Madrid:20230901T210000
DTEND;TZID=Europe/Madrid:20230901T220000
DTSTAMP:20260421T060036
CREATED:20230801T165115Z
LAST-MODIFIED:20230801T165115Z
UID:1089-1693602000-1693605600@www.carnavaldecadiz.com
SUMMARY:Noche de carnaval en Trebujena
DESCRIPTION:Actuará el trío formado por: \n\nJavi Otero\nJosé Otero\nKike Jiménez
URL:https://www.carnavaldecadiz.com/event/noche-de-carnaval-en-trebujena/
LOCATION:Peña El Gaditano\, Trebujena
END:VEVENT
END:VCALENDAR