BEGIN:VCALENDAR
VERSION:2.0
PRODID:-//Carnaval de C&aacute;diz - ECPv6.15.20//NONSGML v1.0//EN
CALSCALE:GREGORIAN
METHOD:PUBLISH
X-ORIGINAL-URL:https://www.carnavaldecadiz.com
X-WR-CALDESC:Eventos para Carnaval de C&aacute;diz
REFRESH-INTERVAL;VALUE=DURATION:PT1H
X-Robots-Tag:noindex
X-PUBLISHED-TTL:PT1H
BEGIN:VTIMEZONE
TZID:Europe/Madrid
BEGIN:DAYLIGHT
TZOFFSETFROM:+0100
TZOFFSETTO:+0200
TZNAME:CEST
DTSTART:20220327T010000
END:DAYLIGHT
BEGIN:STANDARD
TZOFFSETFROM:+0200
TZOFFSETTO:+0100
TZNAME:CET
DTSTART:20221030T010000
END:STANDARD
BEGIN:DAYLIGHT
TZOFFSETFROM:+0100
TZOFFSETTO:+0200
TZNAME:CEST
DTSTART:20230326T010000
END:DAYLIGHT
BEGIN:STANDARD
TZOFFSETFROM:+0200
TZOFFSETTO:+0100
TZNAME:CET
DTSTART:20231029T010000
END:STANDARD
BEGIN:DAYLIGHT
TZOFFSETFROM:+0100
TZOFFSETTO:+0200
TZNAME:CEST
DTSTART:20240331T010000
END:DAYLIGHT
BEGIN:STANDARD
TZOFFSETFROM:+0200
TZOFFSETTO:+0100
TZNAME:CET
DTSTART:20241027T010000
END:STANDARD
END:VTIMEZONE
BEGIN:VEVENT
DTSTART;TZID=Europe/Madrid:20230825T220000
DTEND;TZID=Europe/Madrid:20230826T013000
DTSTAMP:20260421T071401
CREATED:20230810T093518Z
LAST-MODIFIED:20230810T093518Z
UID:1976-1693000800-1693013400@www.carnavaldecadiz.com
SUMMARY:Noche de Carnaval en San Fernando
DESCRIPTION:Organizada por la Peña ‘Los pollitos\, mi compadre’. \nEvento público de libre acceso con servicio de barra a precios populares.
URL:https://www.carnavaldecadiz.com/event/noche-de-carnaval-en-san-fernando/
LOCATION:calle San Juan Bautista\, San Fernando\, calle San Juan Bautista\, S/N\,\, San Fernando\, Cádiz\, 11100\, España
END:VEVENT
BEGIN:VEVENT
DTSTART;TZID=Europe/Madrid:20230826T210000
DTEND;TZID=Europe/Madrid:20230826T233000
DTSTAMP:20260421T071401
CREATED:20230804T173722Z
LAST-MODIFIED:20230804T173722Z
UID:1812-1693083600-1693092600@www.carnavaldecadiz.com
SUMMARY:I Concurso Antología de Coplas Plaza del Mentidero
DESCRIPTION:Evento público de libre acceso. \nEste evento se desarrolla durante los días: 24\, 25 y 26 de agosto de 2023 \nA la espera de información sobre grupos inscritos y programa de actuaciones.
URL:https://www.carnavaldecadiz.com/event/i-concurso-antologia-de-coplas-plaza-del-mentidero-3/
LOCATION:plaza del Mentidero\, Plaza del Mentidero\, Cádiz\, Cádiz\, España
END:VEVENT
BEGIN:VEVENT
DTSTART;TZID=Europe/Madrid:20230826T210000
DTEND;TZID=Europe/Madrid:20230827T003000
DTSTAMP:20260421T071401
CREATED:20230816T173707Z
LAST-MODIFIED:20230816T173855Z
UID:2129-1693083600-1693096200@www.carnavaldecadiz.com
SUMMARY:Concurso de Minigrupos Peña El Timón\, San Fernando
DESCRIPTION:Entrada libre. \nAdemás de los grupos clasificados para la final actuarán: \n\nLa Chirigota – La boquita cerrá\nLa antología – Sal de coplas
URL:https://www.carnavaldecadiz.com/event/concurso-de-minigrupos-pena-el-timon-san-fernando-2/
LOCATION:Peña El Timon\, San Fernando\, calle Luis Milena\, San Fernando\, Cádiz\, España
END:VEVENT
BEGIN:VEVENT
DTSTART;TZID=Europe/Madrid:20230826T220000
DTEND;TZID=Europe/Madrid:20230826T233000
DTSTAMP:20260421T071401
CREATED:20230823T160053Z
LAST-MODIFIED:20230823T160053Z
UID:2435-1693087200-1693092600@www.carnavaldecadiz.com
SUMMARY:Canción en Adobo de Jesús Bienvenido
DESCRIPTION:Evento público de libre acceso.
URL:https://www.carnavaldecadiz.com/event/cancion-en-adobo-de-jesus-bienvenido/
LOCATION:Castillo de San Romualdo\, San Fernando\, Plaza del Castillo 2\, San Fernando\, Cádiz\, 11100\, España
END:VEVENT
BEGIN:VEVENT
DTSTART;TZID=Europe/Madrid:20230826T223000
DTEND;TZID=Europe/Madrid:20230826T233000
DTSTAMP:20260421T071401
CREATED:20230820T140333Z
LAST-MODIFIED:20230820T140333Z
UID:2307-1693089000-1693092600@www.carnavaldecadiz.com
SUMMARY:Actuación de la Antología de 'Los Majaras'
DESCRIPTION:Evento público de libre acceso.
URL:https://www.carnavaldecadiz.com/event/actuacion-de-la-antologia-de-los-majaras-2/
LOCATION:Plazade San Lorenzo del Puntal\, Plaza de San Lorenzo\, Cádiz\, Cádiz\, 11011\, España
END:VEVENT
END:VCALENDAR