BEGIN:VCALENDAR
VERSION:2.0
PRODID:-//Carnaval de C&aacute;diz - ECPv6.15.20//NONSGML v1.0//EN
CALSCALE:GREGORIAN
METHOD:PUBLISH
X-ORIGINAL-URL:https://www.carnavaldecadiz.com
X-WR-CALDESC:Eventos para Carnaval de C&aacute;diz
REFRESH-INTERVAL;VALUE=DURATION:PT1H
X-Robots-Tag:noindex
X-PUBLISHED-TTL:PT1H
BEGIN:VTIMEZONE
TZID:Europe/Madrid
BEGIN:DAYLIGHT
TZOFFSETFROM:+0100
TZOFFSETTO:+0200
TZNAME:CEST
DTSTART:20220327T010000
END:DAYLIGHT
BEGIN:STANDARD
TZOFFSETFROM:+0200
TZOFFSETTO:+0100
TZNAME:CET
DTSTART:20221030T010000
END:STANDARD
BEGIN:DAYLIGHT
TZOFFSETFROM:+0100
TZOFFSETTO:+0200
TZNAME:CEST
DTSTART:20230326T010000
END:DAYLIGHT
BEGIN:STANDARD
TZOFFSETFROM:+0200
TZOFFSETTO:+0100
TZNAME:CET
DTSTART:20231029T010000
END:STANDARD
BEGIN:DAYLIGHT
TZOFFSETFROM:+0100
TZOFFSETTO:+0200
TZNAME:CEST
DTSTART:20240331T010000
END:DAYLIGHT
BEGIN:STANDARD
TZOFFSETFROM:+0200
TZOFFSETTO:+0100
TZNAME:CET
DTSTART:20241027T010000
END:STANDARD
END:VTIMEZONE
BEGIN:VEVENT
DTSTART;TZID=Europe/Madrid:20230824T223000
DTEND;TZID=Europe/Madrid:20230825T003000
DTSTAMP:20260421T071355
CREATED:20230804T165753Z
LAST-MODIFIED:20230804T165753Z
UID:1790-1692916200-1692923400@www.carnavaldecadiz.com
SUMMARY:Carnaval en la calle\, Conil
DESCRIPTION:
URL:https://www.carnavaldecadiz.com/event/carnaval-en-la-calle-conil-14/
LOCATION:Plaza de España\, Conil\, Plaza de España\, Conil de la Frontera\, Cádiz\, 11140\, España
END:VEVENT
BEGIN:VEVENT
DTSTART;TZID=Europe/Madrid:20230825T203000
DTEND;TZID=Europe/Madrid:20230825T233000
DTSTAMP:20260421T071355
CREATED:20230819T174718Z
LAST-MODIFIED:20230819T175154Z
UID:2265-1692995400-1693006200@www.carnavaldecadiz.com
SUMMARY:Noche de Callejeras en Chiclana
DESCRIPTION:Evento público que se desarrolla por las calles del centro de la localidad
URL:https://www.carnavaldecadiz.com/event/noche-de-callejeras-en-chiclana/
LOCATION:Sevilla
END:VEVENT
BEGIN:VEVENT
DTSTART;TZID=Europe/Madrid:20230825T210000
DTEND;TZID=Europe/Madrid:20230825T233000
DTSTAMP:20260421T071355
CREATED:20230804T173504Z
LAST-MODIFIED:20230804T173504Z
UID:1810-1692997200-1693006200@www.carnavaldecadiz.com
SUMMARY:I Concurso Antología de Coplas Plaza del Mentidero
DESCRIPTION:Evento público de libre acceso. \nEste evento se desarrolla durante los días: 24\, 25 y 26 de agosto de 2023 \nA la espera de información sobre grupos inscritos y programa de actuaciones.
URL:https://www.carnavaldecadiz.com/event/i-concurso-antologia-de-coplas-plaza-del-mentidero-2/
LOCATION:plaza del Mentidero\, Plaza del Mentidero\, Cádiz\, Cádiz\, España
END:VEVENT
BEGIN:VEVENT
DTSTART;TZID=Europe/Madrid:20230825T220000
DTEND;TZID=Europe/Madrid:20230826T013000
DTSTAMP:20260421T071355
CREATED:20230810T093518Z
LAST-MODIFIED:20230810T093518Z
UID:1976-1693000800-1693013400@www.carnavaldecadiz.com
SUMMARY:Noche de Carnaval en San Fernando
DESCRIPTION:Organizada por la Peña ‘Los pollitos\, mi compadre’. \nEvento público de libre acceso con servicio de barra a precios populares.
URL:https://www.carnavaldecadiz.com/event/noche-de-carnaval-en-san-fernando/
LOCATION:calle San Juan Bautista\, San Fernando\, calle San Juan Bautista\, S/N\,\, San Fernando\, Cádiz\, 11100\, España
END:VEVENT
END:VCALENDAR