BEGIN:VCALENDAR
VERSION:2.0
PRODID:-//Carnaval de C&aacute;diz - ECPv6.15.20//NONSGML v1.0//EN
CALSCALE:GREGORIAN
METHOD:PUBLISH
X-ORIGINAL-URL:https://www.carnavaldecadiz.com
X-WR-CALDESC:Eventos para Carnaval de C&aacute;diz
REFRESH-INTERVAL;VALUE=DURATION:PT1H
X-Robots-Tag:noindex
X-PUBLISHED-TTL:PT1H
BEGIN:VTIMEZONE
TZID:Europe/Madrid
BEGIN:DAYLIGHT
TZOFFSETFROM:+0100
TZOFFSETTO:+0200
TZNAME:CEST
DTSTART:20220327T010000
END:DAYLIGHT
BEGIN:STANDARD
TZOFFSETFROM:+0200
TZOFFSETTO:+0100
TZNAME:CET
DTSTART:20221030T010000
END:STANDARD
BEGIN:DAYLIGHT
TZOFFSETFROM:+0100
TZOFFSETTO:+0200
TZNAME:CEST
DTSTART:20230326T010000
END:DAYLIGHT
BEGIN:STANDARD
TZOFFSETFROM:+0200
TZOFFSETTO:+0100
TZNAME:CET
DTSTART:20231029T010000
END:STANDARD
BEGIN:DAYLIGHT
TZOFFSETFROM:+0100
TZOFFSETTO:+0200
TZNAME:CEST
DTSTART:20240331T010000
END:DAYLIGHT
BEGIN:STANDARD
TZOFFSETFROM:+0200
TZOFFSETTO:+0100
TZNAME:CET
DTSTART:20241027T010000
END:STANDARD
END:VTIMEZONE
BEGIN:VEVENT
DTSTART;TZID=Europe/Madrid:20230817T223000
DTEND;TZID=Europe/Madrid:20230817T233000
DTSTAMP:20260421T071227
CREATED:20230803T120245Z
LAST-MODIFIED:20230804T165427Z
UID:1729-1692311400-1692315000@www.carnavaldecadiz.com
SUMMARY:Carnaval en la calle\, Conil
DESCRIPTION:
URL:https://www.carnavaldecadiz.com/event/carnaval-en-la-calle-conil-10/
LOCATION:Plaza de España\, Conil\, Plaza de España\, Conil de la Frontera\, Cádiz\, 11140\, España
END:VEVENT
BEGIN:VEVENT
DTSTART;TZID=Europe/Madrid:20230817T223000
DTEND;TZID=Europe/Madrid:20230817T233000
DTSTAMP:20260421T071227
CREATED:20230816T164900Z
LAST-MODIFIED:20230816T164900Z
UID:2118-1692311400-1692315000@www.carnavaldecadiz.com
SUMMARY:Actuación de la antología de carnaval 'Piando por Cai'
DESCRIPTION:Evento público de libre acceso.
URL:https://www.carnavaldecadiz.com/event/actuacion-de-la-antologia-de-carnaval-piando-por-cai/
LOCATION:Plaza San Roque\, Rota\, plaza San roque\, Rota\, Cádiz\, 11520\, España
END:VEVENT
END:VCALENDAR