BEGIN:VCALENDAR
VERSION:2.0
PRODID:-//Carnaval de C&aacute;diz - ECPv6.15.20//NONSGML v1.0//EN
CALSCALE:GREGORIAN
METHOD:PUBLISH
X-ORIGINAL-URL:https://www.carnavaldecadiz.com
X-WR-CALDESC:Eventos para Carnaval de C&aacute;diz
REFRESH-INTERVAL;VALUE=DURATION:PT1H
X-Robots-Tag:noindex
X-PUBLISHED-TTL:PT1H
BEGIN:VTIMEZONE
TZID:Europe/Madrid
BEGIN:DAYLIGHT
TZOFFSETFROM:+0100
TZOFFSETTO:+0200
TZNAME:CEST
DTSTART:20220327T010000
END:DAYLIGHT
BEGIN:STANDARD
TZOFFSETFROM:+0200
TZOFFSETTO:+0100
TZNAME:CET
DTSTART:20221030T010000
END:STANDARD
BEGIN:DAYLIGHT
TZOFFSETFROM:+0100
TZOFFSETTO:+0200
TZNAME:CEST
DTSTART:20230326T010000
END:DAYLIGHT
BEGIN:STANDARD
TZOFFSETFROM:+0200
TZOFFSETTO:+0100
TZNAME:CET
DTSTART:20231029T010000
END:STANDARD
BEGIN:DAYLIGHT
TZOFFSETFROM:+0100
TZOFFSETTO:+0200
TZNAME:CEST
DTSTART:20240331T010000
END:DAYLIGHT
BEGIN:STANDARD
TZOFFSETFROM:+0200
TZOFFSETTO:+0100
TZNAME:CET
DTSTART:20241027T010000
END:STANDARD
END:VTIMEZONE
BEGIN:VEVENT
DTSTART;TZID=Europe/Madrid:20230812T230000
DTEND;TZID=Europe/Madrid:20230813T010000
DTSTAMP:20260421T071400
CREATED:20230810T104923Z
LAST-MODIFIED:20230810T104923Z
UID:1990-1691881200-1691888400@www.carnavaldecadiz.com
SUMMARY:Carvavalito de verano en Arcos de la Frontera
DESCRIPTION:El evento se desarrolla por las calles del casco antiguo de la localidad el 11 y 12 de agosto de 2023. \nLa segunda noche te encontrarás por las calles a: \n\nLa chirigota del Airon ‘Los llorones’\nAntología \,’Los cleriguillos
URL:https://www.carnavaldecadiz.com/event/carvavalito-de-verano-en-arcos-de-la-frontera/
LOCATION:Arcos de la Frontera\, Arcos de la Frontera\, Arcos de la Frontera\, Cádiz\, 11630\, España
END:VEVENT
BEGIN:VEVENT
DTSTART;TZID=Europe/Madrid:20230813T220000
DTEND;TZID=Europe/Madrid:20230813T233000
DTSTAMP:20260421T071400
CREATED:20230805T190942Z
LAST-MODIFIED:20230805T190942Z
UID:1875-1691964000-1691969400@www.carnavaldecadiz.com
SUMMARY:Show de humor y carnaval
DESCRIPTION:
URL:https://www.carnavaldecadiz.com/event/show-de-humor-y-carnaval/
LOCATION:Plaza San Jan Bautista\, Cortijillos\, Plaza San Juan Bautista\, Los cortijillos\, Cádiz\, 11379\, España
ATTACH;FMTTYPE=image/png:https://www.carnavaldecadiz.com/wp-content/uploads/2023/08/0813Cinco.png
END:VEVENT
END:VCALENDAR