BEGIN:VCALENDAR
VERSION:2.0
PRODID:-//Carnaval de C&aacute;diz - ECPv6.15.20//NONSGML v1.0//EN
CALSCALE:GREGORIAN
METHOD:PUBLISH
X-WR-CALNAME:Carnaval de C&aacute;diz
X-ORIGINAL-URL:https://www.carnavaldecadiz.com
X-WR-CALDESC:Eventos para Carnaval de C&aacute;diz
REFRESH-INTERVAL;VALUE=DURATION:PT1H
X-Robots-Tag:noindex
X-PUBLISHED-TTL:PT1H
BEGIN:VTIMEZONE
TZID:Europe/Madrid
BEGIN:DAYLIGHT
TZOFFSETFROM:+0100
TZOFFSETTO:+0200
TZNAME:CEST
DTSTART:20220327T010000
END:DAYLIGHT
BEGIN:STANDARD
TZOFFSETFROM:+0200
TZOFFSETTO:+0100
TZNAME:CET
DTSTART:20221030T010000
END:STANDARD
BEGIN:DAYLIGHT
TZOFFSETFROM:+0100
TZOFFSETTO:+0200
TZNAME:CEST
DTSTART:20230326T010000
END:DAYLIGHT
BEGIN:STANDARD
TZOFFSETFROM:+0200
TZOFFSETTO:+0100
TZNAME:CET
DTSTART:20231029T010000
END:STANDARD
BEGIN:DAYLIGHT
TZOFFSETFROM:+0100
TZOFFSETTO:+0200
TZNAME:CEST
DTSTART:20240331T010000
END:DAYLIGHT
BEGIN:STANDARD
TZOFFSETFROM:+0200
TZOFFSETTO:+0100
TZNAME:CET
DTSTART:20241027T010000
END:STANDARD
END:VTIMEZONE
BEGIN:VEVENT
DTSTART;TZID=Europe/Madrid:20230715T213000
DTEND;TZID=Europe/Madrid:20230716T003000
DTSTAMP:20260421T084904
CREATED:20230709T141722Z
LAST-MODIFIED:20230709T141722Z
UID:697-1689456600-1689467400@www.carnavaldecadiz.com
SUMMARY:Festival de Carnaval de Verano
DESCRIPTION:Evento público de libre acceso.\nActuarán: \nComparsa: Los Colaores \nChirigota: Amoscuchá \nComparsa: Los serenos \nComparsa: Vicente Castro \nComparsa: Los Benjamines \nChiriparsa: Cubas Valverde
URL:https://www.carnavaldecadiz.com/event/festival-de-carnaval-de-verano/
LOCATION:Plaza de España.Calañas\, Plaza de España s/n\, Calañas\, Huelva\, 21300\, España
END:VEVENT
END:VCALENDAR