BEGIN:VCALENDAR
VERSION:2.0
PRODID:-//Carnaval de C&aacute;diz - ECPv6.15.20//NONSGML v1.0//EN
CALSCALE:GREGORIAN
METHOD:PUBLISH
X-ORIGINAL-URL:https://www.carnavaldecadiz.com
X-WR-CALDESC:Eventos para Carnaval de C&aacute;diz
REFRESH-INTERVAL;VALUE=DURATION:PT1H
X-Robots-Tag:noindex
X-PUBLISHED-TTL:PT1H
BEGIN:VTIMEZONE
TZID:Europe/Madrid
BEGIN:DAYLIGHT
TZOFFSETFROM:+0100
TZOFFSETTO:+0200
TZNAME:CEST
DTSTART:20240331T010000
END:DAYLIGHT
BEGIN:STANDARD
TZOFFSETFROM:+0200
TZOFFSETTO:+0100
TZNAME:CET
DTSTART:20241027T010000
END:STANDARD
BEGIN:DAYLIGHT
TZOFFSETFROM:+0100
TZOFFSETTO:+0200
TZNAME:CEST
DTSTART:20250330T010000
END:DAYLIGHT
BEGIN:STANDARD
TZOFFSETFROM:+0200
TZOFFSETTO:+0100
TZNAME:CET
DTSTART:20251026T010000
END:STANDARD
BEGIN:DAYLIGHT
TZOFFSETFROM:+0100
TZOFFSETTO:+0200
TZNAME:CEST
DTSTART:20260329T010000
END:DAYLIGHT
BEGIN:STANDARD
TZOFFSETFROM:+0200
TZOFFSETTO:+0100
TZNAME:CET
DTSTART:20261025T010000
END:STANDARD
END:VTIMEZONE
BEGIN:VEVENT
DTSTART;VALUE=DATE:20250731
DTEND;VALUE=DATE:20250803
DTSTAMP:20260419T151923
CREATED:20250704T194926Z
LAST-MODIFIED:20250704T194926Z
UID:21927-1753920000-1754179199@www.carnavaldecadiz.com
SUMMARY:XIII Concurso de Tangos y Pasodobles 'Paco Alba'
DESCRIPTION:Plazo de inscripción y BASES \nA la espera de grupos inscritos y orden de actuación. \nEvento público de libre acceso.
URL:https://www.carnavaldecadiz.com/event/xiii-concurso-de-tangos-y-pasodobles-paco-alba/
LOCATION:Peña Paco Alba\, calle antulo 6\, Cádiz\, Cádiz\, 11006\, España
CATEGORIES:actuaciones de carnaval,concurso de carnaval
END:VEVENT
BEGIN:VEVENT
DTSTART;VALUE=DATE:20250731
DTEND;VALUE=DATE:20250803
DTSTAMP:20260419T151923
CREATED:20250722T203817Z
LAST-MODIFIED:20250722T203817Z
UID:22247-1753920000-1754179199@www.carnavaldecadiz.com
SUMMARY:II Velada Virgen de la Palma Coronada
DESCRIPTION:II Velada Virgen de la Palma Coronada\, a favor de la bolsa de caridad de la Archicofradía. \nPROGRAMACIÓN\nJueves 31 de julio\, a partir de las 20:00h \n\nCoro Juvenil – CORO DE LA IA\nAntología – LOS HERMANOS HASTA EL FIN\nAntología – MÉLODY Y SUS GORILAS\nChirigota – CUANDO TU VAS\, YO VENGO\nChirigota – LOS CALAITA\n\nViernes 1 de agosto\, a partir de las 20:00h \n\nChirigota Infantil – LA FAMILIA TOPOLINO\nJavier\, Miguel y Guille x 4\nMinicoro de Quintero – PATÉ DE GABACHO\nLAS ANTOLÓGICAS\nChirigota – LOS CAGONES\n\nSábado 2 de agosto\, a partir de las 20:00h \n\nBingo ‘LA PETRÓLEO’\nLOS PELADORES DE MARISCO ‘QUE APROVECHE’\nAntología – LOS TUYOS\nChirigota – LOS INHUMANOS\n\nEventos públicos de libre acceso. \nServicio de barra a precios populares.
URL:https://www.carnavaldecadiz.com/event/ii-velada-virgen-de-la-palma-coronada/
LOCATION:Plaza Manolo Santander\, Cádiz\, Plaza de la Reina\, Cádiz\, Cádiz\, 11002\, España
CATEGORIES:actuaciones de carnaval
END:VEVENT
BEGIN:VEVENT
DTSTART;TZID=Europe/Madrid:20250803T220000
DTEND;TZID=Europe/Madrid:20250803T230000
DTSTAMP:20260419T151923
CREATED:20250731T184331Z
LAST-MODIFIED:20250731T184331Z
UID:22572-1754258400-1754262000@www.carnavaldecadiz.com
SUMMARY:'LOS CALAITA' en El Gastor
DESCRIPTION:Evento público de libre acceso.
URL:https://www.carnavaldecadiz.com/event/los-calaita-en-el-gastor/
LOCATION:Salón Usos Múltiples\, El Gastor\, calle Tras Hornete 9\, El Gastor\, Cádiz\, 11687\, Spain
CATEGORIES:actuaciones de carnaval
END:VEVENT
BEGIN:VEVENT
DTSTART;VALUE=DATE:20250807
DTEND;VALUE=DATE:20250810
DTSTAMP:20260419T151923
CREATED:20250804T142506Z
LAST-MODIFIED:20250805T203248Z
UID:22681-1754524800-1754783999@www.carnavaldecadiz.com
SUMMARY:I Concurso de Antologías 'PLAZA MINA'
DESCRIPTION:ORDEN DE ACTUACIÓN \nJueves 7 de agosto \n\n20:30h – Melody y sus gorilas\n21:00h – Los peladores de Marisca\n21:30h – Los hermanos hasta el fin\n22:ooh – Paté de Gabacho\n22:30h – Los afortunados\n23:00h – Los tuyos\n23:30h – Los antililógicos\n\nViernes 8 de agosto \n\n21:00h – Dando la lata\n22:00h – Savia nueva\n22:30h – Antología Desde la Frontera – Anticuario\n23:30h – Antología Acordes de Cádiz\n\nSábado 9 de agosto\, final. \nA la espera de grupos clasificados y orden de actuación. \nTodos eventos públicos de libre acceso.
URL:https://www.carnavaldecadiz.com/event/i-concurso-de-antologias-plaza-mina/
LOCATION:Plaza Mina\, Cádiz\, Plaza Mina\, Cádiz\, Cádiz\, 11004\, Spain
CATEGORIES:actuaciones de carnaval
END:VEVENT
BEGIN:VEVENT
DTSTART;TZID=Europe/Madrid:20250807T203000
DTEND;TZID=Europe/Madrid:20250807T223000
DTSTAMP:20260419T151923
CREATED:20250801T130434Z
LAST-MODIFIED:20250801T130434Z
UID:22601-1754598600-1754605800@www.carnavaldecadiz.com
SUMMARY:Miriam Peralta y Fran Quintana en 'La Casapuerta de Luisa'
DESCRIPTION:Mano a mano de terapia carnavalera con Fran Quintana y Miriam Peralta. \nEvento público de libre acceso\, hasta completar aforo. \nAforo limitado
URL:https://www.carnavaldecadiz.com/event/miriam-peralta-y-fran-quintana-en-la-casapuerta-de-luisa/
LOCATION:Bar La Casapuerta\, calle Sagasta 40\, Cádiz\, Cádiz\, 11001\, España
CATEGORIES:mesa de debate,Mucho más que carnaval
END:VEVENT
BEGIN:VEVENT
DTSTART;TZID=Europe/Madrid:20250808T210000
DTEND;TZID=Europe/Madrid:20250808T210000
DTSTAMP:20260419T151923
CREATED:20250805T201307Z
LAST-MODIFIED:20250805T201903Z
UID:22757-1754686800-1754686800@www.carnavaldecadiz.com
SUMMARY:Día de la Juventud - Carnaval Juvenil
DESCRIPTION:En el Paseo Marítimo de Cádiz\, con motivo del día de Internacional de la Juventud\, actuarán los primeros premios del COAC Juvenil 2025: \n\nChirigota – LAS GITANERAS\nComparsa – GENERACIÓN Z\nCuarteto – UNA DE CAL Y OTRA DE ARENA\nCoro – EL CORO DE LA IA\n\nEvento público de libre acceso. \nMás información
URL:https://www.carnavaldecadiz.com/event/dia-de-la-juventud-carnaval-juvenil/
LOCATION:Paseo Marítimo de Cádiz.\, Paseo Marítimo\, Cádiz\, Cádiz\, 11011\, España
CATEGORIES:actuaciones de carnaval
END:VEVENT
BEGIN:VEVENT
DTSTART;TZID=Europe/Madrid:20250808T213000
DTEND;TZID=Europe/Madrid:20250809T000000
DTSTAMP:20260419T151923
CREATED:20250801T131630Z
LAST-MODIFIED:20250801T131630Z
UID:22604-1754688600-1754697600@www.carnavaldecadiz.com
SUMMARY:Antología 'SAL DE COPLAS' en la Noche Blanca de San Fernando
DESCRIPTION:Periplo de la antología: \n\n21:30h – calle García de la Herrán – Google Maps\n22:15h – Sugar Café – Google Maps\n23:30h – Alameda Moreno de Guerra – Google Maps\n\nTodo eventos públicos de libre acceso
URL:https://www.carnavaldecadiz.com/event/antologia-sal-de-coplas-en-la-noche-blanca-de-san-fernando/
LOCATION:San Fernando\, Cádiz\, San Fernando\, Cádiz\, 11100\, Spain
CATEGORIES:actuaciones de carnaval
END:VEVENT
BEGIN:VEVENT
DTSTART;VALUE=DATE:20250809
DTEND;VALUE=DATE:20250810
DTSTAMP:20260419T151923
CREATED:20250713T142726Z
LAST-MODIFIED:20250806T121240Z
UID:22050-1754697600-1754783999@www.carnavaldecadiz.com
SUMMARY:II Paseo de Carnaval
DESCRIPTION:Las agrupaciones que actuarán en cada uno de los escenarios situados en el Paseo Marítimo son las siguientes:\nA la altura de la calle Brasil \n\n21:ooh –  La centinela (comparsa infantil)\n21.20h – Las gitaneras (chirigota juvenil)\n21.40h –  Qué alegría de lunes (cuarteto infantil)\n22:00h – La promoción (coro infantil)\n22.20h – Los James Bond que da gloria verlos (chirigota adulto)\n22.40h –  Un clásico nunca falla (cuarteto adulto)\n23:00h – El coro de la IA (coro juvenil)\n23.20h – Las entrañas de Cádiz (coro adulto)\n23.40h – Ku Klux Klan Klan (cuarteto adulto)\n00.00h – La Tribu (comparsa adulto)\n00.20h – El lado oscuro (coro adulto)\n\nA la altura de la calle García Agulló: \n\n21:00h – Si tú quieres ser feliz (chirigota infantil)\n21.20h – La promoción (chirigota juvenil)\n21.40h – La centinela (comparsa infantil)\n22:00h – Una de cal y otra de arena (cuarteto juvenil)\n22.20h – Generación Z (comparsa juvenil)\n22.40h – Las entrañas de Cádiz (coro adulto)\n23:00h – Ku Klux Klan Klan (cuarteto adulto)\n23.20h – Cádiz\, el show (coro adulto)\n23.40h –  Un clásico nunca falla (cuarteto adulto)\n00.00h – El Gallinero (coro adulto)\n00.20h – La Tribu (comparsa adulto)\n\nA la altura de la calle Nereidas: \n\n21:00h – Qué alegría de lunes (cuarteto infantil)\n21.20h – Generación Z (comparsa juvenil)\n21.40h – Si tú quieres ser feliz (chirigota infantil)\n22:00h – Las gitaneras (chirigota juvenil)\n22.20h – El coro de la IA (coro juvenil)\n22.40h – Una de cal y otra de arena (cuarteto juvenil)\n23:00h – Los James Bond que da gloria verlos (chirigota adulto)\n23.20h – El lado oscuro (coro adulto)\n23.40h – El Gallinero (coro adulto)\n00.00h – Cádiz\, el show (coro adulto)\n\nMÁS Información del evento \nEvento público de libre acceso.
URL:https://www.carnavaldecadiz.com/event/ii-paseo-de-carnaval/
LOCATION:Paseo Marítimo de Cádiz.\, Paseo Marítimo\, Cádiz\, Cádiz\, 11011\, España
CATEGORIES:actuaciones de carnaval
END:VEVENT
BEGIN:VEVENT
DTSTART;TZID=Europe/Madrid:20250809T230000
DTEND;TZID=Europe/Madrid:20250810T000000
DTSTAMP:20260419T151923
CREATED:20250801T133610Z
LAST-MODIFIED:20250801T133610Z
UID:22611-1754780400-1754784000@www.carnavaldecadiz.com
SUMMARY:Voces del Carnaval de Cádiz en Valencia de Mombuey
DESCRIPTION:Una estupenda selección de intérpretes para pasar una noche de carnaval espectacular. \nLa selección la componen: Paco Pellejo\, Zeus\, Jesús Cruz y Rafa Rojano. \nEvento público de libre acceso.
URL:https://www.carnavaldecadiz.com/event/voces-del-carnaval-de-cadiz-en-valencia-de-mombuey/
LOCATION:Plaza de Extremadura\, Valencia de Mombuey\, Plaza de Extremadura\, Valencia de Mombuey\, Badajoz\, 06134\, Spain
CATEGORIES:actuaciones de carnaval
END:VEVENT
BEGIN:VEVENT
DTSTART;VALUE=DATE:20250815
DTEND;VALUE=DATE:20250817
DTSTAMP:20260419T151923
CREATED:20250810T131751Z
LAST-MODIFIED:20250810T131751Z
UID:22888-1755216000-1755388799@www.carnavaldecadiz.com
SUMMARY:Carnavalito en Arcos
DESCRIPTION:Es un evento que se desarrolla por las calles del casco antiguo de Arcos de la Frontera los días 15 y 16 de agosto a partir de las 22:30h \nPrograma: \nViernes 15 actuarán: \n\nComparsa – LA MAJADERÍA\nAntología – EL RESURGIR\n\nSábado 16 actuarán: \n\nChirigota – UNA CHIRIGOTA CON SHONIKET3\nAntología – LOS CLERIGUILLOS\n\nEventos públicos de libre acceso.
URL:https://www.carnavaldecadiz.com/event/carnavalito-en-arcos/
LOCATION:Arcos de la Frontera\, Arcos de la Frontera\, Arcos de la Frontera\, Cádiz\, 11630\, España
CATEGORIES:actuaciones de carnaval
END:VEVENT
BEGIN:VEVENT
DTSTART;TZID=Europe/Madrid:20250816T203000
DTEND;TZID=Europe/Madrid:20250816T233000
DTSTAMP:20260419T151923
CREATED:20250810T212730Z
LAST-MODIFIED:20250810T212730Z
UID:22898-1755376200-1755387000@www.carnavaldecadiz.com
SUMMARY:Noche de Carnaval en la Peña 'Los Catavinos'
DESCRIPTION:Actuarán: \n\nChirigota – LOS MAFO-LLAOS\nAntología – LOS CAÑAVALEROS\nAntología – SAL DE COPLAS\n\nEvento público de libre acceso. \n 
URL:https://www.carnavaldecadiz.com/event/noche-de-carnaval-en-la-pena-los-catavinos/
LOCATION:Peña Los Catavinos\, San Fernando\, calle Santo domingo 10\, San Fernando\, Cádiz\, 11100\, Spain
CATEGORIES:actuaciones de carnaval
END:VEVENT
BEGIN:VEVENT
DTSTART;TZID=Europe/Madrid:20250816T230000
DTEND;TZID=Europe/Madrid:20250816T230000
DTSTAMP:20260419T151923
CREATED:20250810T211625Z
LAST-MODIFIED:20250810T213251Z
UID:22895-1755385200-1755385200@www.carnavaldecadiz.com
SUMMARY:Chirigota 'LOS CALAITA' en Benamejí
DESCRIPTION:Evento público de libre acceso
URL:https://www.carnavaldecadiz.com/event/chirigota-los-calaita-en-benameji/
LOCATION:Caseta Municipal\, Benamejí\, calle Camino del Río 15\, Benamejí\, Córdoba\, España
CATEGORIES:actuaciones de carnaval
END:VEVENT
BEGIN:VEVENT
DTSTART;TZID=Europe/Madrid:20250822T180000
DTEND;TZID=Europe/Madrid:20250822T233000
DTSTAMP:20260419T151923
CREATED:20250608T221657Z
LAST-MODIFIED:20250723T173534Z
UID:21369-1755885600-1755905400@www.carnavaldecadiz.com
SUMMARY:Entierro de la Caballa 2025
DESCRIPTION:Agrupaciones que actuarán en el entierro de la Caballa 2025\n\nChirigota Infantil – La familia Topolino\nComparsa Juvenil – Generación Z\nComparsa – La chulita\nChirigota – Los cagones\nComparsa – La majadería\nChirigota – Los cenadores rumanos\n\nMás información \nEvento público de libre acceso.
URL:https://www.carnavaldecadiz.com/event/entierro-de-la-caballa-2025/
LOCATION:Paseo Fernando Quiñones\, Cádiz\, Paseo Fernando Quiñones s/n\, Cádiz\, Cádiz\, 11002\, Spain
CATEGORIES:actuaciones de carnaval
END:VEVENT
BEGIN:VEVENT
DTSTART;TZID=Europe/Madrid:20250822T203000
DTEND;TZID=Europe/Madrid:20250822T223000
DTSTAMP:20260419T151923
CREATED:20250818T222301Z
LAST-MODIFIED:20250818T222301Z
UID:23214-1755894600-1755901800@www.carnavaldecadiz.com
SUMMARY:Charlas de Carnaval en Puerto Real - Luis Ripoll
DESCRIPTION:Continua el ciclo de charlas de carnaval organizada por la Asociación de autores y componentes del Carnaval de Puerto Real con la colaboración de la Peña deportiva Ribera del Mar. \nEvento público de libre acceso.
URL:https://www.carnavaldecadiz.com/event/charlas-de-carnaval-en-puerto-real-luis-ripoll/
LOCATION:Peña Deportiva Ribera del Mar\, Puerto Real\, calle Victoria 2\, Puerto Real\, Cádiz\, 11510\, Spain
CATEGORIES:actuaciones de carnaval
END:VEVENT
BEGIN:VEVENT
DTSTART;TZID=Europe/Madrid:20250822T213000
DTEND;TZID=Europe/Madrid:20250822T233000
DTSTAMP:20260419T151923
CREATED:20250811T213237Z
LAST-MODIFIED:20250811T213237Z
UID:22950-1755898200-1755905400@www.carnavaldecadiz.com
SUMMARY:Noche de Carnaval en Medina
DESCRIPTION:Actuarán: \n\nChirigota – LOS CAGONES\nComparsa – LAS RATAS\nAntología – LOS CLERIGUILLOS\n\nEvento público de libre acceso.
URL:https://www.carnavaldecadiz.com/event/noche-de-carnaval-en-medina-2/
LOCATION:Plaza de España\, Medina\, Plaza de España 10\, Medina Sidonia\, Cádiz\, 11170\, España
CATEGORIES:actuaciones de carnaval
END:VEVENT
BEGIN:VEVENT
DTSTART;TZID=Europe/Madrid:20250823T210000
DTEND;TZID=Europe/Madrid:20250823T233000
DTSTAMP:20260419T151923
CREATED:20250819T192944Z
LAST-MODIFIED:20250819T192944Z
UID:23249-1755982800-1755991800@www.carnavaldecadiz.com
SUMMARY:Noche de Carnaval en la Peña 'Con sabor a cañailla'
DESCRIPTION:Actuarán: \n\nAntología – LOS TERCIOS DE CÁDIZ\nAntología – LOS CAÑAVALEROS\nToni ‘Piojo’\n\nEvento público de libre acceso.
URL:https://www.carnavaldecadiz.com/event/noche-de-carnaval-en-la-pena-con-sabor-a-canailla-2/
LOCATION:Peña Con sabor a Cañailla\, San Fernando\, calle Buen Pastor 197\, San Fernando\, Cádiz\, 11100\, España
CATEGORIES:actuaciones de carnaval
END:VEVENT
BEGIN:VEVENT
DTSTART;TZID=Europe/Madrid:20250823T213000
DTEND;TZID=Europe/Madrid:20250824T033000
DTSTAMP:20260419T151923
CREATED:20250731T185121Z
LAST-MODIFIED:20250731T185121Z
UID:22576-1755984600-1756006200@www.carnavaldecadiz.com
SUMMARY:Carnaval de Verano en Barbate
DESCRIPTION:Las actuaciones se desarrollaran por las siguientes calles de la ciudad: \n\ncalle Nuestra Señora de la Oliva\ncalle Real\ncalle Nuestra Señora del Carmen\nPatio Farruco\ncalle La Rosa\n\nEvento público de libre acceso.
URL:https://www.carnavaldecadiz.com/event/carnaval-de-verano-en-barbate-2/
LOCATION:Barbate\, Barbate\, Cádiz\, 11160\, Spain
CATEGORIES:actuaciones de carnaval
END:VEVENT
BEGIN:VEVENT
DTSTART;TZID=Europe/Madrid:20250823T220000
DTEND;TZID=Europe/Madrid:20250823T230000
DTSTAMP:20260419T151923
CREATED:20250822T113042Z
LAST-MODIFIED:20250822T113042Z
UID:23317-1755986400-1755990000@www.carnavaldecadiz.com
SUMMARY:Toni 'Piojo' en la Peña 'LOS POLLITOS Y MI COMPARE'
DESCRIPTION:Evento público de libre acceso.
URL:https://www.carnavaldecadiz.com/event/toni-piojo-en-la-pena-los-pollitos-y-mi-compare/
LOCATION:peña Los pollitos y mi compadre.\, calle San Juan Bautista\, S/N\,\, San Fernando\, Cádiz\, España
CATEGORIES:actuaciones de carnaval
END:VEVENT
END:VCALENDAR