BEGIN:VCALENDAR
VERSION:2.0
PRODID:-//Carnaval de C&aacute;diz - ECPv6.15.20//NONSGML v1.0//EN
CALSCALE:GREGORIAN
METHOD:PUBLISH
X-ORIGINAL-URL:https://www.carnavaldecadiz.com
X-WR-CALDESC:Eventos para Carnaval de C&aacute;diz
REFRESH-INTERVAL;VALUE=DURATION:PT1H
X-Robots-Tag:noindex
X-PUBLISHED-TTL:PT1H
BEGIN:VTIMEZONE
TZID:Europe/Madrid
BEGIN:DAYLIGHT
TZOFFSETFROM:+0100
TZOFFSETTO:+0200
TZNAME:CEST
DTSTART:20240331T010000
END:DAYLIGHT
BEGIN:STANDARD
TZOFFSETFROM:+0200
TZOFFSETTO:+0100
TZNAME:CET
DTSTART:20241027T010000
END:STANDARD
BEGIN:DAYLIGHT
TZOFFSETFROM:+0100
TZOFFSETTO:+0200
TZNAME:CEST
DTSTART:20250330T010000
END:DAYLIGHT
BEGIN:STANDARD
TZOFFSETFROM:+0200
TZOFFSETTO:+0100
TZNAME:CET
DTSTART:20251026T010000
END:STANDARD
BEGIN:DAYLIGHT
TZOFFSETFROM:+0100
TZOFFSETTO:+0200
TZNAME:CEST
DTSTART:20260329T010000
END:DAYLIGHT
BEGIN:STANDARD
TZOFFSETFROM:+0200
TZOFFSETTO:+0100
TZNAME:CET
DTSTART:20261025T010000
END:STANDARD
END:VTIMEZONE
BEGIN:VEVENT
DTSTART;TZID=Europe/Madrid:20250702T203000
DTEND;TZID=Europe/Madrid:20250702T220000
DTSTAMP:20260419T171045
CREATED:20250630T161210Z
LAST-MODIFIED:20250630T161210Z
UID:21830-1751488200-1751493600@www.carnavaldecadiz.com
SUMMARY:Charlas de Carnaval - Nuestros Calaitas
DESCRIPTION:Evento público de libre acceso.
URL:https://www.carnavaldecadiz.com/event/charlas-de-carnaval-nuestros-calaitas/
LOCATION:Peña ‘El Cádiz’\, Puerto Real\, calle Sagasta\, 53\, Puerto Real\, Cádiz\, 11510\, Spain
CATEGORIES:conferencia de carnaval
END:VEVENT
BEGIN:VEVENT
DTSTART;TZID=Europe/Madrid:20250702T220000
DTEND;TZID=Europe/Madrid:20250702T230000
DTSTAMP:20260419T171045
CREATED:20250625T184843Z
LAST-MODIFIED:20250625T184904Z
UID:21768-1751493600-1751497200@www.carnavaldecadiz.com
SUMMARY:Antología 'Cádiz de mil colores' en Rota
DESCRIPTION:Evento público de libre acceso.
URL:https://www.carnavaldecadiz.com/event/antologia-cadiz-de-mil-colores-en-rota/
LOCATION:Plaza Bartolomé Pérez\, Rota\, Plaza Bartolomé Pérez\, Rota\, Cádiz\, España
CATEGORIES:actuaciones de carnaval
END:VEVENT
BEGIN:VEVENT
DTSTART;TZID=Europe/Madrid:20250711T220000
DTEND;TZID=Europe/Madrid:20250711T233000
DTSTAMP:20260419T171045
CREATED:20250708T154803Z
LAST-MODIFIED:20250708T154803Z
UID:21964-1752271200-1752276600@www.carnavaldecadiz.com
SUMMARY:Noche de Carnaval en Puerto Real
DESCRIPTION:Actuarán: \n\nChirigota – Una mala tarde la tiene cualquiera\nChirigota – Los calaita\nChirigota – Los decenetes\n\nEvento público de libre acceso
URL:https://www.carnavaldecadiz.com/event/noche-de-carnaval-en-puerto-real-2/
LOCATION:Plaza Rafael Alberti\, Puerto Real\, Plaza Rafael Alberti\, Puerto Real\, Cádiz\, 11510\, Spain
CATEGORIES:actuaciones de carnaval
END:VEVENT
BEGIN:VEVENT
DTSTART;VALUE=DATE:20250716
DTEND;VALUE=DATE:20250720
DTSTAMP:20260419T171045
CREATED:20250608T220923Z
LAST-MODIFIED:20250708T003311Z
UID:21367-1752624000-1752969599@www.carnavaldecadiz.com
SUMMARY:Semana Cultural La Salle Viña
DESCRIPTION:PROGRAMA\nMiércoles 16 de julio\, pregón de la semana cultural\, a partir de las 20:30h. \nPregoneros el Cuarteto del Gago: Miguel Ángel Moreno\, Ángel Gago\, Emilio Tello\, Francisco Javier González ‘Chicho’ y José Manuel Figueroa con ‘Ku Klux Klan Klan’ \nCon la participación del cuarteto infantil ‘A que voy yo y lo encuentro’ y el cuarteto juvenil ‘Este cuarteto no da abasto’ \nActuaciones: \n\nLa chirigota de Lubet\nComparsa LA RESISTENCIA\nComparsa EL CEMENTERIO\n\nJueves 17 de julio\, dedicado a la mujer\, a partir de las 19:30h. \nActuaciones:  \n\nChirigota infantil SI TU QUIERES SER FELIZ\nComparsa juvenil LA SELVA\n\nReivindicación de la Asociación Pro Derechos Humanos de Andalucía (APDHA) en defensa de los derechos de la mujer. \nActuaciones: \n\nCoro CÁDIZ\, EL SHOW\nComparsa LA VALLA\nComparsa LA MALA\nComparsa LA CHULITA\n\nViernes 18 de julio\, noche de carnaval\, a partir de las 21:00h. \nActuaciones: \n\nChirigota juvenil LAS GITANERAS\nCoro EL LADO OSCURO\nCoro LAS ENTRAÑAS DE CÁDIZ\nCoro EL GALLINERO\nChirigota LOS SHERIJUEGOS\nComparsa DES-OBDC\nChirigota UNA CHIRIGOTA CON SHONIKET3\n\nSábado 19 de julio\, dedicado al colectivo LGTBIQ+\, a partir de las 19:30h. \nMano a mano: \n\nCoro infantil LA PROMOCIÓN\nCoro juvenil EL CORO DE LA IA\n\nReivindicación de la Asociación Pro Derechos Humanos de Andalucía (APDAHA) en visibilización y educación en los derechos del colectivo LGTBIQ+ \nActuaciones: \n\nComparsa juvenil GENERACIÓN Z\nLa comparsa de Nene Cheza\nChirigota LOS CENADORES RUMANAS\nComparsa LOS PODEROSOS\nChirigota CUANDO TU VAS\, YO VENGO\n\nFiesta del Orgullo en La Viña: Dj\, Drags Queen invitadas y mesa de Glitter. Organizado por Contarte Eventos. \nTodos los eventos son públicos de libre acceso. \n  \n 
URL:https://www.carnavaldecadiz.com/event/semana-cultural-la-salle-vina/
LOCATION:Plaza Manolo Santander\, Cádiz\, Plaza de la Reina\, Cádiz\, Cádiz\, 11002\, España
CATEGORIES:actuaciones de carnaval,conferencia de carnaval,mesa de debate,Mucho más que carnaval
END:VEVENT
BEGIN:VEVENT
DTSTART;VALUE=DATE:20250717
DTEND;VALUE=DATE:20250720
DTSTAMP:20260419T171045
CREATED:20250620T210703Z
LAST-MODIFIED:20250719T110944Z
UID:21664-1752710400-1752969599@www.carnavaldecadiz.com
SUMMARY:Concurso de verano de coplas en Candelaria
DESCRIPTION:Orden de actuación de semifinales\nJueves 17 de julio: \n\n20:30 h Savia Nueva Minigrupo\n21:00 h Los Hermanos hasta el fin Antología\n21:30 h Los piriñacas Minigrupo\n22:00 h Los Afortunados Antología\n22:30 h Acordes de Cádiz Minigrupo\n23:00 h Los Cleriguillos Antología\n\nViernes 18 de julio: \n\n20:30 h Un trio de toda la vida Minigrupo\n21:00 h Dando la lata Antología\n21:30 h Los Tercios de Cádiz Minigrupo\n22:00 h Los setenteros Minigrupo\n22:30 h Los tuyos Antología\n23:00 h Paté de Gabacho Antología\n\nSábado\, 19 de julio\, agrupaciones clasificadas: \n\nMinigrupo – Los piriñacas\nMinigrupo – Acordes de Cádiz\nMinigrupo – Un trío de toda la vida\nAntología – Los afortunados\nAntología – Los cleriguillos\nAntología – Los tuyos\nAntología minicoro – Paté de gabacho\n\nLa entrega de premios se realizará el mismo sábado a la conclusión de las actuaciones de las agrupaciones finalistas. \nEvento público de libre acceso.
URL:https://www.carnavaldecadiz.com/event/concurso-de-verano-de-coplas-en-candelaria/
LOCATION:peña La Estrella\, Plaza Candelaria 7\, Cádiz\, Cádiz\, 11005\, España
CATEGORIES:actuaciones de carnaval,concurso de carnaval
END:VEVENT
BEGIN:VEVENT
DTSTART;TZID=Europe/Madrid:20250718T210000
DTEND;TZID=Europe/Madrid:20250718T220000
DTSTAMP:20260419T171045
CREATED:20250708T155201Z
LAST-MODIFIED:20250708T155201Z
UID:21968-1752872400-1752876000@www.carnavaldecadiz.com
SUMMARY:Presentación de la Antología de Jerez 'Anticuario'
DESCRIPTION:Evento público de libre acceso. \nServicio de barra a precios populares.
URL:https://www.carnavaldecadiz.com/event/presentacion-de-la-antologia-de-jerez-anticuario/
LOCATION:Peña Mencantajeré\, calla falta 15\, Jerez de la Frontera\, Cádiz\, 11408\, España
CATEGORIES:actuaciones de carnaval
ATTACH;FMTTYPE=image/jpeg:https://www.carnavaldecadiz.com/wp-content/uploads/2025/07/0718Jerez.jpg
END:VEVENT
BEGIN:VEVENT
DTSTART;TZID=Europe/Madrid:20250718T220000
DTEND;TZID=Europe/Madrid:20250719T010000
DTSTAMP:20260419T171045
CREATED:20250717T121504Z
LAST-MODIFIED:20250717T121504Z
UID:22161-1752876000-1752886800@www.carnavaldecadiz.com
SUMMARY:Concurso de Minigrupos en Conil
DESCRIPTION:Orden de actuación:\n\n22:00h – Se Alquila de Chirigota por quincena (Sofri)\n22:45h – Los Frasteros (Kiko y Lobo)\n23:15h – Romancero de Paco Camacho\n23:45h – Esa Gente\n00:30h – Los Piriñacas (Chiclana)\n\nEvento público de libre acceso
URL:https://www.carnavaldecadiz.com/event/concurso-de-minigrupos-en-conil/
LOCATION:AAVV Las Virtudes-Conil\, calle Dos Hermanas 2A\, Conil de la Frontera\, Cádiz\, 11140\, España
CATEGORIES:actuaciones de carnaval
END:VEVENT
BEGIN:VEVENT
DTSTART;VALUE=DATE:20250724
DTEND;VALUE=DATE:20250727
DTSTAMP:20260419T171045
CREATED:20250527T191829Z
LAST-MODIFIED:20250717T124054Z
UID:21025-1753315200-1753574399@www.carnavaldecadiz.com
SUMMARY:Concurso de Antologías Carnavalescas\, AVV Murallas de San Carlos
DESCRIPTION:ORDEN DE ACTUACIÓN:\nJueves 24 de julio \n\n21:00h – Mélody y sus gorilas\n21:30h – Savia nueva\n22:00h – Dando la lata\n22:30h – Acordes de Cádiz\n23:00h – Los cleriguillos\n23:30h – Los tercios de Cádiz\n00:00h – Los hermanos hasta el fin\n\nViernes 25 de julio \n\n21:00h – Los setenteros\n21:30h – Desde la frantera\n22:00h – Piando por Cai\n22:30h – Los tuyos\n23:00h – Un trío de toda la vida\n23:30h – Los afortunados\n00:00h – Paté de gabacho\n\nSábado 26 de julio\, Gran Final. \nA la espera de grupos clasificados y orden de actuación. \nEvento público de libre acceso.
URL:https://www.carnavaldecadiz.com/event/concurso-de-antologias-carnavalescas/
LOCATION:AAVV San Carlos-Los negritos\, calle San Germán 2\, Cádiz\, Cádiz\, 11004\, España
CATEGORIES:actuaciones de carnaval
END:VEVENT
BEGIN:VEVENT
DTSTART;VALUE=DATE:20250725
DTEND;VALUE=DATE:20250727
DTSTAMP:20260419T171045
CREATED:20250620T205759Z
LAST-MODIFIED:20250620T205759Z
UID:21661-1753401600-1753574399@www.carnavaldecadiz.com
SUMMARY:VI Certamen de dúos\, y tríos de carnaval de Tarifa
DESCRIPTION:A la espera de recibir información de los grupos inscritos y orden de actuación. \nEvento público de libre acceso.
URL:https://www.carnavaldecadiz.com/event/vi-certamen-de-duos-y-trios-de-carnaval-de-tarifa/
LOCATION:Hogar del Pensionista\, Tarifa\, Paseo Retiro s/n\, Tarifa\, Cádiz\, 11380\, España
CATEGORIES:actuaciones de carnaval,concurso de carnaval
END:VEVENT
BEGIN:VEVENT
DTSTART;TZID=Europe/Madrid:20250725T210000
DTEND;TZID=Europe/Madrid:20250725T233000
DTSTAMP:20260419T171045
CREATED:20250722T194453Z
LAST-MODIFIED:20250722T194453Z
UID:22232-1753477200-1753486200@www.carnavaldecadiz.com
SUMMARY:Carnaval en el Barrio de Puntales
DESCRIPTION:Actuarán: \n\nChirigota – LOS DISLÉXICOS\nComparsa – LAS CHULITAS\nChirigota – LOS SHERIFJUEGOS\nComparsa – LOS PODEROSOS\nChirigota – LOS BUTANEROS\n\nEvento público de libre acceso.
URL:https://www.carnavaldecadiz.com/event/carnaval-en-el-barrio-de-puntales/
LOCATION:Peña CDR Joaquín Caballero\, Cádiz\, calle Brújula 1 Bajo\, Cádiz\, Cádiz\, 11011\, Spain
CATEGORIES:actuaciones de carnaval
END:VEVENT
BEGIN:VEVENT
DTSTART;TZID=Europe/Madrid:20250725T230000
DTEND;TZID=Europe/Madrid:20250726T010000
DTSTAMP:20260419T171045
CREATED:20250722T193341Z
LAST-MODIFIED:20250722T193341Z
UID:22228-1753484400-1753491600@www.carnavaldecadiz.com
SUMMARY:Carnaval en 'El Sotillo'\, Chiclana
DESCRIPTION:Actuarán: \n\nEl Romancero de ‘El Karo’ – PEPE\, EL ESPÍA\nLa chirigota callejera – PSEUDOCHIRIGOTA CALLEJOSA\n\nEvento público de libre acceso. Risas garantizadas
URL:https://www.carnavaldecadiz.com/event/carnaval-en-el-sotillo-chiclana/
LOCATION:Escenario Fantastic\, El Sotillo\, Chiclana\, Finca 'El Sotillo' camino del Lago Ladoga\, Chiclana de la Frontera\, Cádiz\, Spain
CATEGORIES:actuaciones de carnaval
END:VEVENT
BEGIN:VEVENT
DTSTART;TZID=Europe/Madrid:20250726T210000
DTEND;TZID=Europe/Madrid:20250727T040000
DTSTAMP:20260419T171045
CREATED:20250701T122904Z
LAST-MODIFIED:20250701T122904Z
UID:21872-1753563600-1753588800@www.carnavaldecadiz.com
SUMMARY:Carnaval de Verano
DESCRIPTION:Evento que se desarrolla por el ‘casco antiguo’ de Cádiz de manera espontánea y sin organización previa\, que consiste en la actuación de agrupaciones de carnaval callejeras\, que interpretan el repertorio del carnaval 2025 o bien desarrollan repertorios escritos expresamente para esta cita veraniega. \nEvento público de libre acceso. \n 
URL:https://www.carnavaldecadiz.com/event/carnaval-de-verano/
LOCATION:Cádiz\, Cádiz\, Cádiz\, España
CATEGORIES:actuaciones de carnaval
ATTACH;FMTTYPE=image/jpeg:https://www.carnavaldecadiz.com/wp-content/uploads/2025/07/0726Chiquito400.jpg
END:VEVENT
BEGIN:VEVENT
DTSTART;TZID=Europe/Madrid:20250726T223000
DTEND;TZID=Europe/Madrid:20250727T013000
DTSTAMP:20260419T171045
CREATED:20250722T201525Z
LAST-MODIFIED:20250722T201525Z
UID:22239-1753569000-1753579800@www.carnavaldecadiz.com
SUMMARY:Noche de Carnaval en Castellar de la Frontera
DESCRIPTION:Actuarán: \n\nComparsa – LAS RATAS\nChirigota – LOS CALAITAS\nComparsa – LOS GORDOS\n\nEvento público de libre acceso.
URL:https://www.carnavaldecadiz.com/event/noche-de-carnaval-en-castellar-de-la-frontera-2/
LOCATION:Calle Montaser Kattani\, Castellar de la Frontera\, calle Montaser Kattani\, Castellar de la Frontera\, Cádiz\, 11351\, Spain
CATEGORIES:actuaciones de carnaval
END:VEVENT
BEGIN:VEVENT
DTSTART;VALUE=DATE:20250731
DTEND;VALUE=DATE:20250803
DTSTAMP:20260419T171045
CREATED:20250704T194926Z
LAST-MODIFIED:20250704T194926Z
UID:21927-1753920000-1754179199@www.carnavaldecadiz.com
SUMMARY:XIII Concurso de Tangos y Pasodobles 'Paco Alba'
DESCRIPTION:Plazo de inscripción y BASES \nA la espera de grupos inscritos y orden de actuación. \nEvento público de libre acceso.
URL:https://www.carnavaldecadiz.com/event/xiii-concurso-de-tangos-y-pasodobles-paco-alba/
LOCATION:Peña Paco Alba\, calle antulo 6\, Cádiz\, Cádiz\, 11006\, España
CATEGORIES:actuaciones de carnaval,concurso de carnaval
END:VEVENT
BEGIN:VEVENT
DTSTART;VALUE=DATE:20250731
DTEND;VALUE=DATE:20250803
DTSTAMP:20260419T171045
CREATED:20250722T203817Z
LAST-MODIFIED:20250722T203817Z
UID:22247-1753920000-1754179199@www.carnavaldecadiz.com
SUMMARY:II Velada Virgen de la Palma Coronada
DESCRIPTION:II Velada Virgen de la Palma Coronada\, a favor de la bolsa de caridad de la Archicofradía. \nPROGRAMACIÓN\nJueves 31 de julio\, a partir de las 20:00h \n\nCoro Juvenil – CORO DE LA IA\nAntología – LOS HERMANOS HASTA EL FIN\nAntología – MÉLODY Y SUS GORILAS\nChirigota – CUANDO TU VAS\, YO VENGO\nChirigota – LOS CALAITA\n\nViernes 1 de agosto\, a partir de las 20:00h \n\nChirigota Infantil – LA FAMILIA TOPOLINO\nJavier\, Miguel y Guille x 4\nMinicoro de Quintero – PATÉ DE GABACHO\nLAS ANTOLÓGICAS\nChirigota – LOS CAGONES\n\nSábado 2 de agosto\, a partir de las 20:00h \n\nBingo ‘LA PETRÓLEO’\nLOS PELADORES DE MARISCO ‘QUE APROVECHE’\nAntología – LOS TUYOS\nChirigota – LOS INHUMANOS\n\nEventos públicos de libre acceso. \nServicio de barra a precios populares.
URL:https://www.carnavaldecadiz.com/event/ii-velada-virgen-de-la-palma-coronada/
LOCATION:Plaza Manolo Santander\, Cádiz\, Plaza de la Reina\, Cádiz\, Cádiz\, 11002\, España
CATEGORIES:actuaciones de carnaval
END:VEVENT
END:VCALENDAR