BEGIN:VCALENDAR
VERSION:2.0
PRODID:-//Carnaval de C&aacute;diz - ECPv6.15.20//NONSGML v1.0//EN
CALSCALE:GREGORIAN
METHOD:PUBLISH
X-WR-CALNAME:Carnaval de C&aacute;diz
X-ORIGINAL-URL:https://www.carnavaldecadiz.com
X-WR-CALDESC:Eventos para Carnaval de C&aacute;diz
REFRESH-INTERVAL;VALUE=DURATION:PT1H
X-Robots-Tag:noindex
X-PUBLISHED-TTL:PT1H
BEGIN:VTIMEZONE
TZID:Europe/Madrid
BEGIN:DAYLIGHT
TZOFFSETFROM:+0100
TZOFFSETTO:+0200
TZNAME:CEST
DTSTART:20240331T010000
END:DAYLIGHT
BEGIN:STANDARD
TZOFFSETFROM:+0200
TZOFFSETTO:+0100
TZNAME:CET
DTSTART:20241027T010000
END:STANDARD
BEGIN:DAYLIGHT
TZOFFSETFROM:+0100
TZOFFSETTO:+0200
TZNAME:CEST
DTSTART:20250330T010000
END:DAYLIGHT
BEGIN:STANDARD
TZOFFSETFROM:+0200
TZOFFSETTO:+0100
TZNAME:CET
DTSTART:20251026T010000
END:STANDARD
BEGIN:DAYLIGHT
TZOFFSETFROM:+0100
TZOFFSETTO:+0200
TZNAME:CEST
DTSTART:20260329T010000
END:DAYLIGHT
BEGIN:STANDARD
TZOFFSETFROM:+0200
TZOFFSETTO:+0100
TZNAME:CET
DTSTART:20261025T010000
END:STANDARD
END:VTIMEZONE
BEGIN:VEVENT
DTSTART;TZID=Europe/Madrid:20250508T180000
DTEND;TZID=Europe/Madrid:20250508T220000
DTSTAMP:20260419T203531
CREATED:20250507T115405Z
LAST-MODIFIED:20250507T115405Z
UID:20749-1746727200-1746741600@www.carnavaldecadiz.com
SUMMARY:Fiesta de Primavera Carnavalera
DESCRIPTION:El Centro de Educación Permanente ‘Viento de levante’ celebra una fiesta de primavera con agrupaciones de carnaval: \n\nCuarteto Infantil: ‘Que peñazo de cuarteto’\nComparsa Infantil: ‘Donde el sol viene a morir’\nChirigota: ‘Los inhumanos’\nComparsa: ‘El cementerio’\n\nPresenta Koki Sánchez \nEvento público de libre acceso
URL:https://www.carnavaldecadiz.com/event/fiesta-de-primavera-carnavalera/
LOCATION:CEPer ‘Viento de levante’\, Cádiz\, calle Periodista Federico Joly s/n\, Cádiz\, Cádiz\, 11012\, Spain
CATEGORIES:actuaciones de carnaval
END:VEVENT
BEGIN:VEVENT
DTSTART;TZID=Europe/Madrid:20250508T190000
DTEND;TZID=Europe/Madrid:20250508T210000
DTSTAMP:20260419T203531
CREATED:20250505T182853Z
LAST-MODIFIED:20250505T184111Z
UID:20668-1746730800-1746738000@www.carnavaldecadiz.com
SUMMARY:Tertulia Feminista de Carnaval COAC 2026
DESCRIPTION:Tertulia Feminista de Carnaval organizada por CarnavaldeCadiz.com \nEn esta ocasión contamos con la participación de Bastriz González\, presidenta de la Asociación Cádiz Mujeres y Carnaval\, es miembro de la mesa de participación del COAC\, además de componente de la Comparsa ‘La valla’. Junto a ella analizaremos el COAC 2025 y las propuestas para la organización del COAC 2026. \nEvento público de libre acceso
URL:https://www.carnavaldecadiz.com/event/tertulia-feminista-de-carnaval-3/
LOCATION:La Lectora Cafetería-librería\, Cádiz\, calle Ancha 32\, Cádiz\, Cádiz\, 11001\, Spain
CATEGORIES:mesa de debate,Mucho más que carnaval
ATTACH;FMTTYPE=image/png:https://www.carnavaldecadiz.com/wp-content/uploads/2025/05/7-Cartel_05_08_2025-400.png
END:VEVENT
BEGIN:VEVENT
DTSTART;TZID=Europe/Madrid:20250509T203000
DTEND;TZID=Europe/Madrid:20250509T223000
DTSTAMP:20260419T203531
CREATED:20250505T191839Z
LAST-MODIFIED:20250505T191839Z
UID:20683-1746822600-1746829800@www.carnavaldecadiz.com
SUMMARY:Noche de Comparsas Infantiles en la Peña Nuestra Andalucía
DESCRIPTION:Evento público de libre acceso
URL:https://www.carnavaldecadiz.com/event/noche-de-comparsas-infantiles-en-la-pena-nuestra-andalucia/
LOCATION:Peña Nuestra Andalucía\, Cádiz\, calle María Arteaga 25\, Cádiz\, Cádiz\, 11002\, España
CATEGORIES:actuaciones de carnaval
END:VEVENT
BEGIN:VEVENT
DTSTART;TZID=Europe/Madrid:20250514T200000
DTEND;TZID=Europe/Madrid:20250514T213000
DTSTAMP:20260419T203531
CREATED:20250506T112750Z
LAST-MODIFIED:20250506T112750Z
UID:20726-1747252800-1747258200@www.carnavaldecadiz.com
SUMMARY:Actuación de la Antología 'Los joyeros gaditanos'
DESCRIPTION:Evento público de libre acceso\, hasta completar aforo.
URL:https://www.carnavaldecadiz.com/event/actuacion-de-la-antologia-los-joyeros-gaditanos/
LOCATION:Casa de la Juventud\, Sanlucar\, Avenida Bajo de Guía\, Sanlucar de Barrameda\, Cádiz\, España
CATEGORIES:actuaciones de carnaval
END:VEVENT
BEGIN:VEVENT
DTSTART;TZID=Europe/Madrid:20250516T173000
DTEND;TZID=Europe/Madrid:20250516T183000
DTSTAMP:20260419T203531
CREATED:20250513T110724Z
LAST-MODIFIED:20250513T110724Z
UID:20823-1747416600-1747420200@www.carnavaldecadiz.com
SUMMARY:Tarde de Romanceros en 'La Cara B'
DESCRIPTION:Participan los siguientes romanceros: \n\n‘Quillo\, todo el día dando la nota’ – Javier Outon\n‘Cádiz\, ciudad de vacaciones’ – Jacinto Gutiérrez y Francisco cortejosa\n‘Los pekadi capitales’ – Eva Mª Gómez y Ana Bartual\n‘La increible historia del peluquero de King Yong Un’ – Beatriz Vázquez\n\nEvento público de libre acceso.
URL:https://www.carnavaldecadiz.com/event/tarde-de-romanceros-en-la-cara-b/
LOCATION:La Cara B\, Cádiz\, calle Isabel la Católica 3\, Cádiz\, Cádiz\, 11004\, Spain
CATEGORIES:actuaciones de carnaval
END:VEVENT
BEGIN:VEVENT
DTSTART;TZID=Europe/Madrid:20250516T203000
DTEND;TZID=Europe/Madrid:20250516T233000
DTSTAMP:20260419T203531
CREATED:20250512T115250Z
LAST-MODIFIED:20250512T115250Z
UID:20804-1747427400-1747438200@www.carnavaldecadiz.com
SUMMARY:Noche de Carnaval -Amigos del Carapapa
DESCRIPTION:Participan en esta noche de carnaval: \n\nChirigota Infantil: Mushu Carnaval\nCuarteto Juvenil: Una de Cal y otra de arena\nCuarteto: Un clásico nunca falla\n\nEvento público de libre acceso.
URL:https://www.carnavaldecadiz.com/event/noche-de-carnaval-amigos-del-carapapa/
LOCATION:Peña Nuestra Andalucía\, Cádiz\, calle María Arteaga 25\, Cádiz\, Cádiz\, 11002\, España
CATEGORIES:actuaciones de carnaval
END:VEVENT
BEGIN:VEVENT
DTSTART;TZID=Europe/Madrid:20250523T203000
DTEND;TZID=Europe/Madrid:20250523T233000
DTSTAMP:20260419T203531
CREATED:20250519T204815Z
LAST-MODIFIED:20250519T204815Z
UID:20903-1748032200-1748043000@www.carnavaldecadiz.com
SUMMARY:Viernes de Carnaval en la Peña Nuestra Andalucia
DESCRIPTION:Participan en la noche de carnaval: \n\nChirigota Infantil: La familia Topolino\nChirigota Infantil: Los cebaduras\nComparsa Juvenil: La selva\nAntología de Carnaval\n\nEvento público de libre acceso
URL:https://www.carnavaldecadiz.com/event/viernes-de-carnaval-en-la-pena-nuestra-andalucia/
LOCATION:Peña Nuestra Andalucía\, Cádiz\, calle María Arteaga 25\, Cádiz\, Cádiz\, 11002\, España
CATEGORIES:actuaciones de carnaval
END:VEVENT
BEGIN:VEVENT
DTSTART;TZID=Europe/Madrid:20250529T210000
DTEND;TZID=Europe/Madrid:20250529T230000
DTSTAMP:20260419T203531
CREATED:20250521T110346Z
LAST-MODIFIED:20250521T110346Z
UID:20941-1748552400-1748559600@www.carnavaldecadiz.com
SUMMARY:Tertulias de Carnaval en la Peña Cruz del Mar
DESCRIPTION:La Peña Cruz del Mar de Chipiona\, ha organizado una serie de tertulias sobre el carnaval de Chipiona. \nPara comenzar con esta serie\, van a dar un repaso por el coro de la Peña\, con nada más y nada menos que 11 años de trayectoria. \nContaran con componentes de este mítico coro y la tertulia será dirigida por Cristóbal Ruiz. \nEvento público de libre acceso.
URL:https://www.carnavaldecadiz.com/event/tertulias-de-carnaval-en-la-pena-cruz-del-mar/
LOCATION:Peña Cruz del Mar\, Chipiona\, calle Padre Lerchundi 64\, Chipiona\, Cádiz\, 11550\, España
CATEGORIES:conferencia de carnaval,mesa de debate
END:VEVENT
BEGIN:VEVENT
DTSTART;TZID=Europe/Madrid:20250530T210000
DTEND;TZID=Europe/Madrid:20250530T233000
DTSTAMP:20260419T203531
CREATED:20250527T121558Z
LAST-MODIFIED:20250527T121558Z
UID:20989-1748638800-1748647800@www.carnavaldecadiz.com
SUMMARY:III Concurso Coplas a nudillos.
DESCRIPTION:Organizado por la Asociación Cultural Carnavalesca\, con el Ayuntamiento de Los Barrios. \nA demás actuara el primer premio de la modalidad de chirigotas del COAC 2025\, ‘Los calaitas’ \nEvento público de libre acceso.
URL:https://www.carnavaldecadiz.com/event/iii-concurso-coplas-a-nudillos/
LOCATION:Plaza de Toros ‘La Montera’\, Los Barrios\, calle Recinto Ferial s/n\, Los Barrios\, Cádiz\, 11370\, Spain
CATEGORIES:actuaciones de carnaval
END:VEVENT
BEGIN:VEVENT
DTSTART;TZID=Europe/Madrid:20250531T130000
DTEND;TZID=Europe/Madrid:20250531T160000
DTSTAMP:20260419T203531
CREATED:20250527T124130Z
LAST-MODIFIED:20250527T124130Z
UID:21000-1748696400-1748707200@www.carnavaldecadiz.com
SUMMARY:Carnaval Vallekano
DESCRIPTION:Carnaval Vallekano!!!\nEste sábado vente a disfrutar\nTerracita\, Barbacoa\, Carnaval…\nNo se puede pedir más!!!\nEvento público de libre acceso.
URL:https://www.carnavaldecadiz.com/event/carnaval-vallekano/
LOCATION:CSE La Tacita\, Madrid\, calle Calero Pita\, 3\, Entrevías\, Madrid\, Madrid\, 28053\, Spain
CATEGORIES:actuaciones de carnaval
END:VEVENT
END:VCALENDAR