BEGIN:VCALENDAR
VERSION:2.0
PRODID:-//Carnaval de C&aacute;diz - ECPv6.15.20//NONSGML v1.0//EN
CALSCALE:GREGORIAN
METHOD:PUBLISH
X-WR-CALNAME:Carnaval de C&aacute;diz
X-ORIGINAL-URL:https://www.carnavaldecadiz.com
X-WR-CALDESC:Eventos para Carnaval de C&aacute;diz
REFRESH-INTERVAL;VALUE=DURATION:PT1H
X-Robots-Tag:noindex
X-PUBLISHED-TTL:PT1H
BEGIN:VTIMEZONE
TZID:Europe/Madrid
BEGIN:DAYLIGHT
TZOFFSETFROM:+0100
TZOFFSETTO:+0200
TZNAME:CEST
DTSTART:20230326T010000
END:DAYLIGHT
BEGIN:STANDARD
TZOFFSETFROM:+0200
TZOFFSETTO:+0100
TZNAME:CET
DTSTART:20231029T010000
END:STANDARD
BEGIN:DAYLIGHT
TZOFFSETFROM:+0100
TZOFFSETTO:+0200
TZNAME:CEST
DTSTART:20240331T010000
END:DAYLIGHT
BEGIN:STANDARD
TZOFFSETFROM:+0200
TZOFFSETTO:+0100
TZNAME:CET
DTSTART:20241027T010000
END:STANDARD
BEGIN:DAYLIGHT
TZOFFSETFROM:+0100
TZOFFSETTO:+0200
TZNAME:CEST
DTSTART:20250330T010000
END:DAYLIGHT
BEGIN:STANDARD
TZOFFSETFROM:+0200
TZOFFSETTO:+0100
TZNAME:CET
DTSTART:20251026T010000
END:STANDARD
END:VTIMEZONE
BEGIN:VEVENT
DTSTART;TZID=Europe/Madrid:20241004T230000
DTEND;TZID=Europe/Madrid:20241004T233000
DTSTAMP:20260420T072632
CREATED:20240927T192402Z
LAST-MODIFIED:20240927T192402Z
UID:13309-1728082800-1728084600@www.carnavaldecadiz.com
SUMMARY:Jona y Paella en La Gamberra
DESCRIPTION:Evento público de libre acceso.
URL:https://www.carnavaldecadiz.com/event/jona-y-paella-en-la-gamberra/
LOCATION:La Gamberra\, Cádiz\, Glorieta Ana Orantes\, Cádiz\, Cádiz\, 11010\, Spain
CATEGORIES:actuaciones de carnaval
END:VEVENT
BEGIN:VEVENT
DTSTART;TZID=Europe/Madrid:20241005T193000
DTEND;TZID=Europe/Madrid:20241005T233000
DTSTAMP:20260420T072632
CREATED:20240809T202753Z
LAST-MODIFIED:20241004T212440Z
UID:12361-1728156600-1728171000@www.carnavaldecadiz.com
SUMMARY:Primer Concurso de Mini Romanceros
DESCRIPTION:Orden de actuación:\n19:00h – Palabras de bienvenida por parte de Salvador Fernández Miró\, presidente de la Asociación de Romanceros de Cádiz\, y explicación de la dinámica del concurso por parte del Presentador\, Andrés Ramírez. \n19:40h – ‘ARO (El Beiro Malo)’ \n\nIntérprete: Antonio Beiro\nAutor: Marcos Nogueroles\n\n19:48h – ‘Todo sobre mi madre’ \n\nIntérprete: María González\nAutor: Rafa González\n\n19:55h – ‘La sociedad Gastronómica de la Nieve’ \n\nIntérprete: Pedro Barba\nAutores: Hermanos Barba\n\n20:03h – ‘Vuestra Señora del Patrocinio’ \n\nIntérprete y autora: Raquel Barcala\n\n20:10h – ‘No te lo vas a creer Paco\, por fin dejé el tabaco’ \n\nIntérprete y autor: Dani Casellas\n\nBreve descanso para ir al baño y pedir bebidas. \n20:30h – ‘Vengo a dar la cara: Cajasol’ \n\nIntérprete y autor: David Amaya\n\n20:38h – ‘Quillo\, no seas chufla y ponte una camisa’ \n\nIntérprete y autor: Javi Outon\n\n20:45h – ‘Ahora el que no quiere soy yo’ \n\nIntérprete y autor: José Gutierrez\n\n20:53h – ‘Paracetamol\, hay que venir al sur’ \n\nIntérprete y autora: Eva Gómez\n\n21:00h – ‘Pienso luego existo’ \n\nIntérprete: Kiko Quiñones\nAutor: Andrés Cruz\n\nBreve descanso para ir al baño y pedir bebidas. \n21:20h – ‘Las apariencias engañan’ \n\nIntérprete: Rafa Rodríguez ‘Pay’\nAutor: Marcos Nogueroles\n\n21:28h – ‘A ti qué más TDAH’ \n\nIntérprete y autor: Karim de la FRAC\n\n21:35h – ‘Aro\, Aro\, el Beiro Bueno’ \n\nIntérprete: José Mauel Beiro\nAutor: Marcos Nogueroles\n\n21:43h – ‘El pagafantas’ \n\nIntérprete y autor: Enrique Goberna\n\nBreve descanso para ir al baño y pedir bebidas. \n22:00h – ‘La verdadera historia de Anthony Ammirati’ \n\nIntérprete: Agustín Barba\nAutor: Hermanos Barba\n\n22:08h – ‘Esto tiene un peluseo’ \n\nIntérprete y autor: Manué ‘Er Melena’\n\n22:15h – ‘El hombre deconstruido’ \n\nIntérprete y autor: Juan Antonio Díaz ‘Er Yoana’\n\n22:23h – ‘Mi primera vez’ \n\nIntérprete y autor: Javi Pérez\n\nBreve descanso para ir al baño y pedir bebidas. \nEvento público de libre acceso. \n 
URL:https://www.carnavaldecadiz.com/event/primer-concurso-de-mini-romanceros/
LOCATION:Sede Asociación de Romanceros ARO\, calle Regimiento de Infantería nº5 Bajo\, Cádiz\, Cádiz\, 11002\, Spain
CATEGORIES:actuaciones de carnaval
END:VEVENT
BEGIN:VEVENT
DTSTART;TZID=Europe/Madrid:20241005T210000
DTEND;TZID=Europe/Madrid:20241005T230000
DTSTAMP:20260420T072632
CREATED:20241001T195420Z
LAST-MODIFIED:20241001T195420Z
UID:13499-1728162000-1728169200@www.carnavaldecadiz.com
SUMMARY:Antología de Paco Catalán en la Peña Nuestra Andalucía
DESCRIPTION:Evento público de libre acceso hasta completar aforo. \nAforo limitado.
URL:https://www.carnavaldecadiz.com/event/antologia-de-paco-catalan-en-la-pena-nuestra-andalucia/
LOCATION:Peña Nuestra Andalucía\, Cádiz\, calle María Arteaga 25\, Cádiz\, Cádiz\, 11002\, España
CATEGORIES:actuaciones de carnaval
END:VEVENT
BEGIN:VEVENT
DTSTART;TZID=Europe/Madrid:20241027T130000
DTEND;TZID=Europe/Madrid:20241027T170000
DTSTAMP:20260420T072632
CREATED:20241023T124750Z
LAST-MODIFIED:20241023T124750Z
UID:14233-1730034000-1730048400@www.carnavaldecadiz.com
SUMMARY:Convivencia Carnavalera en Guillena
DESCRIPTION:La Asoc Cultural Carnavalesca “El Porreteo” y El El Pub de Gabriel tiene el placer de invitarles a la “Convivencia Carnavalera”\,el domingo 27 de octubre a partir de la 1 de tarde en el Pub de Gabriel.\n\nPresentación de el libro “Sevilla en el Falla” de Raùl Delgado Garcia. Con la actuación de la chirigota infantil”Con Plumas en mi Carnaval”\,la presentación oficial de la pregonera del carnaval de Guillena 2025\,tendremos un Almuerzo Tapeo y lo mas importante “Fin De Fiesta Carnavalero”.\n\n\nEvento público de libre acceso
URL:https://www.carnavaldecadiz.com/event/convivencia-carnavalera-en-guillena/
LOCATION:El Pub de Gabriel\, Guillena\, Avenida de Andalucía 52\, Guillena\, Sevilla\, 41210\, Spain
CATEGORIES:actuaciones de carnaval
END:VEVENT
BEGIN:VEVENT
DTSTART;TZID=Europe/Madrid:20241031T200000
DTEND;TZID=Europe/Madrid:20241031T230000
DTSTAMP:20260420T072632
CREATED:20240715T223324Z
LAST-MODIFIED:20240715T223324Z
UID:11848-1730404800-1730415600@www.carnavaldecadiz.com
SUMMARY:III Encuentro Carnaval en Femenino
DESCRIPTION:III ENCUENTRO CARNAVALESCO: CARNAVAL EN FEMENINO. Contamos con invitadas de honor que nos contarán los entresijos del Carnaval visto desde los ojos de la mujer\, dentro y fuera del Gran Teatro Falla y en diferentes modalidades. Nuestras invitadas son Marta y Susana Ginesta\, Milián Oneto\, Alba González\, Koki Sánchez y Laura Rivero.Y en esta ocasión tan especial\, tenemos como moderadora de la tertulia a Paz Santana.La entrada al teatro será libre hasta completar aforo.
URL:https://www.carnavaldecadiz.com/event/iii-encuentro-carnaval-en-femenino/
LOCATION:Teatro Gutierrez de Alba\, calle Nuestra Señora del Águila 49\, Alcalá de Guadaira\, Sevilla\, 41500\, España
CATEGORIES:actuaciones de carnaval,Mucho más que carnaval
END:VEVENT
END:VCALENDAR